BEGIN:VCALENDAR
VERSION:2.0
PRODID:-//Ville de L&#039;Union - ECPv6.15.13//NONSGML v1.0//EN
CALSCALE:GREGORIAN
METHOD:PUBLISH
X-ORIGINAL-URL:https://www.ville-lunion.fr
X-WR-CALDESC:Évènements pour Ville de L&#039;Union
REFRESH-INTERVAL;VALUE=DURATION:PT1H
X-Robots-Tag:noindex
X-PUBLISHED-TTL:PT1H
BEGIN:VTIMEZONE
TZID:Europe/Paris
BEGIN:DAYLIGHT
TZOFFSETFROM:+0100
TZOFFSETTO:+0200
TZNAME:CEST
DTSTART:20180325T010000
END:DAYLIGHT
BEGIN:STANDARD
TZOFFSETFROM:+0200
TZOFFSETTO:+0100
TZNAME:CET
DTSTART:20181028T010000
END:STANDARD
BEGIN:DAYLIGHT
TZOFFSETFROM:+0100
TZOFFSETTO:+0200
TZNAME:CEST
DTSTART:20190331T010000
END:DAYLIGHT
BEGIN:STANDARD
TZOFFSETFROM:+0200
TZOFFSETTO:+0100
TZNAME:CET
DTSTART:20191027T010000
END:STANDARD
BEGIN:DAYLIGHT
TZOFFSETFROM:+0100
TZOFFSETTO:+0200
TZNAME:CEST
DTSTART:20200329T010000
END:DAYLIGHT
BEGIN:STANDARD
TZOFFSETFROM:+0200
TZOFFSETTO:+0100
TZNAME:CET
DTSTART:20201025T010000
END:STANDARD
END:VTIMEZONE
BEGIN:VEVENT
DTSTART;TZID=Europe/Paris:20191111T080000
DTEND;TZID=Europe/Paris:20191130T170000
DTSTAMP:20260422T185115
CREATED:20191105T170058Z
LAST-MODIFIED:20191105T170058Z
UID:39409-1573459200-1575133200@www.ville-lunion.fr
SUMMARY:Exposition photo "Vénitiens Vénitiennes"
DESCRIPTION:présentée par Sylvain CARRON et Union Images
URL:https://www.ville-lunion.fr/evenement/exposition-photo-venitiens-venitiennes/
LOCATION:Le Lumière\, 6 Rue du Pic du Midi\, L'Union\, 31240\, France
CATEGORIES:Associations
ATTACH;FMTTYPE=image/jpeg:https://www.ville-lunion.fr/wp-content/uploads/2019/11/10-11-19.jpg
END:VEVENT
BEGIN:VEVENT
DTSTART;TZID=Europe/Paris:20191120T150000
DTEND;TZID=Europe/Paris:20191120T150000
DTSTAMP:20260422T185115
CREATED:20190917T082246Z
LAST-MODIFIED:20190917T085159Z
UID:39132-1574262000-1574262000@www.ville-lunion.fr
SUMMARY:CONCERT NEW SHUFFLE
DESCRIPTION:Dans le cadre de la semaine « Ville et Handicap » du 12 au 25 Novembre 2019\, le groupe New Shuffle\, avec plus de 4 ans d’existence\, composé de patients d’un hôpital toulousain et d’accompagnateurs à la\nfois chanteurs et musiciens\, nous présentera un spectacle musical Pop-Rock avec un répertoire varié. L’équipe pluridisciplinaire a décidé de transformer un atelier thérapeutique en atelier\nmusical\, ce qui leur permet dorénavant d’assurer des concerts ou encore des festivals.\nDes échanges peuvent avoir lieu à la suite du concert entre le public\, les musiciens et les chanteurs. \nTOUT PUBLIC\nplacement libre\nGRATUIT
URL:https://www.ville-lunion.fr/evenement/concert-new-shuffle/
LOCATION:Salle des fêtes de L’Union\, 6 Avenue des Pyrénées\, L'Union\, 31240\, France
CATEGORIES:Spectacles
ATTACH;FMTTYPE=image/jpeg:https://www.ville-lunion.fr/wp-content/uploads/2019/09/newshuffle.jpg
END:VEVENT
END:VCALENDAR