BEGIN:VCALENDAR
VERSION:2.0
PRODID:-//Ville de L&#039;Union - ECPv6.15.13//NONSGML v1.0//EN
CALSCALE:GREGORIAN
METHOD:PUBLISH
X-WR-CALNAME:Ville de L&#039;Union
X-ORIGINAL-URL:https://www.ville-lunion.fr
X-WR-CALDESC:Évènements pour Ville de L&#039;Union
REFRESH-INTERVAL;VALUE=DURATION:PT1H
X-Robots-Tag:noindex
X-PUBLISHED-TTL:PT1H
BEGIN:VTIMEZONE
TZID:Europe/Paris
BEGIN:DAYLIGHT
TZOFFSETFROM:+0100
TZOFFSETTO:+0200
TZNAME:CEST
DTSTART:20180325T010000
END:DAYLIGHT
BEGIN:STANDARD
TZOFFSETFROM:+0200
TZOFFSETTO:+0100
TZNAME:CET
DTSTART:20181028T010000
END:STANDARD
BEGIN:DAYLIGHT
TZOFFSETFROM:+0100
TZOFFSETTO:+0200
TZNAME:CEST
DTSTART:20190331T010000
END:DAYLIGHT
BEGIN:STANDARD
TZOFFSETFROM:+0200
TZOFFSETTO:+0100
TZNAME:CET
DTSTART:20191027T010000
END:STANDARD
BEGIN:DAYLIGHT
TZOFFSETFROM:+0100
TZOFFSETTO:+0200
TZNAME:CEST
DTSTART:20200329T010000
END:DAYLIGHT
BEGIN:STANDARD
TZOFFSETFROM:+0200
TZOFFSETTO:+0100
TZNAME:CET
DTSTART:20201025T010000
END:STANDARD
END:VTIMEZONE
BEGIN:VEVENT
DTSTART;TZID=Europe/Paris:20191107T183000
DTEND;TZID=Europe/Paris:20191107T203000
DTSTAMP:20260422T184946
CREATED:20191031T164738Z
LAST-MODIFIED:20191031T165231Z
UID:39387-1573151400-1573158600@www.ville-lunion.fr
SUMMARY:ATELIER TAILLE DOUCE ET CONTRAINTES DE L'ARBRE EN VILLE
DESCRIPTION:Arbres et Paysage D’Autan (APA)\, association partenaire de la Mairie qui apporte son expertise dans la gestion et l’entretien du patrimoine vert de la ville\, organise un atelier gratuit à destination des citoyens\, ce jeudi 7 novembre en salle C1 de la Maison des Sports. Rendez-vous à partir de 18h30\, pour profiter d’une petite exposition avant qu’Alexandra Désirée\, membre de l’association\, ne dispense ses précieux conseils pour prendre soin des arbres. A 20h\, elle répondra aux questions que les spectateurs poseront\, avant de partager un vin d’honneur.
URL:https://www.ville-lunion.fr/evenement/atelier-taille-douce-et-contraintes-de-larbre-en-ville/
LOCATION:maison des sports\, rue du Puy de Sancy\, L'Union\, 31240
ATTACH;FMTTYPE=image/jpeg:https://www.ville-lunion.fr/wp-content/uploads/2019/10/IMG_7291-sitew.jpg
END:VEVENT
END:VCALENDAR