BEGIN:VCALENDAR
VERSION:2.0
PRODID:-//Ville de L&#039;Union - ECPv6.15.13//NONSGML v1.0//EN
CALSCALE:GREGORIAN
METHOD:PUBLISH
X-ORIGINAL-URL:https://www.ville-lunion.fr
X-WR-CALDESC:Évènements pour Ville de L&#039;Union
REFRESH-INTERVAL;VALUE=DURATION:PT1H
X-Robots-Tag:noindex
X-PUBLISHED-TTL:PT1H
BEGIN:VTIMEZONE
TZID:Europe/Paris
BEGIN:DAYLIGHT
TZOFFSETFROM:+0100
TZOFFSETTO:+0200
TZNAME:CEST
DTSTART:20180325T010000
END:DAYLIGHT
BEGIN:STANDARD
TZOFFSETFROM:+0200
TZOFFSETTO:+0100
TZNAME:CET
DTSTART:20181028T010000
END:STANDARD
BEGIN:DAYLIGHT
TZOFFSETFROM:+0100
TZOFFSETTO:+0200
TZNAME:CEST
DTSTART:20190331T010000
END:DAYLIGHT
BEGIN:STANDARD
TZOFFSETFROM:+0200
TZOFFSETTO:+0100
TZNAME:CET
DTSTART:20191027T010000
END:STANDARD
BEGIN:DAYLIGHT
TZOFFSETFROM:+0100
TZOFFSETTO:+0200
TZNAME:CEST
DTSTART:20200329T010000
END:DAYLIGHT
BEGIN:STANDARD
TZOFFSETFROM:+0200
TZOFFSETTO:+0100
TZNAME:CET
DTSTART:20201025T010000
END:STANDARD
END:VTIMEZONE
BEGIN:VEVENT
DTSTART;VALUE=DATE:20191011
DTEND;VALUE=DATE:20191104
DTSTAMP:20260422T185116
CREATED:20191001T134001Z
LAST-MODIFIED:20191004T085054Z
UID:39254-1570752000-1572825599@www.ville-lunion.fr
SUMMARY:expo photos « Ce que je suis »
DESCRIPTION:Cette exposition est l’aboutissement d’un projet soutenu et financé par Toulouse Métropole et réalisé par le collectif de vidéastes et\nphotographes « Le petit cowboy».\nDes Unionais volontaires ont été mis en scène et photographiés\, montrant deux facettes de leur personnalité : l’une dans leur quotidien \,\nl’autre dans une mise en scène exprimant leur rêve\, leur désir\, du plus simple au plus fou !\nL’aboutissement de ce travail a déjà été exposé à la Cartoucherie à Toulouse en juin 2019 réunissant également les villes de Brax \, Launaguet et Cugnaux.\nVernissage le 18 octobre à 18h30 au Château.\nVous aurez l’occasion d’échanger avec les membres du collectif « Le petit cow boy» et bien évidemment avec nos « acteurs » Unionais ! \nhttps://www.ville-lunion.fr/wp-content/uploads/2019/10/Ce-que-je-suis-LUnion-converted-with-Clipchamp.mp4
URL:https://www.ville-lunion.fr/evenement/expo-photos-ce-que-je-suis/
LOCATION:Parc de Malpagat\, L'UNION\, 31240
CATEGORIES:Mairie
ATTACH;FMTTYPE=image/jpeg:https://www.ville-lunion.fr/wp-content/uploads/2019/09/ce-que-je-suis.jpg
END:VEVENT
END:VCALENDAR