BEGIN:VCALENDAR
VERSION:2.0
PRODID:-//Ville de L&#039;Union - ECPv6.15.13//NONSGML v1.0//EN
CALSCALE:GREGORIAN
METHOD:PUBLISH
X-ORIGINAL-URL:https://www.ville-lunion.fr
X-WR-CALDESC:Évènements pour Ville de L&#039;Union
REFRESH-INTERVAL;VALUE=DURATION:PT1H
X-Robots-Tag:noindex
X-PUBLISHED-TTL:PT1H
BEGIN:VTIMEZONE
TZID:Europe/Paris
BEGIN:DAYLIGHT
TZOFFSETFROM:+0100
TZOFFSETTO:+0200
TZNAME:CEST
DTSTART:20180325T010000
END:DAYLIGHT
BEGIN:STANDARD
TZOFFSETFROM:+0200
TZOFFSETTO:+0100
TZNAME:CET
DTSTART:20181028T010000
END:STANDARD
BEGIN:DAYLIGHT
TZOFFSETFROM:+0100
TZOFFSETTO:+0200
TZNAME:CEST
DTSTART:20190331T010000
END:DAYLIGHT
BEGIN:STANDARD
TZOFFSETFROM:+0200
TZOFFSETTO:+0100
TZNAME:CET
DTSTART:20191027T010000
END:STANDARD
BEGIN:DAYLIGHT
TZOFFSETFROM:+0100
TZOFFSETTO:+0200
TZNAME:CEST
DTSTART:20200329T010000
END:DAYLIGHT
BEGIN:STANDARD
TZOFFSETFROM:+0200
TZOFFSETTO:+0100
TZNAME:CET
DTSTART:20201025T010000
END:STANDARD
END:VTIMEZONE
BEGIN:VEVENT
DTSTART;VALUE=DATE:20190926
DTEND;VALUE=DATE:20191018
DTSTAMP:20260422T195609
CREATED:20190820T155053Z
LAST-MODIFIED:20190820T155053Z
UID:38997-1569456000-1571356799@www.ville-lunion.fr
SUMMARY:AAPU : exposition
DESCRIPTION:Thème: « les fleurs ». \nVernissage le 26 septembre à 18h30 (entrée libre)
URL:https://www.ville-lunion.fr/evenement/aapu-exposition/
LOCATION:Bibliothèque de L’Union\, 6 Avenue de Toulouse\, 31240
CATEGORIES:Associations
ATTACH;FMTTYPE=image/jpeg:https://www.ville-lunion.fr/wp-content/uploads/2019/08/fleurs.jpg
END:VEVENT
BEGIN:VEVENT
DTSTART;TZID=Europe/Paris:20191006T160000
DTEND;TZID=Europe/Paris:20191006T160000
DTSTAMP:20260422T195609
CREATED:20190605T090328Z
LAST-MODIFIED:20190819T100331Z
UID:38640-1570377600-1570377600@www.ville-lunion.fr
SUMMARY:Concert des Stentors
DESCRIPTION:Le groupe aux 3 voix d’Opéra\, puissantes et envoûtantes !\nAprès plus de 900.000 albums vendus\, récompensés par 6 disques de platine et disques d’or\, Les STENTORS vous livrent ici\, leur tout nouveau spectacle à l’occasion de la sortie de leur 6e album «UN TOUR EN FRANCE».\nHarmonie\, symbiose des voix poussées à leurs extrêmes\, émotion au service des plus grandes chansons du patrimoine français.\nVous retrouverez dans ce spectacle\,\n– leurs plus grands succès sur les régions : Les corons\, Méditerranée…\n– les chansons indémodables et patriotiques : Mon amant de St Jean\, Le chant des partisans\, 7 milliards de gens sur terre\, Ensemble …\n– des chansons d’amour : le premier pas …\n– leurs titres inédits\nUn spectacle tout public de 1h45\nDes Voix d’exception à découvrir d’urgence ! \nTarifs spécial « Unionais » : billet carré d’or (parterre) : 30€  / billet 1ère série (gradins)  25€ – Placement libre \nRéservations : 05 62 89 22 86
URL:https://www.ville-lunion.fr/evenement/concert-des-stentors/
LOCATION:Grande Halle de l’Union\, Rue du Somport\, L'Union\, 31240\, France
CATEGORIES:Spectacles
ATTACH;FMTTYPE=image/jpeg:https://www.ville-lunion.fr/wp-content/uploads/2019/06/les-stentors-un-tour-en-france-web.jpg
END:VEVENT
END:VCALENDAR