BEGIN:VCALENDAR
VERSION:2.0
PRODID:-//Ville de L&#039;Union - ECPv6.15.13//NONSGML v1.0//EN
CALSCALE:GREGORIAN
METHOD:PUBLISH
X-WR-CALNAME:Ville de L&#039;Union
X-ORIGINAL-URL:https://www.ville-lunion.fr
X-WR-CALDESC:Évènements pour Ville de L&#039;Union
REFRESH-INTERVAL;VALUE=DURATION:PT1H
X-Robots-Tag:noindex
X-PUBLISHED-TTL:PT1H
BEGIN:VTIMEZONE
TZID:Europe/Paris
BEGIN:DAYLIGHT
TZOFFSETFROM:+0100
TZOFFSETTO:+0200
TZNAME:CEST
DTSTART:20180325T010000
END:DAYLIGHT
BEGIN:STANDARD
TZOFFSETFROM:+0200
TZOFFSETTO:+0100
TZNAME:CET
DTSTART:20181028T010000
END:STANDARD
BEGIN:DAYLIGHT
TZOFFSETFROM:+0100
TZOFFSETTO:+0200
TZNAME:CEST
DTSTART:20190331T010000
END:DAYLIGHT
BEGIN:STANDARD
TZOFFSETFROM:+0200
TZOFFSETTO:+0100
TZNAME:CET
DTSTART:20191027T010000
END:STANDARD
BEGIN:DAYLIGHT
TZOFFSETFROM:+0100
TZOFFSETTO:+0200
TZNAME:CEST
DTSTART:20200329T010000
END:DAYLIGHT
BEGIN:STANDARD
TZOFFSETFROM:+0200
TZOFFSETTO:+0100
TZNAME:CET
DTSTART:20201025T010000
END:STANDARD
END:VTIMEZONE
BEGIN:VEVENT
DTSTART;VALUE=DATE:20190724
DTEND;VALUE=DATE:20190729
DTSTAMP:20260423T003216
CREATED:20190226T105614Z
LAST-MODIFIED:20190624T150749Z
UID:37916-1563926400-1564358399@www.ville-lunion.fr
SUMMARY:Ori Heitiare Tahiti  : Épreuves Qualificatives du Heiva International
DESCRIPTION:organisée  par Ori Heitiare Tahiti et l’association Polynésienne : Nonahere.\nles deux associations vous proposent de venir assister et participer à une manifestation encore inédite en France : les Épreuves Qualificatives du Heiva International.\nAu programme\, ateliers et conférences gratuites\, masterclass\, concert ou encore spectacle de danse. Sans oublier le concours de ‘ori tahiti et de musique. \nMercredi 24 juillet \n• 9h00 : Masterclass de Matani Kainuku (payant – sur inscription)\n• 11h30 : Atelier de Langue Tahitienne avec Noëlle Faahu-Vaki (*)\n• 14H30 : Atelier de danse\, poésie\, comptines et costumes animé par Matani Kainuku (*)\n• 16H15 : Conférence d’Edgar Tetahiotupa\, sur le film documentaire Tuhei (*)\n• 19H00 : Soirée de lancement des Épreuves Qualificatives du Heiva International. Spectacle des écoles et associations de danse polynésienne. \n(*) gratuit – sur inscription \nJeudi 25 juillet\n• 9h00 : Masterclass de Matani Kainuku (payant – sur inscription)\n• 11h30 : Atelier de Langue Tahitienne avec Noëlle Faahu-Vaki (*)\n• 14H30 : Atelier de danse\, poésie\, comptines et costumes animé par Matani Kainuku (*)En parallèle\, Conférence sur l’art déclamatoire ou « ‘Orero » avec Noëlle Faahu-Vaki (*)\n• 16H15 : Conférence d’Edgar Tetahiotupa\, sur le film documentaire Tuhei (*) \n(*) gratuit – sur inscription \nVendredi 26 juillet\nToute la journée sera consacrée à la préparation des épreuves du concours du lendemain. Vous pourrez alors vous promener sur les lieux pour\njeter un coup d’oeil aux stands et sentir l’adrénaline monter dans le corps et le cœur des artistes.\n• 19h30 : Concert de Nohorai Temaiana\, chanteur et compositeur\, étoile montante de la musique en Polynésie. Réservation\n• 20h30 : Spectacle de la Troupe Nonahere\, venue de Tahiti pour cette occasion. \nSamedi 27 juillet \nConcours inédit en France métropole\, les Épreuves Qualificatives du Heiva International\, dont les phases finales se dérouleront à Tahiti en 2020\, vous promettent du Grand spectacle !\n• 9h00 : Concours Solo Enfants et Ados le matin\n• 14h00 : Concours Solo Otea\, Aparima\, Musicien\, Concours mehura\n• 19h00 : Concours Catégorie Groupe et\, cerise sur le gâteau\, Nohorai Temaiana donnera un petit concert le temps de la délibération du jury et l’annonce des résultats. \nRéservation \nPour en savoir plus\, connectez-vous sur le site www.oriheitiaretahiti.fr/evenements
URL:https://www.ville-lunion.fr/evenement/37916/
LOCATION:Grande Halle de l’Union\, Rue du Somport\, L'Union\, 31240\, France
CATEGORIES:Associations
ATTACH;FMTTYPE=image/jpeg:https://www.ville-lunion.fr/wp-content/uploads/2019/02/Capture.jpg
END:VEVENT
END:VCALENDAR