BEGIN:VCALENDAR
VERSION:2.0
PRODID:-//Ville de L&#039;Union - ECPv6.15.13//NONSGML v1.0//EN
CALSCALE:GREGORIAN
METHOD:PUBLISH
X-ORIGINAL-URL:https://www.ville-lunion.fr
X-WR-CALDESC:Évènements pour Ville de L&#039;Union
REFRESH-INTERVAL;VALUE=DURATION:PT1H
X-Robots-Tag:noindex
X-PUBLISHED-TTL:PT1H
BEGIN:VTIMEZONE
TZID:Europe/Paris
BEGIN:DAYLIGHT
TZOFFSETFROM:+0100
TZOFFSETTO:+0200
TZNAME:CEST
DTSTART:20180325T010000
END:DAYLIGHT
BEGIN:STANDARD
TZOFFSETFROM:+0200
TZOFFSETTO:+0100
TZNAME:CET
DTSTART:20181028T010000
END:STANDARD
BEGIN:DAYLIGHT
TZOFFSETFROM:+0100
TZOFFSETTO:+0200
TZNAME:CEST
DTSTART:20190331T010000
END:DAYLIGHT
BEGIN:STANDARD
TZOFFSETFROM:+0200
TZOFFSETTO:+0100
TZNAME:CET
DTSTART:20191027T010000
END:STANDARD
BEGIN:DAYLIGHT
TZOFFSETFROM:+0100
TZOFFSETTO:+0200
TZNAME:CEST
DTSTART:20200329T010000
END:DAYLIGHT
BEGIN:STANDARD
TZOFFSETFROM:+0200
TZOFFSETTO:+0100
TZNAME:CET
DTSTART:20201025T010000
END:STANDARD
END:VTIMEZONE
BEGIN:VEVENT
DTSTART;VALUE=DATE:20190719
DTEND;VALUE=DATE:20190722
DTSTAMP:20260423T003241
CREATED:20190226T104644Z
LAST-MODIFIED:20190624T134924Z
UID:37911-1563494400-1563753599@www.ville-lunion.fr
SUMMARY:Festival Fenua No Te Heiva 2019  - L’Union\, Terre des Festivités Polynésiennes
DESCRIPTION:proposé par l’association unionaise Ori Heitiare Tahiti \nVenez découvrir la Polynésie Française sous toutes ses coutures : ateliers d’échanges\, activités et jeux traditionnels\, gastronomie\, artisanat\, et beaucoup d’autres… Sans oublier la musique et la danse Polynésienne au travers d’un spectacle de la troupe Ori Heitiare Tahiti. \nProgramme \nUne soirée d’ouverture spectaculaire\, le vendredi 19 juillet\nLes festivités commenceront à 19h30\, avec une cérémonie d’ouverture traditionnelle\, suivie d’une visite du site et des stands polynésiens\, qui seront présents tout au long de nos festivités. \nLa soirée continuera avec : \n\ncocktail dînatoire aux saveurs de la Polynésie\,\nun concert – avec nos amis Tea Enfant Du Pacifique\, Rose Wilson and Jeid SAD Feel Good Now et Henua de Tahia\nune course aux flambeaux avec démonstration de danse du feu.\n\nVous avez déjà chaud ? Et bien ce n’est que le début ! \nsamedi 20  juillet : en famille\nLe samedi sera sous le signe de l’amusement\, avec des activités* pour toute la famille. (*inscription sur place – animations gratuites – repas payants) \nParents\, enfants\, femmes\, hommes\, seul ou en famille… il y en aura pour tous les goûts ! \n• 9h00 : Prière d’Ouverture\n• 9h15 : Tournoi de Pétanque\n• 11h00 : Atelier Débat de la Polynésie Française\n• 11h45 : Ouverture du Four Polynésien pour déguster le fameux « Ma’a Tahiti » (repas tahitien) autour d’une animation musicale (réservation).\n• 13h00 : « Heiva des Écoles »\, un concours de danse réservé aux écoles de danse polynésienne\n• 16h30 : Tamure Marathon\n• 18h30 : Concours de Lever de Pierre\n• 20h00 : Dîner Polynésien (réservation)\n• 20h30 : Haka Marquisien\n• 21h00 : Spectacle de la Troupe Unionaise\, Ori Heitiare Tahiti\n• 22h00 : Remise des Prix\n• 23h30 : Soirée Dansante pour se dégourdir…jusqu’à 2h \nDimanche 21 juillet : détente !\n• 8h30 : Brunch Polynésien\n• 10h30 : Cérémonie oecuménique\n• 12h30 : Barbecue Party\n• 13h00 : Bringue Polynésienne jusqu’à 18h00.  \nLa bringue polynésienne est un moment convivial dans lequel tout le monde peut jouer\, danser\, se rencontrer. Un vrai moment de partage ! \nPour en savoir plus\, connectez-vous sur le site www.oriheitiaretahiti.fr/evenements
URL:https://www.ville-lunion.fr/evenement/festival-fenua-no-te-heiva-2019-lunion-terre-des-festivites-polynesiennes/
LOCATION:Halle St Caprais\, Route de Bayonne\, L'Union\, 31240
CATEGORIES:Associations
ATTACH;FMTTYPE=image/jpeg:https://www.ville-lunion.fr/wp-content/uploads/2019/02/ori.jpg
END:VEVENT
END:VCALENDAR