BEGIN:VCALENDAR
VERSION:2.0
PRODID:-//Ville de L&#039;Union - ECPv6.15.13//NONSGML v1.0//EN
CALSCALE:GREGORIAN
METHOD:PUBLISH
X-ORIGINAL-URL:https://www.ville-lunion.fr
X-WR-CALDESC:Évènements pour Ville de L&#039;Union
REFRESH-INTERVAL;VALUE=DURATION:PT1H
X-Robots-Tag:noindex
X-PUBLISHED-TTL:PT1H
BEGIN:VTIMEZONE
TZID:Europe/Paris
BEGIN:DAYLIGHT
TZOFFSETFROM:+0100
TZOFFSETTO:+0200
TZNAME:CEST
DTSTART:20180325T010000
END:DAYLIGHT
BEGIN:STANDARD
TZOFFSETFROM:+0200
TZOFFSETTO:+0100
TZNAME:CET
DTSTART:20181028T010000
END:STANDARD
BEGIN:DAYLIGHT
TZOFFSETFROM:+0100
TZOFFSETTO:+0200
TZNAME:CEST
DTSTART:20190331T010000
END:DAYLIGHT
BEGIN:STANDARD
TZOFFSETFROM:+0200
TZOFFSETTO:+0100
TZNAME:CET
DTSTART:20191027T010000
END:STANDARD
BEGIN:DAYLIGHT
TZOFFSETFROM:+0100
TZOFFSETTO:+0200
TZNAME:CEST
DTSTART:20200329T010000
END:DAYLIGHT
BEGIN:STANDARD
TZOFFSETFROM:+0200
TZOFFSETTO:+0100
TZNAME:CET
DTSTART:20201025T010000
END:STANDARD
END:VTIMEZONE
BEGIN:VEVENT
DTSTART;VALUE=DATE:20190710
DTEND;VALUE=DATE:20190712
DTSTAMP:20260423T003346
CREATED:20190624T132017Z
LAST-MODIFIED:20190624T132230Z
UID:38726-1562716800-1562889599@www.ville-lunion.fr
SUMMARY:PARTIR EN LIVRE
DESCRIPTION:MERCREDI 10 JUILLET – POUR LES ENFANTS INSCRITS AU CENTRE DE LOISIRS \nIMAGINAIRES LUNAIRES\, ANIMATIONS SCIENTIFIQUES & BD \nPar la Cité de l’espace et l’auteur BD Léo Louis-Honoré \n  \nJEUDI 11 JUILLET – POUR LES ENFANTS INSCRITS AU CENTRE DE LOISIRS \nLECTURES D’ALBUMS DE JEUNESSE \nanimées par Aurélie et Laure de la Bibliothèque – Avec la participation de la librairie Les Passantes de L’Union \nProgramme complet \n 
URL:https://www.ville-lunion.fr/evenement/partir-en-livre-4/
CATEGORIES:Manifestations
ATTACH;FMTTYPE=image/jpeg:https://www.ville-lunion.fr/wp-content/uploads/2019/06/partir-2019.jpg
END:VEVENT
END:VCALENDAR