BEGIN:VCALENDAR
VERSION:2.0
PRODID:-//Ville de L&#039;Union - ECPv6.15.13//NONSGML v1.0//EN
CALSCALE:GREGORIAN
METHOD:PUBLISH
X-WR-CALNAME:Ville de L&#039;Union
X-ORIGINAL-URL:https://www.ville-lunion.fr
X-WR-CALDESC:Évènements pour Ville de L&#039;Union
REFRESH-INTERVAL;VALUE=DURATION:PT1H
X-Robots-Tag:noindex
X-PUBLISHED-TTL:PT1H
BEGIN:VTIMEZONE
TZID:Europe/Paris
BEGIN:DAYLIGHT
TZOFFSETFROM:+0100
TZOFFSETTO:+0200
TZNAME:CEST
DTSTART:20180325T010000
END:DAYLIGHT
BEGIN:STANDARD
TZOFFSETFROM:+0200
TZOFFSETTO:+0100
TZNAME:CET
DTSTART:20181028T010000
END:STANDARD
BEGIN:DAYLIGHT
TZOFFSETFROM:+0100
TZOFFSETTO:+0200
TZNAME:CEST
DTSTART:20190331T010000
END:DAYLIGHT
BEGIN:STANDARD
TZOFFSETFROM:+0200
TZOFFSETTO:+0100
TZNAME:CET
DTSTART:20191027T010000
END:STANDARD
BEGIN:DAYLIGHT
TZOFFSETFROM:+0100
TZOFFSETTO:+0200
TZNAME:CEST
DTSTART:20200329T010000
END:DAYLIGHT
BEGIN:STANDARD
TZOFFSETFROM:+0200
TZOFFSETTO:+0100
TZNAME:CET
DTSTART:20201025T010000
END:STANDARD
END:VTIMEZONE
BEGIN:VEVENT
DTSTART;TZID=Europe/Paris:20190702T090000
DTEND;TZID=Europe/Paris:20190702T120000
DTSTAMP:20260423T003154
CREATED:20190528T150501Z
LAST-MODIFIED:20190528T150501Z
UID:38588-1562058000-1562068800@www.ville-lunion.fr
SUMMARY:Matinée sur la création d'entreprise
DESCRIPTION:Zoom sur entreprendre en économie sociale et solidaire. \nVous souhaitez entreprendre mais vous ne savez pas comment vous y prendre\, par où commencer\, les étapes à respecter\, etc. La ville de l’Union vous invite à venir échanger\navec des spécialistes de la création d’entreprises afin de répondre à vos questions et vous aider à sauter le pas\ninscriptions : emploi@mairie-lunion.fr ou par tél au 05 62 79 86 15
URL:https://www.ville-lunion.fr/evenement/matinee-sur-la-creation-dentreprise/
LOCATION:Salle des fêtes de L’Union\, 6 Avenue des Pyrénées\, L'Union\, 31240\, France
CATEGORIES:Mairie
ATTACH;FMTTYPE=image/jpeg:https://www.ville-lunion.fr/wp-content/uploads/2019/05/creation-dentreprise.jpg
END:VEVENT
END:VCALENDAR