BEGIN:VCALENDAR
VERSION:2.0
PRODID:-//Ville de L&#039;Union - ECPv6.15.13//NONSGML v1.0//EN
CALSCALE:GREGORIAN
METHOD:PUBLISH
X-WR-CALNAME:Ville de L&#039;Union
X-ORIGINAL-URL:https://www.ville-lunion.fr
X-WR-CALDESC:Évènements pour Ville de L&#039;Union
REFRESH-INTERVAL;VALUE=DURATION:PT1H
X-Robots-Tag:noindex
X-PUBLISHED-TTL:PT1H
BEGIN:VTIMEZONE
TZID:Europe/Paris
BEGIN:DAYLIGHT
TZOFFSETFROM:+0100
TZOFFSETTO:+0200
TZNAME:CEST
DTSTART:20180325T010000
END:DAYLIGHT
BEGIN:STANDARD
TZOFFSETFROM:+0200
TZOFFSETTO:+0100
TZNAME:CET
DTSTART:20181028T010000
END:STANDARD
BEGIN:DAYLIGHT
TZOFFSETFROM:+0100
TZOFFSETTO:+0200
TZNAME:CEST
DTSTART:20190331T010000
END:DAYLIGHT
BEGIN:STANDARD
TZOFFSETFROM:+0200
TZOFFSETTO:+0100
TZNAME:CET
DTSTART:20191027T010000
END:STANDARD
BEGIN:DAYLIGHT
TZOFFSETFROM:+0100
TZOFFSETTO:+0200
TZNAME:CEST
DTSTART:20200329T010000
END:DAYLIGHT
BEGIN:STANDARD
TZOFFSETFROM:+0200
TZOFFSETTO:+0100
TZNAME:CET
DTSTART:20201025T010000
END:STANDARD
END:VTIMEZONE
BEGIN:VEVENT
DTSTART;TZID=Europe/Paris:20190701T180000
DTEND;TZID=Europe/Paris:20190701T180000
DTSTAMP:20260423T003219
CREATED:20190527T132112Z
LAST-MODIFIED:20190527T132112Z
UID:38561-1562004000-1562004000@www.ville-lunion.fr
SUMMARY:Le Cinéma Le Lumière accueille  les globe-trotteurs du centre Jean Lagarde
DESCRIPTION:Les élèves du centre Jean Lagarde* organisent\, le lundi 1er juillet 2019 à 18 h\, au cinéma Le Lumière à L’Union\, une exposition des photographies de leur voyage à New York. \nLes 6 élèves de l’établissement d’enseignement spécialisé ont réalisé l’exploit d’autofinancer leur voyage par la création et la vente d’objets (bijoux\, décorations d’intérieur\, jeux en bois…) et d’organiser de bout en bout la préparation de ce beau projet. \nAccompagnés par les éducateurs de jour du centre Jean Lagarde\, les jeunes en situation de handicap du collège et du lycée ont réalisé leurs rêves et se sont envolés pour les USA\, au cœur de la grande pomme. \nBien au-delà des orientations éducatives\, ce sont l’autonomie et la responsabilisation que Jade\, Maëlla\, Léa\, Marjorie\, Emma et Samuel ont découvert tout au long de cette semaine américaine. \n  \nIls seront heureux de vous accueillir pour vous présenter leur exposition photos et un court métrage de leurs aventures autour d’un cocktail « made in USA ». \n  \n*Le centre Jean Lagarde est un centre spécialisé d’enseignement secondaire\, établissement médico-social qui accueille des élèves en situation de handicap\, de la 6° au BTS. Situé à Ramonville Saint-Agne\, dans la Cité de l’Autonomie et de l’Insertion\, le centre Jean Lagarde dépend de l’ASEI et agit pour l’inclusion des personnes accompagnées en proposant une scolarité adaptée. \n 
URL:https://www.ville-lunion.fr/evenement/le-cinema-le-lumiere-accueille-les-globe-trotteurs-du-centre-jean-lagarde/
LOCATION:Le Lumière\, 6 Rue du Pic du Midi\, L'Union\, 31240\, France
CATEGORIES:Cinéma
ATTACH;FMTTYPE=image/jpeg:https://www.ville-lunion.fr/wp-content/uploads/2019/05/jean-lagarde.jpg
END:VEVENT
END:VCALENDAR