BEGIN:VCALENDAR
VERSION:2.0
PRODID:-//Ville de L&#039;Union - ECPv6.15.13//NONSGML v1.0//EN
CALSCALE:GREGORIAN
METHOD:PUBLISH
X-ORIGINAL-URL:https://www.ville-lunion.fr
X-WR-CALDESC:Évènements pour Ville de L&#039;Union
REFRESH-INTERVAL;VALUE=DURATION:PT1H
X-Robots-Tag:noindex
X-PUBLISHED-TTL:PT1H
BEGIN:VTIMEZONE
TZID:Europe/Paris
BEGIN:DAYLIGHT
TZOFFSETFROM:+0100
TZOFFSETTO:+0200
TZNAME:CEST
DTSTART:20180325T010000
END:DAYLIGHT
BEGIN:STANDARD
TZOFFSETFROM:+0200
TZOFFSETTO:+0100
TZNAME:CET
DTSTART:20181028T010000
END:STANDARD
BEGIN:DAYLIGHT
TZOFFSETFROM:+0100
TZOFFSETTO:+0200
TZNAME:CEST
DTSTART:20190331T010000
END:DAYLIGHT
BEGIN:STANDARD
TZOFFSETFROM:+0200
TZOFFSETTO:+0100
TZNAME:CET
DTSTART:20191027T010000
END:STANDARD
BEGIN:DAYLIGHT
TZOFFSETFROM:+0100
TZOFFSETTO:+0200
TZNAME:CEST
DTSTART:20200329T010000
END:DAYLIGHT
BEGIN:STANDARD
TZOFFSETFROM:+0200
TZOFFSETTO:+0100
TZNAME:CET
DTSTART:20201025T010000
END:STANDARD
END:VTIMEZONE
BEGIN:VEVENT
DTSTART;VALUE=DATE:20190630
DTEND;VALUE=DATE:20190701
DTSTAMP:20260423T020138
CREATED:20190507T130936Z
LAST-MODIFIED:20190515T064528Z
UID:38381-1561852800-1561939199@www.ville-lunion.fr
SUMMARY:journée navigation de l’AMU
DESCRIPTION:Venez découvrir le modélisme naval dimanche 30 juin au lac Saint Caprais : l’Amicale Maquettiste organise une exposition et des démonstrations en navigation de maquettes de bateaux avec la participation d’autres clubs et maquettistes de la région. Entrée gratuite
URL:https://www.ville-lunion.fr/evenement/journee-navigation-de-lamu/
LOCATION:lac de St Caprais\, 79 Avenue de Bayonne\, L'UNION\, 31240\, France
CATEGORIES:Associations
ATTACH;FMTTYPE=image/jpeg:https://www.ville-lunion.fr/wp-content/uploads/2019/05/amu-30-06-19.jpg
END:VEVENT
BEGIN:VEVENT
DTSTART;TZID=Europe/Paris:20190630T103000
DTEND;TZID=Europe/Paris:20190630T103000
DTSTAMP:20260423T020138
CREATED:20190603T130625Z
LAST-MODIFIED:20190603T142524Z
UID:38612-1561890600-1561890600@www.ville-lunion.fr
SUMMARY:MARATHON DES MOTS - Rencontre avec Carole Fives
DESCRIPTION:Carole Fives a étudié la philosophie à Toulouse\, puis les beaux-arts à Paris. Après Quand nous serons heureux\, un recueil de nouvelles remarqué\, elle publie en 2012 son premier roman Que nos vies aient l’air d’un film parfait (Le Passage) dans lequel elle évoque avec justesse le sujet délicat du divorce et de la fratrie désunie. En 2013\, Carole Fives obtient une résidence aux États- Unis\, où elle achève l’écriture de son second roman C’est dimanche et je n’y suis pour rien\, publié dans la collection L’arbalète (Gallimard). Fine portraitiste de la famille contemporaine\, elle publie Une femme au téléphone\, puis Tenir jusqu’à l’aube en 2018. \nPetit déjeuner offert dès 10h00. \nCRÉDITS PHOTOS\nCarole Fives © Francesca Mantovani \nET AUSSI \nMardi 25 juin 19h30 – Médiathèque les Granges | Saint-Jean – Lecture de Into the wild de Jon Krakauer par Mathurin VOLTZ \nJeudi 27 juin à 20h30 | Château de Launaguet – Corinne Mariotto lit Le monde selon Garp de John Irving (Le Seuil) (Feuilleton littéraire 3/3) \nSamedi 29 juin  à 15h– Château Malpagat | L’Union – Rencontre avec Gilles Leroy  pour son ouvrage Le diable emporte le fils rebelle\, Mercure de France (Prix Goncourt 2007 pour Alabama song) \nhttps://www.lemarathondesmots.com/programme/ \n 
URL:https://www.ville-lunion.fr/evenement/rencontre-avec-carole-fives/
LOCATION:Librairie les Passantes\, 43 Avenue de Toulouse\, L'UNION\, 31240
CATEGORIES:Manifestations
ATTACH;FMTTYPE=image/jpeg:https://www.ville-lunion.fr/wp-content/uploads/2019/05/marathon-2019.jpg
END:VEVENT
END:VCALENDAR