BEGIN:VCALENDAR
VERSION:2.0
PRODID:-//Ville de L&#039;Union - ECPv6.15.13//NONSGML v1.0//EN
CALSCALE:GREGORIAN
METHOD:PUBLISH
X-WR-CALNAME:Ville de L&#039;Union
X-ORIGINAL-URL:https://www.ville-lunion.fr
X-WR-CALDESC:Évènements pour Ville de L&#039;Union
REFRESH-INTERVAL;VALUE=DURATION:PT1H
X-Robots-Tag:noindex
X-PUBLISHED-TTL:PT1H
BEGIN:VTIMEZONE
TZID:Europe/Paris
BEGIN:DAYLIGHT
TZOFFSETFROM:+0100
TZOFFSETTO:+0200
TZNAME:CEST
DTSTART:20180325T010000
END:DAYLIGHT
BEGIN:STANDARD
TZOFFSETFROM:+0200
TZOFFSETTO:+0100
TZNAME:CET
DTSTART:20181028T010000
END:STANDARD
BEGIN:DAYLIGHT
TZOFFSETFROM:+0100
TZOFFSETTO:+0200
TZNAME:CEST
DTSTART:20190331T010000
END:DAYLIGHT
BEGIN:STANDARD
TZOFFSETFROM:+0200
TZOFFSETTO:+0100
TZNAME:CET
DTSTART:20191027T010000
END:STANDARD
BEGIN:DAYLIGHT
TZOFFSETFROM:+0100
TZOFFSETTO:+0200
TZNAME:CEST
DTSTART:20200329T010000
END:DAYLIGHT
BEGIN:STANDARD
TZOFFSETFROM:+0200
TZOFFSETTO:+0100
TZNAME:CET
DTSTART:20201025T010000
END:STANDARD
END:VTIMEZONE
BEGIN:VEVENT
DTSTART;VALUE=DATE:20190629
DTEND;VALUE=DATE:20190630
DTSTAMP:20260423T020019
CREATED:20190507T130813Z
LAST-MODIFIED:20190507T130813Z
UID:38378-1561766400-1561852799@www.ville-lunion.fr
SUMMARY:gala de GR Danse
DESCRIPTION:
URL:https://www.ville-lunion.fr/evenement/gala-de-gr-danse/
CATEGORIES:Associations
ATTACH;FMTTYPE=image/jpeg:https://www.ville-lunion.fr/wp-content/uploads/2019/05/gr-danse2.jpg
END:VEVENT
BEGIN:VEVENT
DTSTART;TZID=Europe/Paris:20190629T150000
DTEND;TZID=Europe/Paris:20190629T150000
DTSTAMP:20260423T020019
CREATED:20190507T130415Z
LAST-MODIFIED:20190604T091534Z
UID:38374-1561820400-1561820400@www.ville-lunion.fr
SUMMARY:MARATHON DES MOTS - à L'Union
DESCRIPTION:Rencontre avec Gilles Leroy  pour son ouvrage Le diable emporte le fils rebelle\, Mercure de France. \nAnimé par la librairie les Passantes & Aurélie de la Bibliothèque de L’Union \nNé en 1958 à Bagneux\, Gilles Leroy intègre après un baccalauréat en sciences expérimentales l’hypokhâgne et la khâgne du lycée Lakanal à Sceaux. Il obtient un DEUG de lettres et arts en 1977\, une licence puis une maîtrise de lettres modernes en 1979 pour un mémoire consacré à Henri Michaux. Sans goût pour l’université\, il abandonne le cursus\, voyage et étudie seul les littératures américaine et japonaise qui l’impressionnent. Gilles Leroy publie son premier roman\, Habibi\, en 1987\, qui sera suivi d’une dizaine d’autres\, dont notamment L’Amant russe (2002)\, Grandir (2004) et Champ secret (2005). En 2007\, Gilles Leroy reçoit le prix Goncourt pour son douzième roman\, Alabama Song\, qui connaîtra un grand succès en France et à l’étranger. Suivront Zola Jackson (2010\, prix Été du Livre)\, Dormir avec ceux qu’on aime (2012)\, Nina Simone roman (2013\, prix Livres & Musiques de la ville de Deauville)\, Le Monde selon Billy Boy (2015\, prix Marcel Pagnol) et Dans les westerns(2017). Il est aussi l’auteur d’un essai autobiographique\, Le Château solitude (Grasset\, 2016). \nLe diable emporte le fils rebelle (Mercure de France) \nLorraine\, son mari et leurs quatre fils vivent sur une ancienne friche d’une ville du Wisconsin. La jeune mère se tue à la tâche et n’a\, pour tenir\, que Dieu et les cachets. Elle doit aussi affronter sa bête noire\, Adam\, le fils aîné réfractaire. L’adolescent sort à peine de détention qu’une rumeur s’en prend à sa sexualité. Lorraine n’a plus qu’une obsession : sauver le reste de sa famille. \nCRÉDITS PHOTOS\nGilles Leroy @ Stéphane Haskell \n+ d’infos \nMardi 25 juin 19h30 – Médiathèque les Granges | Saint-Jean – Lecture de Into the wild de Jon Krakauer par Mathurin VOLTZ \nJeudi 27 juin à 20h30 | Château de Launaguet – Corinne Mariotto lit Le monde selon Garp de John Irving (Le Seuil) (Feuilleton littéraire 3/3) \nDimanche 30 juin à 10h30 – librairie les Passantes | Rencontre avec Carole Fives \nhttps://www.lemarathondesmots.com/programme/
URL:https://www.ville-lunion.fr/evenement/marathon-des-mots/
LOCATION:chateau de Malpagat\, Allée Ronceveaux\, L'UNION\, 31240
CATEGORIES:Mairie
ATTACH;FMTTYPE=image/jpeg:https://www.ville-lunion.fr/wp-content/uploads/2019/05/marathon-2019.jpg
END:VEVENT
END:VCALENDAR