BEGIN:VCALENDAR
VERSION:2.0
PRODID:-//Ville de L&#039;Union - ECPv6.15.13//NONSGML v1.0//EN
CALSCALE:GREGORIAN
METHOD:PUBLISH
X-ORIGINAL-URL:https://www.ville-lunion.fr
X-WR-CALDESC:Évènements pour Ville de L&#039;Union
REFRESH-INTERVAL;VALUE=DURATION:PT1H
X-Robots-Tag:noindex
X-PUBLISHED-TTL:PT1H
BEGIN:VTIMEZONE
TZID:Europe/Paris
BEGIN:DAYLIGHT
TZOFFSETFROM:+0100
TZOFFSETTO:+0200
TZNAME:CEST
DTSTART:20180325T010000
END:DAYLIGHT
BEGIN:STANDARD
TZOFFSETFROM:+0200
TZOFFSETTO:+0100
TZNAME:CET
DTSTART:20181028T010000
END:STANDARD
BEGIN:DAYLIGHT
TZOFFSETFROM:+0100
TZOFFSETTO:+0200
TZNAME:CEST
DTSTART:20190331T010000
END:DAYLIGHT
BEGIN:STANDARD
TZOFFSETFROM:+0200
TZOFFSETTO:+0100
TZNAME:CET
DTSTART:20191027T010000
END:STANDARD
BEGIN:DAYLIGHT
TZOFFSETFROM:+0100
TZOFFSETTO:+0200
TZNAME:CEST
DTSTART:20200329T010000
END:DAYLIGHT
BEGIN:STANDARD
TZOFFSETFROM:+0200
TZOFFSETTO:+0100
TZNAME:CET
DTSTART:20201025T010000
END:STANDARD
END:VTIMEZONE
BEGIN:VEVENT
DTSTART;TZID=Europe/Paris:20190617T200000
DTEND;TZID=Europe/Paris:20190617T200000
DTSTAMP:20260423T020117
CREATED:20190528T150029Z
LAST-MODIFIED:20190528T150029Z
UID:38585-1560801600-1560801600@www.ville-lunion.fr
SUMMARY:Conférence-débat « Comment financer une transition écologique à la hauteur des enjeux climatiques » ?
DESCRIPTION:Par : H Cellard\, référent 31 de l’association « Agir pour le Climat ». Le climatologue Jean Jouzel (vice-président du GIEC jusqu’en 2015) et l’économiste Pierre Larrouturou sont les fondateurs de l’association « Agir pour le Climat » dont le but est la promotion d’une solution européenne pour financer la transition écologique\, le Pacte Finance-Climat.\nLes scientifiques nous ont prévenus de l’urgence climatique et de la nécessité de mettre en oeuvre rapidement un modèle de développement soutenable. Financer la transition vers ce modèle est un chantier colossal. Jean Jouzel et Pierre Larrouturou proposent une solution européenne et transpartisane pour financer cette transition à la hauteur des enjeux «1000 milliards pour le climat » et ont obtenu déjà le soutien de plus de 600 personnalités politiques\, décideurs et ONG en France et à l’étranger. Une de leurs propositions est la création d’une « Banque du Climat et de la Biodiversité » qui a été incluse dans le programme de plusieurs des listes aux élections européennes.
URL:https://www.ville-lunion.fr/evenement/conference-debat-comment-financer-une-transition-ecologique-a-la-hauteur-des-enjeux-climatiques/
LOCATION:Salle C1 Maison des sports\, rue du Puy de Sancy \, L'UNION\, 31240
CATEGORIES:Manifestations
ATTACH;FMTTYPE=image/jpeg:https://www.ville-lunion.fr/wp-content/uploads/2019/05/pacte-finances-climat.jpg
END:VEVENT
END:VCALENDAR