BEGIN:VCALENDAR
VERSION:2.0
PRODID:-//Ville de L&#039;Union - ECPv6.15.13//NONSGML v1.0//EN
CALSCALE:GREGORIAN
METHOD:PUBLISH
X-ORIGINAL-URL:https://www.ville-lunion.fr
X-WR-CALDESC:Évènements pour Ville de L&#039;Union
REFRESH-INTERVAL;VALUE=DURATION:PT1H
X-Robots-Tag:noindex
X-PUBLISHED-TTL:PT1H
BEGIN:VTIMEZONE
TZID:Europe/Paris
BEGIN:DAYLIGHT
TZOFFSETFROM:+0100
TZOFFSETTO:+0200
TZNAME:CEST
DTSTART:20180325T010000
END:DAYLIGHT
BEGIN:STANDARD
TZOFFSETFROM:+0200
TZOFFSETTO:+0100
TZNAME:CET
DTSTART:20181028T010000
END:STANDARD
BEGIN:DAYLIGHT
TZOFFSETFROM:+0100
TZOFFSETTO:+0200
TZNAME:CEST
DTSTART:20190331T010000
END:DAYLIGHT
BEGIN:STANDARD
TZOFFSETFROM:+0200
TZOFFSETTO:+0100
TZNAME:CET
DTSTART:20191027T010000
END:STANDARD
BEGIN:DAYLIGHT
TZOFFSETFROM:+0100
TZOFFSETTO:+0200
TZNAME:CEST
DTSTART:20200329T010000
END:DAYLIGHT
BEGIN:STANDARD
TZOFFSETFROM:+0200
TZOFFSETTO:+0100
TZNAME:CET
DTSTART:20201025T010000
END:STANDARD
END:VTIMEZONE
BEGIN:VEVENT
DTSTART;VALUE=DATE:20190511
DTEND;VALUE=DATE:20190520
DTSTAMP:20260423T032450
CREATED:20190401T084016Z
LAST-MODIFIED:20190401T084016Z
UID:38182-1557532800-1558310399@www.ville-lunion.fr
SUMMARY:37ème Salon de Printemps AAPU
DESCRIPTION:Vernissage musical\, samedi 11 Mai à 18h30\, Entrée Libre
URL:https://www.ville-lunion.fr/evenement/37eme-salon-de-printemps-aapu/
LOCATION:Grande Halle de l’Union\, Rue du Somport\, L'Union\, 31240\, France
CATEGORIES:Associations
ATTACH;FMTTYPE=image/jpeg:https://www.ville-lunion.fr/wp-content/uploads/2018/11/aapu.jpg
END:VEVENT
BEGIN:VEVENT
DTSTART;VALUE=DATE:20190512
DTEND;VALUE=DATE:20190513
DTSTAMP:20260423T032450
CREATED:20190506T100941Z
LAST-MODIFIED:20190506T135249Z
UID:38328-1557619200-1557705599@www.ville-lunion.fr
SUMMARY:Opération « J’aime mon marché »
DESCRIPTION:Tombola des produits du marché\, dégustations de produits et animation musicale assurée par le groupe unionais Pim Pam Poum.\nVenez nombreux participer à cet événement fédérateur visant à mettre encore plus en lumière le marché de plein vent \, lieu commercial mais également lieu de vie\, de rencontres\, d’échanges et vecteur de dynamisme pour notre ville.\nAvec l’aide de L’Union Festivités
URL:https://www.ville-lunion.fr/evenement/participation-de-la-commune-de-lunion-a-loperation-jaime-mon-marche/
LOCATION:Place San Biagio\, place San Biagio\, L'UNION\, 31240\, France
CATEGORIES:Mairie
ATTACH;FMTTYPE=image/jpeg:https://www.ville-lunion.fr/wp-content/uploads/2016/12/marche.jpg
END:VEVENT
END:VCALENDAR