BEGIN:VCALENDAR
VERSION:2.0
PRODID:-//Ville de L&#039;Union - ECPv6.15.13//NONSGML v1.0//EN
CALSCALE:GREGORIAN
METHOD:PUBLISH
X-WR-CALNAME:Ville de L&#039;Union
X-ORIGINAL-URL:https://www.ville-lunion.fr
X-WR-CALDESC:Évènements pour Ville de L&#039;Union
REFRESH-INTERVAL;VALUE=DURATION:PT1H
X-Robots-Tag:noindex
X-PUBLISHED-TTL:PT1H
BEGIN:VTIMEZONE
TZID:Europe/Paris
BEGIN:DAYLIGHT
TZOFFSETFROM:+0100
TZOFFSETTO:+0200
TZNAME:CEST
DTSTART:20180325T010000
END:DAYLIGHT
BEGIN:STANDARD
TZOFFSETFROM:+0200
TZOFFSETTO:+0100
TZNAME:CET
DTSTART:20181028T010000
END:STANDARD
BEGIN:DAYLIGHT
TZOFFSETFROM:+0100
TZOFFSETTO:+0200
TZNAME:CEST
DTSTART:20190331T010000
END:DAYLIGHT
BEGIN:STANDARD
TZOFFSETFROM:+0200
TZOFFSETTO:+0100
TZNAME:CET
DTSTART:20191027T010000
END:STANDARD
BEGIN:DAYLIGHT
TZOFFSETFROM:+0100
TZOFFSETTO:+0200
TZNAME:CEST
DTSTART:20200329T010000
END:DAYLIGHT
BEGIN:STANDARD
TZOFFSETFROM:+0200
TZOFFSETTO:+0100
TZNAME:CET
DTSTART:20201025T010000
END:STANDARD
END:VTIMEZONE
BEGIN:VEVENT
DTSTART;VALUE=DATE:20190404
DTEND;VALUE=DATE:20190408
DTSTAMP:20260423T044752
CREATED:20190313T112006Z
LAST-MODIFIED:20190313T112006Z
UID:37984-1554336000-1554681599@www.ville-lunion.fr
SUMMARY:Exposition Union Images
DESCRIPTION:
URL:https://www.ville-lunion.fr/evenement/exposition-union-images-2/
LOCATION:Foyer de la Grande Halle de l’Union\, Rue du Somport\, 31240
CATEGORIES:Associations
ATTACH;FMTTYPE=image/jpeg:https://www.ville-lunion.fr/wp-content/uploads/2017/04/union-images.jpg
END:VEVENT
BEGIN:VEVENT
DTSTART;TZID=Europe/Paris:20190405T203000
DTEND;TZID=Europe/Paris:20190405T203000
DTSTAMP:20260423T044752
CREATED:20180703T140131Z
LAST-MODIFIED:20190311T085713Z
UID:36628-1554496200-1554496200@www.ville-lunion.fr
SUMMARY:Récital - Piano aux Jacobins - L’Europe du Piano
DESCRIPTION:L’Europe du piano s’inscrit dans la continuité de l’action culturelle de Piano aux Jacobins. Ce programme présente de jeunes talents du piano européen et lauréats de nombreux concours.\nDans le cadre d’un partenariat artistique de haut niveau\, l’Union accueille ce récital pour la quatrième saison consécutive afin de permettre au public de la Grande halle de découvrir cette jeune génération talentueuse et prometteuse .\nNous accueillerons cette année la jeune pianiste Célia Oneto Besnaïd lauréate de nombreux concours internationaux; formée au Conservatoire National Supérieur de Musique de Paris et diplômée de trois masters avec les meilleures mentions en piano \, musique de chambre et direction de chant instrumental. \nProgramme :  \nSchumann Carnaval de Vienne op.26\nRavel  Miroirs (Extraits)\nNoctuelles \nOiseaux tristes\nUne barque sur l’océan \nGershwin Trois préludes pour piano \nBernstein / Oneto Bensaid \nDanses symphoniques de West Side Story \nTOUT PUBLIC\nplacement libre\ndurée : 1h30\nTarifs\n• plein : 14€\n• réduit (enfants de -16 ans\, demandeurs d’emplois) : 8€ \ninformations et réservations : 05 62 89 22 86 & \nvente en ligne :  https://lunion.festik.net/recital-piano-aux-jacobins-l-europe-du-piano/1 \nwww.celiaonetobesaid.com\nwww.pianojacobins.com\nwww.europedupiano.com
URL:https://www.ville-lunion.fr/evenement/recital-piano-aux-jacobins-leurope-du-piano/
LOCATION:Grande Halle de l’Union\, Rue du Somport\, L'Union\, 31240\, France
CATEGORIES:Spectacles
ATTACH;FMTTYPE=image/jpeg:https://www.ville-lunion.fr/wp-content/uploads/2018/08/piano2019.jpg
END:VEVENT
END:VCALENDAR