BEGIN:VCALENDAR
VERSION:2.0
PRODID:-//Ville de L&#039;Union - ECPv6.15.13//NONSGML v1.0//EN
CALSCALE:GREGORIAN
METHOD:PUBLISH
X-ORIGINAL-URL:https://www.ville-lunion.fr
X-WR-CALDESC:Évènements pour Ville de L&#039;Union
REFRESH-INTERVAL;VALUE=DURATION:PT1H
X-Robots-Tag:noindex
X-PUBLISHED-TTL:PT1H
BEGIN:VTIMEZONE
TZID:Europe/Paris
BEGIN:DAYLIGHT
TZOFFSETFROM:+0100
TZOFFSETTO:+0200
TZNAME:CEST
DTSTART:20180325T010000
END:DAYLIGHT
BEGIN:STANDARD
TZOFFSETFROM:+0200
TZOFFSETTO:+0100
TZNAME:CET
DTSTART:20181028T010000
END:STANDARD
BEGIN:DAYLIGHT
TZOFFSETFROM:+0100
TZOFFSETTO:+0200
TZNAME:CEST
DTSTART:20190331T010000
END:DAYLIGHT
BEGIN:STANDARD
TZOFFSETFROM:+0200
TZOFFSETTO:+0100
TZNAME:CET
DTSTART:20191027T010000
END:STANDARD
BEGIN:DAYLIGHT
TZOFFSETFROM:+0100
TZOFFSETTO:+0200
TZNAME:CEST
DTSTART:20200329T010000
END:DAYLIGHT
BEGIN:STANDARD
TZOFFSETFROM:+0200
TZOFFSETTO:+0100
TZNAME:CET
DTSTART:20201025T010000
END:STANDARD
END:VTIMEZONE
BEGIN:VEVENT
DTSTART;VALUE=DATE:20190314
DTEND;VALUE=DATE:20190405
DTSTAMP:20260423T060951
CREATED:20190226T110929Z
LAST-MODIFIED:20190226T110929Z
UID:37925-1552521600-1554422399@www.ville-lunion.fr
SUMMARY:AAPU\, Union Images : exposition
DESCRIPTION:Entrée Libre
URL:https://www.ville-lunion.fr/evenement/aapu-union-images-exposition/
LOCATION:Bibliothèque de L’Union\, 6 Avenue de Toulouse\, 31240
CATEGORIES:Associations
ATTACH;FMTTYPE=image/jpeg:https://www.ville-lunion.fr/wp-content/uploads/2018/11/aapu.jpg
END:VEVENT
BEGIN:VEVENT
DTSTART;VALUE=DATE:20190320
DTEND;VALUE=DATE:20190330
DTSTAMP:20260423T060951
CREATED:20190128T141722Z
LAST-MODIFIED:20190226T100055Z
UID:37698-1553040000-1553903999@www.ville-lunion.fr
SUMMARY:exposition de la MJC « Non à la haine »
DESCRIPTION:Aujourd’hui les médias multiplient la rapidité et le flux des informations. Les images sont diffusées sans limites sur les réseaux sociaux\, les réactions et les positionnements se font de plus en plus virulents et extrêmes\, nourrissant une tension de plus en plus sensible au sein de notre société.\nIl est essentiel d’accompagner les jeunes afin qu’ils soient en mesure de trouver un langage adapté pour manifester leurs opinions et affects.\nLaisser ce terrain vierge\, c’est risquer de les laisser approuver des mots et utiliser ou relayer un langage qui attise la haine.\nCette exposition vise à libérer la parole individuelle dans l’espace collectif\, à transmettre aux jeunes des clés de lecture du fonctionnement de notre monde si nécessaires pour « faire humanité ensemble ». \nL’exposition « Non à la haine » humanité ensemble ».\nComposée de dix modules interactifs (panneaux\, Internet\, tablettes)\, l’exposition donne des clés de lecture associés à des temps de débats : pour ou contre\, le dessous des images\, mieux connaître nos médias\, frise historique\,…\nÀ travers cet outil\, l’idée est de créer un moment d’échange\, de dialogue et de prévention avec les jeunes sur le thème du regard croisé et de la tolérance\, en les amenant à comprendre et maîtriser les outils de communication. \nVisite de l’exposition : à destination des scolaires\, l’exposition sera présentée à tous les élèves de 4° et 3° du Collège G.Chaumeton. \nOuverture en week-end. Visite interactive et commentée gratuite sur réservation au 05 61 74 75 75 \nDans le cadre de l’évènement de la MJC « Non à la haine »\nAteliers proposés par Toulouse Métropole\n“ Décrypter l’information en pratiquant une rédaction journalistique ”\n2 ateliers avec un journaliste pour :\n• Décrypter l’information en pratiquant l’écriture journalistique\n• Connaitre les principes d’écriture d’un article\n• Apprendre à juger la qualité des productions médias\n1er atelier le 27 mars de 14h30 à 16h30\n2ème atelier à déterminer\nTout public
URL:https://www.ville-lunion.fr/evenement/exposition-de-la-mjc-non-a-la-haine/
LOCATION:Salle des fêtes de L’Union\, 6 Avenue des Pyrénées\, L'Union\, 31240\, France
CATEGORIES:Associations
ATTACH;FMTTYPE=image/jpeg:https://www.ville-lunion.fr/wp-content/uploads/2019/01/NALH_affiche.jpg
END:VEVENT
BEGIN:VEVENT
DTSTART;TZID=Europe/Paris:20190325T203000
DTEND;TZID=Europe/Paris:20190325T203000
DTSTAMP:20260423T060951
CREATED:20190226T101648Z
LAST-MODIFIED:20190226T101648Z
UID:37899-1553545800-1553545800@www.ville-lunion.fr
SUMMARY:CINÉ-DÉBAT FOOD EVOLUTION
DESCRIPTION:Film documentaire FOOD EVOLUTION de l’Américain Scott Hamilton Kennedy\, raconté par le scientifique Neil de Grasse Tyson. Séance suivie d’un débat. Ce film nommé aux Oscars et présenté au Parlement européen\, à l’ONU\, à la FAO et à bien d’autres organismes internationaux\, est en soi un débat\, car en nous plongeant au cœur de la polémique des OGM\, et donc de notre alimentation\, il donne la parole aux anti et aux pro OGM\, aux experts de tous bords et aux scientifiques et s’efforce de rechercher la vérité trop souvent étouffée par la désinformation et les peurs…. Passionnant.
URL:https://www.ville-lunion.fr/evenement/cine-debat-food-evolution/
LOCATION:Le Lumière\, 6 Rue du Pic du Midi\, L'Union\, 31240\, France
CATEGORIES:Associations,Cinéma
ATTACH;FMTTYPE=image/jpeg:https://www.ville-lunion.fr/wp-content/uploads/2019/02/food-evolution.jpg
END:VEVENT
END:VCALENDAR