BEGIN:VCALENDAR
VERSION:2.0
PRODID:-//Ville de L&#039;Union - ECPv6.15.13//NONSGML v1.0//EN
CALSCALE:GREGORIAN
METHOD:PUBLISH
X-ORIGINAL-URL:https://www.ville-lunion.fr
X-WR-CALDESC:Évènements pour Ville de L&#039;Union
REFRESH-INTERVAL;VALUE=DURATION:PT1H
X-Robots-Tag:noindex
X-PUBLISHED-TTL:PT1H
BEGIN:VTIMEZONE
TZID:Europe/Paris
BEGIN:DAYLIGHT
TZOFFSETFROM:+0100
TZOFFSETTO:+0200
TZNAME:CEST
DTSTART:20180325T010000
END:DAYLIGHT
BEGIN:STANDARD
TZOFFSETFROM:+0200
TZOFFSETTO:+0100
TZNAME:CET
DTSTART:20181028T010000
END:STANDARD
BEGIN:DAYLIGHT
TZOFFSETFROM:+0100
TZOFFSETTO:+0200
TZNAME:CEST
DTSTART:20190331T010000
END:DAYLIGHT
BEGIN:STANDARD
TZOFFSETFROM:+0200
TZOFFSETTO:+0100
TZNAME:CET
DTSTART:20191027T010000
END:STANDARD
BEGIN:DAYLIGHT
TZOFFSETFROM:+0100
TZOFFSETTO:+0200
TZNAME:CEST
DTSTART:20200329T010000
END:DAYLIGHT
BEGIN:STANDARD
TZOFFSETFROM:+0200
TZOFFSETTO:+0100
TZNAME:CET
DTSTART:20201025T010000
END:STANDARD
END:VTIMEZONE
BEGIN:VEVENT
DTSTART;VALUE=DATE:20190310
DTEND;VALUE=DATE:20190311
DTSTAMP:20260423T061956
CREATED:20190121T162702Z
LAST-MODIFIED:20190129T085256Z
UID:37642-1552176000-1552262399@www.ville-lunion.fr
SUMMARY:Vide grenier de L’Union Festivités
DESCRIPTION:Le printemps arrive\, c’est le moment de vider les placards. Venez vendre\, venez chiner au grand vide grenier de printemps qui se déroulera le dimanche\n10 mars à la Grande Halle Ouvert aux seuls particuliers\, les inscriptions se feront uniquement le samedi 9 février à partir de 9H salle de l’olivier dans la limite des places disponibles.\nSeuls les dossiers complets seront enregistrés (copie pièce d’identité\, attestation sur l’honneur\, inscription et règlement à l’ordre de L’Union Festivités).\nEmplacement de 3 Mètres uniquement au tarif de 15 € limité à un par famille\, présente à l’inscription.\nPour des raisons de sécurité et de circulation dans les allées\, les portants à vêtements sont interdits.\nBuvette et petite restauration vous seront proposées sur place
URL:https://www.ville-lunion.fr/evenement/vide-grenier-de-lunion-festivites/
LOCATION:Grande Halle de l’Union\, Rue du Somport\, L'Union\, 31240\, France
CATEGORIES:Associations
ATTACH;FMTTYPE=image/jpeg:https://www.ville-lunion.fr/wp-content/uploads/2019/01/VG.jpg
END:VEVENT
BEGIN:VEVENT
DTSTART;TZID=Europe/Paris:20190310T133000
DTEND;TZID=Europe/Paris:20190310T133000
DTSTAMP:20260423T061956
CREATED:20190226T101107Z
LAST-MODIFIED:20190226T101107Z
UID:37896-1552224600-1552224600@www.ville-lunion.fr
SUMMARY:Derniers matches de la saison à domicile L’Union Rugby
DESCRIPTION:à partir de 13h30 ont lieu les derniers matches de la saison à domicile pour l’équipe réserve et l’équipe Fanion de l’Union Rugby\nVenez nombreux soutenir L’Union Rugby ! Tous les partenaires seront présents.\nRetransmission du match Irlande France.\nAnimations\, boissons et esprit d’équipe seront au rendez vous
URL:https://www.ville-lunion.fr/evenement/derniers-matches-de-la-saison-a-domicile-lunion-rugby/
CATEGORIES:Associations,Sport
ATTACH;FMTTYPE=image/jpeg:https://www.ville-lunion.fr/wp-content/uploads/2019/02/rugby.jpg
END:VEVENT
END:VCALENDAR