BEGIN:VCALENDAR
VERSION:2.0
PRODID:-//Ville de L&#039;Union - ECPv6.15.13//NONSGML v1.0//EN
CALSCALE:GREGORIAN
METHOD:PUBLISH
X-WR-CALNAME:Ville de L&#039;Union
X-ORIGINAL-URL:https://www.ville-lunion.fr
X-WR-CALDESC:Évènements pour Ville de L&#039;Union
REFRESH-INTERVAL;VALUE=DURATION:PT1H
X-Robots-Tag:noindex
X-PUBLISHED-TTL:PT1H
BEGIN:VTIMEZONE
TZID:Europe/Paris
BEGIN:DAYLIGHT
TZOFFSETFROM:+0100
TZOFFSETTO:+0200
TZNAME:CEST
DTSTART:20180325T010000
END:DAYLIGHT
BEGIN:STANDARD
TZOFFSETFROM:+0200
TZOFFSETTO:+0100
TZNAME:CET
DTSTART:20181028T010000
END:STANDARD
BEGIN:DAYLIGHT
TZOFFSETFROM:+0100
TZOFFSETTO:+0200
TZNAME:CEST
DTSTART:20190331T010000
END:DAYLIGHT
BEGIN:STANDARD
TZOFFSETFROM:+0200
TZOFFSETTO:+0100
TZNAME:CET
DTSTART:20191027T010000
END:STANDARD
BEGIN:DAYLIGHT
TZOFFSETFROM:+0100
TZOFFSETTO:+0200
TZNAME:CEST
DTSTART:20200329T010000
END:DAYLIGHT
BEGIN:STANDARD
TZOFFSETFROM:+0200
TZOFFSETTO:+0100
TZNAME:CET
DTSTART:20201025T010000
END:STANDARD
END:VTIMEZONE
BEGIN:VEVENT
DTSTART;VALUE=DATE:20190308
DTEND;VALUE=DATE:20190309
DTSTAMP:20260423T060818
CREATED:20190226T102629Z
LAST-MODIFIED:20190226T102629Z
UID:37902-1552003200-1552089599@www.ville-lunion.fr
SUMMARY:JOURNÉE DE LA FEMME - au Lumière
DESCRIPTION:• 15 h : MARIE CURIE de Marie Noëlle Sehr \n\nPhysicienne-chimiste d’origine polonaise\, Marie Skłodowska-Curie est une pionnière dans l’étude de la radioactivité. Elle travaille main dans la main avec son mari\, Pierre Curie\, pour développer la recherche scientifique. Dans ce milieu particulièrement masculin et conservateur\, Marie doit lutter pour se faire une place… \n\n• 19 h : ROSIE DAVIS de Paddy de l’Irlandaise Paddy Breathnach \nRosie Davis et son mari forment avec leurs quatre jeunes enfants une famille modeste mais heureuse. Le jour où leur propriétaire décide de vendre leur maison\, leur vie bascule dans la précarité. Trouver une chambre à Dublin\, même pour une nuit\, est un défi quotidien. Les parents affrontent cette épreuve avec courage en tentant de préserver leurs enfants. \n• 21 h : CONTINUER de Joachim Lafosse \nSibylle\, mère divorcée\, ne supporte plus de voir son fils adolescent sombrer dans une vie violente et vide de sens. Elle va jouer leur va-tout en entraînant Samuel dans un long périple à travers le Kirghizistan. Avec deux chevaux pour seuls compagnons\, mère et fils devront affronter un environnement naturel aussi splendide qu’hostile\, ses dangers\, son peuple… et surtout eux-mêmes !
URL:https://www.ville-lunion.fr/evenement/journee-de-la-femme-au-lumiere/
LOCATION:Le Lumière\, 6 Rue du Pic du Midi\, L'Union\, 31240\, France
CATEGORIES:Cinéma
ATTACH;FMTTYPE=image/jpeg:https://www.ville-lunion.fr/wp-content/uploads/2019/02/rosie.jpg
END:VEVENT
BEGIN:VEVENT
DTSTART;TZID=Europe/Paris:20190308T203000
DTEND;TZID=Europe/Paris:20190308T203000
DTSTAMP:20260423T060818
CREATED:20190204T163436Z
LAST-MODIFIED:20190204T163436Z
UID:37773-1552077000-1552077000@www.ville-lunion.fr
SUMMARY:Neptunion 31 - Conférence publique de Pierre Coadou
DESCRIPTION:Connaissons-nous tout de l’univers ? \nCertaines personnes le pensent. Pour elles\, c’est évident. Planètes\, lunes\, astéroïdes\, poussières\, gaz\, étoiles etc\, tout est plus ou moins connu ou le sera sous peu. \nCe n’est pourtant pas le cas des astrophysiciens\, qui eux\, actuellement sont dans l’expectative. \nEn effet\, certaines choses semblent manquer dans l’univers et c’est une histoire d’un siècle qui vous sera racontée. Une histoire où sciences et politiques se rencontrent. Une histoire qui devient une énigme au cours des années puis des décennies. \nCette histoire c’est celle de la matière noire et de l’énergie sombre. Deux des plus importantes composantes de l’univers … et que l’on ne voit pas\, que l’on ne détecte pas et que l’on ne connaît pas. \nQuelque chose qui pourtant doit exister\, sinon il faut revoir certaines théories. \nC’est à la découverte de cette énigme scientifique que vous êtes conviés le vendredi 8 mars 2019 à 20 h 30 à la salle fêtes de L’Union pour appréhender les natures possibles de la matière noire et l’énergie sombre qui seront sûrement là … mais que vous ne verrez pas !!!
URL:https://www.ville-lunion.fr/evenement/neptunion-31-conference-publique-de-pierre-coadou/
LOCATION:Salle des fêtes de L’Union\, 6 Avenue des Pyrénées\, L'Union\, 31240\, France
CATEGORIES:Associations
ATTACH;FMTTYPE=image/jpeg:https://www.ville-lunion.fr/wp-content/uploads/2019/02/Affiche-conf-matière-noire-7.jpg
END:VEVENT
END:VCALENDAR