BEGIN:VCALENDAR
VERSION:2.0
PRODID:-//Ville de L&#039;Union - ECPv6.15.13//NONSGML v1.0//EN
CALSCALE:GREGORIAN
METHOD:PUBLISH
X-WR-CALNAME:Ville de L&#039;Union
X-ORIGINAL-URL:https://www.ville-lunion.fr
X-WR-CALDESC:Évènements pour Ville de L&#039;Union
REFRESH-INTERVAL;VALUE=DURATION:PT1H
X-Robots-Tag:noindex
X-PUBLISHED-TTL:PT1H
BEGIN:VTIMEZONE
TZID:Europe/Paris
BEGIN:DAYLIGHT
TZOFFSETFROM:+0100
TZOFFSETTO:+0200
TZNAME:CEST
DTSTART:20180325T010000
END:DAYLIGHT
BEGIN:STANDARD
TZOFFSETFROM:+0200
TZOFFSETTO:+0100
TZNAME:CET
DTSTART:20181028T010000
END:STANDARD
BEGIN:DAYLIGHT
TZOFFSETFROM:+0100
TZOFFSETTO:+0200
TZNAME:CEST
DTSTART:20190331T010000
END:DAYLIGHT
BEGIN:STANDARD
TZOFFSETFROM:+0200
TZOFFSETTO:+0100
TZNAME:CET
DTSTART:20191027T010000
END:STANDARD
BEGIN:DAYLIGHT
TZOFFSETFROM:+0100
TZOFFSETTO:+0200
TZNAME:CEST
DTSTART:20200329T010000
END:DAYLIGHT
BEGIN:STANDARD
TZOFFSETFROM:+0200
TZOFFSETTO:+0100
TZNAME:CET
DTSTART:20201025T010000
END:STANDARD
END:VTIMEZONE
BEGIN:VEVENT
DTSTART;TZID=Europe/Paris:20190206T183000
DTEND;TZID=Europe/Paris:20190206T203000
DTSTAMP:20260423T074759
CREATED:20190109T111811Z
LAST-MODIFIED:20190109T111811Z
UID:37568-1549477800-1549485000@www.ville-lunion.fr
SUMMARY:3ÈME NUIT DE LA THERMOGRAPHIE
DESCRIPTION:La 3eme édition de la nuit de la thermographie sera l’occasion de rencontrer un spécialiste de l’isolation de l’habitat. Mathieu Oulmont\, conseiller de l’espace Info Energie\, nous expliquera en première partie de soirée comment utiliser une caméra infrarouge\, détecter les défauts d’isolation et les ponts thermiques d’une habitation.\nEn 2eme partie de soirée\, nous irons faire un tour dans la ville\, afin d’observer des habitations\, caméra thermique en main. L’objectif : mettre en évidence les déperditions de chaleur (par les murs\, les toits\, etc.) sur quelques maisons du quartier.\nEnfin\, nous clôturerons la soirée autour de quelques boissons chaudes !
URL:https://www.ville-lunion.fr/evenement/3eme-nuit-de-la-thermographie/
LOCATION:Salle des fêtes de L’Union\, 6 Avenue des Pyrénées\, L'Union\, 31240\, France
CATEGORIES:Mairie
ATTACH;FMTTYPE=image/jpeg:https://www.ville-lunion.fr/wp-content/uploads/2019/01/thermographie.jpg
END:VEVENT
END:VCALENDAR