BEGIN:VCALENDAR
VERSION:2.0
PRODID:-//Ville de L&#039;Union - ECPv6.15.13//NONSGML v1.0//EN
CALSCALE:GREGORIAN
METHOD:PUBLISH
X-ORIGINAL-URL:https://www.ville-lunion.fr
X-WR-CALDESC:Évènements pour Ville de L&#039;Union
REFRESH-INTERVAL;VALUE=DURATION:PT1H
X-Robots-Tag:noindex
X-PUBLISHED-TTL:PT1H
BEGIN:VTIMEZONE
TZID:Europe/Paris
BEGIN:DAYLIGHT
TZOFFSETFROM:+0100
TZOFFSETTO:+0200
TZNAME:CEST
DTSTART:20180325T010000
END:DAYLIGHT
BEGIN:STANDARD
TZOFFSETFROM:+0200
TZOFFSETTO:+0100
TZNAME:CET
DTSTART:20181028T010000
END:STANDARD
BEGIN:DAYLIGHT
TZOFFSETFROM:+0100
TZOFFSETTO:+0200
TZNAME:CEST
DTSTART:20190331T010000
END:DAYLIGHT
BEGIN:STANDARD
TZOFFSETFROM:+0200
TZOFFSETTO:+0100
TZNAME:CET
DTSTART:20191027T010000
END:STANDARD
BEGIN:DAYLIGHT
TZOFFSETFROM:+0100
TZOFFSETTO:+0200
TZNAME:CEST
DTSTART:20200329T010000
END:DAYLIGHT
BEGIN:STANDARD
TZOFFSETFROM:+0200
TZOFFSETTO:+0100
TZNAME:CET
DTSTART:20201025T010000
END:STANDARD
END:VTIMEZONE
BEGIN:VEVENT
DTSTART;TZID=Europe/Paris:20190205T200000
DTEND;TZID=Europe/Paris:20190205T200000
DTSTAMP:20260423T074928
CREATED:20190109T085437Z
LAST-MODIFIED:20190109T085437Z
UID:37556-1549396800-1549396800@www.ville-lunion.fr
SUMMARY:concert viennois de l'OUT
DESCRIPTION:Traditionnel concert du nouvel an\, ou concert viennois sous la baguette de Jean-Guy Olive.\nComposé essentiellement des valses viennoises qui vous entraîneront dans le tourbillon du pas sur trois temps et des souvenirs inoubliables des contes de fées\, ce concert vous fera également voyager sur des airs de tango\, de polka voire même de célèbres berceuses et autres mélodies inédites et ludiques ! \nDes démonstrations de danses en tenues traditionnelles viennoises du XIXème siècle s’ajouteront au spectacle.\nDes dégustations sucrées/salées vous seront proposées. \nLes bénéfices de ce concert organisé par le Rotary Toulouse Ouest seront reversés à l’association pour le développement des soins palliatifs de Toulouse. \nAlors joignez l’utile à l’agréable : Réservez vos places et Rendez-vous à L’Union pour écouter ou danser la valse\, fêter la nouvelle année\, et vous plonger dans l’ambiance des bals à l’époque de Johann Strauss ! \nRéservations sur Festik : https://out-toulouse.festik.net
URL:https://www.ville-lunion.fr/evenement/concert-viennois-de-lout/
LOCATION:Grande Halle de l’Union\, Rue du Somport\, L'Union\, 31240\, France
CATEGORIES:Manifestations
ATTACH;FMTTYPE=image/jpeg:https://www.ville-lunion.fr/wp-content/uploads/2019/01/out.jpg
END:VEVENT
END:VCALENDAR