BEGIN:VCALENDAR
VERSION:2.0
PRODID:-//Ville de L&#039;Union - ECPv6.15.13//NONSGML v1.0//EN
CALSCALE:GREGORIAN
METHOD:PUBLISH
X-ORIGINAL-URL:https://www.ville-lunion.fr
X-WR-CALDESC:Évènements pour Ville de L&#039;Union
REFRESH-INTERVAL;VALUE=DURATION:PT1H
X-Robots-Tag:noindex
X-PUBLISHED-TTL:PT1H
BEGIN:VTIMEZONE
TZID:Europe/Paris
BEGIN:DAYLIGHT
TZOFFSETFROM:+0100
TZOFFSETTO:+0200
TZNAME:CEST
DTSTART:20180325T010000
END:DAYLIGHT
BEGIN:STANDARD
TZOFFSETFROM:+0200
TZOFFSETTO:+0100
TZNAME:CET
DTSTART:20181028T010000
END:STANDARD
BEGIN:DAYLIGHT
TZOFFSETFROM:+0100
TZOFFSETTO:+0200
TZNAME:CEST
DTSTART:20190331T010000
END:DAYLIGHT
BEGIN:STANDARD
TZOFFSETFROM:+0200
TZOFFSETTO:+0100
TZNAME:CET
DTSTART:20191027T010000
END:STANDARD
BEGIN:DAYLIGHT
TZOFFSETFROM:+0100
TZOFFSETTO:+0200
TZNAME:CEST
DTSTART:20200329T010000
END:DAYLIGHT
BEGIN:STANDARD
TZOFFSETFROM:+0200
TZOFFSETTO:+0100
TZNAME:CET
DTSTART:20201025T010000
END:STANDARD
END:VTIMEZONE
BEGIN:VEVENT
DTSTART;VALUE=DATE:20190201
DTEND;VALUE=DATE:20190203
DTSTAMP:20260423T074923
CREATED:20180703T125816Z
LAST-MODIFIED:20190121T082350Z
UID:36605-1548979200-1549151999@www.ville-lunion.fr
SUMMARY:Théâtre - Le dîner de cons
DESCRIPTION:  \nChaque mercredi\, Pierre Brochant et ses amis organisent un dîner de cons. Le principe est simple : chaque participant amène un « con »\, et celui dont l’invité se distingue le plus est déclaré vainqueur. Ce soir Pierre est heureux\, il pense avoir trouvé la perle rare : François Pignon\, comptable au ministère des Finances\, passionné de modèles réduits en\nallumettes. Mais ce qu’il ignore\, c’est que Pignon\, prêt à tout pour rendre service\, est un fieffé porteur de guigne passé maître dans l’art de déclencher des catastrophes… \nDistribution : auteur\, Francis Veber • par la Compagnie Cléante • Avec Alain Dumas\, Denis Rey\, Samuel Mathieu\, Marc Compozieux\, Richard Vergnes\, Angélique Infante\, Anne-Sophie Delahaye • mise en scène\, Laurent Collombert • décor\, Olivier Hébert et Annie Giral \nTOUT PUBLIC \nà 20h30. \nplacement libre\ndurée : 1h40\nTarifs :\n• plein : 20€\n• intermédiaire (+65 ans ou groupe 10 personnes) : 16€\n• réduit (étudiants\, -25 ans\, demandeurs d’emploi\, intermittents\, -12 ans) : 12€ \ninfos et réservations :\nwww.compagnie-cleante.com/reserver – 06 18 94 76 03\ncompagniecleante@gmail.com
URL:https://www.ville-lunion.fr/evenement/theatre-le-diner-de-cons/
LOCATION:Grande Halle de l’Union\, Rue du Somport\, L'Union\, 31240\, France
CATEGORIES:Spectacles
ATTACH;FMTTYPE=image/jpeg:https://www.ville-lunion.fr/wp-content/uploads/2018/08/cons2.jpg
END:VEVENT
END:VCALENDAR