BEGIN:VCALENDAR
VERSION:2.0
PRODID:-//Ville de L&#039;Union - ECPv6.15.13//NONSGML v1.0//EN
CALSCALE:GREGORIAN
METHOD:PUBLISH
X-ORIGINAL-URL:https://www.ville-lunion.fr
X-WR-CALDESC:Évènements pour Ville de L&#039;Union
REFRESH-INTERVAL;VALUE=DURATION:PT1H
X-Robots-Tag:noindex
X-PUBLISHED-TTL:PT1H
BEGIN:VTIMEZONE
TZID:Europe/Paris
BEGIN:DAYLIGHT
TZOFFSETFROM:+0100
TZOFFSETTO:+0200
TZNAME:CEST
DTSTART:20170326T010000
END:DAYLIGHT
BEGIN:STANDARD
TZOFFSETFROM:+0200
TZOFFSETTO:+0100
TZNAME:CET
DTSTART:20171029T010000
END:STANDARD
BEGIN:DAYLIGHT
TZOFFSETFROM:+0100
TZOFFSETTO:+0200
TZNAME:CEST
DTSTART:20180325T010000
END:DAYLIGHT
BEGIN:STANDARD
TZOFFSETFROM:+0200
TZOFFSETTO:+0100
TZNAME:CET
DTSTART:20181028T010000
END:STANDARD
BEGIN:DAYLIGHT
TZOFFSETFROM:+0100
TZOFFSETTO:+0200
TZNAME:CEST
DTSTART:20190331T010000
END:DAYLIGHT
BEGIN:STANDARD
TZOFFSETFROM:+0200
TZOFFSETTO:+0100
TZNAME:CET
DTSTART:20191027T010000
END:STANDARD
END:VTIMEZONE
BEGIN:VEVENT
DTSTART;VALUE=DATE:20181129
DTEND;VALUE=DATE:20181223
DTSTAMP:20260423T105524
CREATED:20180919T100010Z
LAST-MODIFIED:20180919T100010Z
UID:36907-1543449600-1545523199@www.ville-lunion.fr
SUMMARY:exposition à la bibliothèque
DESCRIPTION:proposé par l’AAPU\, sur le thème du voyage. Vernissage le jeudi 29 à 18h30 ouvert à tous
URL:https://www.ville-lunion.fr/evenement/exposition-a-la-bibliotheque/
LOCATION:Grande Halle de l’Union\, Rue du Somport\, L'Union\, 31240\, France
CATEGORIES:Associations
END:VEVENT
BEGIN:VEVENT
DTSTART;TZID=Europe/Paris:20181129T200000
DTEND;TZID=Europe/Paris:20181129T200000
DTSTAMP:20260423T105524
CREATED:20181121T104408Z
LAST-MODIFIED:20181121T104408Z
UID:37281-1543521600-1543521600@www.ville-lunion.fr
SUMMARY:Soirée Théâtre-Débat Être parent\, c’es t pas facile ! Et alors être enfant ! !
DESCRIPTION:Avec la Compagnie Canal’Art\nAnimée par Raphaëlle Drouhin Montoya\,\npsychologue à l’Ecole des parents et des éducateurs \nOuvert à tous – Entrée gratuite\nSoirée réservée aux adultes\, qui commencera à 20h précises avec la\n1ère scénette et se clôturera par un moment convivial.
URL:https://www.ville-lunion.fr/evenement/soiree-theatre-debat-etre-parent-ces-t-pas-facile-et-alors-etre-enfant/
LOCATION:Salle des fêtes de L’Union\, 6 Avenue des Pyrénées\, L'Union\, 31240\, France
CATEGORIES:Associations
ATTACH;FMTTYPE=image/jpeg:https://www.ville-lunion.fr/wp-content/uploads/2018/11/soiree-debat.jpg
END:VEVENT
END:VCALENDAR