BEGIN:VCALENDAR
VERSION:2.0
PRODID:-//Ville de L&#039;Union - ECPv6.15.13//NONSGML v1.0//EN
CALSCALE:GREGORIAN
METHOD:PUBLISH
X-WR-CALNAME:Ville de L&#039;Union
X-ORIGINAL-URL:https://www.ville-lunion.fr
X-WR-CALDESC:Évènements pour Ville de L&#039;Union
REFRESH-INTERVAL;VALUE=DURATION:PT1H
X-Robots-Tag:noindex
X-PUBLISHED-TTL:PT1H
BEGIN:VTIMEZONE
TZID:Europe/Paris
BEGIN:DAYLIGHT
TZOFFSETFROM:+0100
TZOFFSETTO:+0200
TZNAME:CEST
DTSTART:20170326T010000
END:DAYLIGHT
BEGIN:STANDARD
TZOFFSETFROM:+0200
TZOFFSETTO:+0100
TZNAME:CET
DTSTART:20171029T010000
END:STANDARD
BEGIN:DAYLIGHT
TZOFFSETFROM:+0100
TZOFFSETTO:+0200
TZNAME:CEST
DTSTART:20180325T010000
END:DAYLIGHT
BEGIN:STANDARD
TZOFFSETFROM:+0200
TZOFFSETTO:+0100
TZNAME:CET
DTSTART:20181028T010000
END:STANDARD
BEGIN:DAYLIGHT
TZOFFSETFROM:+0100
TZOFFSETTO:+0200
TZNAME:CEST
DTSTART:20190331T010000
END:DAYLIGHT
BEGIN:STANDARD
TZOFFSETFROM:+0200
TZOFFSETTO:+0100
TZNAME:CET
DTSTART:20191027T010000
END:STANDARD
END:VTIMEZONE
BEGIN:VEVENT
DTSTART;TZID=Europe/Paris:20181128T183000
DTEND;TZID=Europe/Paris:20181128T183000
DTSTAMP:20260423T110952
CREATED:20171024T121805Z
LAST-MODIFIED:20181119T131052Z
UID:34148-1543429800-1543429800@www.ville-lunion.fr
SUMMARY:Cérémonie des NOUVEAUX ARRIVANTS
DESCRIPTION:Les nouveaux arrivants dans la commune seront reçus le mercredi 28 novembre à 18h30\, salle des fêtes \, pour faire connaissance avec l’équipe municipale. \nMarc Péré leur présentera les conseillers municipaux\, ainsi que la commune et les axes de sa politique. Il répondra aux questions des nouveaux Unionais. \nUn cocktail de bienvenue clôturera cette manifestation. \nSi vous êtes intéressés inscrivez-vous en Mairie\, par téléphone au 05 62 89 22 89 ou par mail à courrier@mairie-lunion.fr
URL:https://www.ville-lunion.fr/evenement/ceremonie-nouveaux-arrivants/
LOCATION:Salle des fêtes de L’Union\, 6 Avenue des Pyrénées\, L'Union\, 31240\, France
CATEGORIES:Mairie
ATTACH;FMTTYPE=image/jpeg:https://www.ville-lunion.fr/wp-content/uploads/2017/10/nouveaux-arrivants.jpg
END:VEVENT
END:VCALENDAR