BEGIN:VCALENDAR
VERSION:2.0
PRODID:-//Ville de L&#039;Union - ECPv6.15.13//NONSGML v1.0//EN
CALSCALE:GREGORIAN
METHOD:PUBLISH
X-WR-CALNAME:Ville de L&#039;Union
X-ORIGINAL-URL:https://www.ville-lunion.fr
X-WR-CALDESC:Évènements pour Ville de L&#039;Union
REFRESH-INTERVAL;VALUE=DURATION:PT1H
X-Robots-Tag:noindex
X-PUBLISHED-TTL:PT1H
BEGIN:VTIMEZONE
TZID:Europe/Paris
BEGIN:DAYLIGHT
TZOFFSETFROM:+0100
TZOFFSETTO:+0200
TZNAME:CEST
DTSTART:20170326T010000
END:DAYLIGHT
BEGIN:STANDARD
TZOFFSETFROM:+0200
TZOFFSETTO:+0100
TZNAME:CET
DTSTART:20171029T010000
END:STANDARD
BEGIN:DAYLIGHT
TZOFFSETFROM:+0100
TZOFFSETTO:+0200
TZNAME:CEST
DTSTART:20180325T010000
END:DAYLIGHT
BEGIN:STANDARD
TZOFFSETFROM:+0200
TZOFFSETTO:+0100
TZNAME:CET
DTSTART:20181028T010000
END:STANDARD
BEGIN:DAYLIGHT
TZOFFSETFROM:+0100
TZOFFSETTO:+0200
TZNAME:CEST
DTSTART:20190331T010000
END:DAYLIGHT
BEGIN:STANDARD
TZOFFSETFROM:+0200
TZOFFSETTO:+0100
TZNAME:CET
DTSTART:20191027T010000
END:STANDARD
END:VTIMEZONE
BEGIN:VEVENT
DTSTART;VALUE=DATE:20181109
DTEND;VALUE=DATE:20181113
DTSTAMP:20260423T123345
CREATED:20181009T122439Z
LAST-MODIFIED:20181106T094152Z
UID:37068-1541721600-1542067199@www.ville-lunion.fr
SUMMARY:commémorations - centenaire 14-18
DESCRIPTION:Brochure du programme\nVendredi 9 novembre\n2 représentations du spectacle Matériau 14 – Ombres portées  proposé aux collégiens à la Grande Halle. \n  \nSamedi 10 novembre\n20h30 : Soirée cabaret – Matériau 14 – ombres portées…par la Cie Entresort à la Grande Halle  \nMêlant textes d’écrivains combattants\, de souvenirs d’époques des grand pères et d’autres poilus\, ce spectacle participe à la transmission autour de la guerre et de ses conséquences mais aussi de relier cette époque avec la mémoire familiale. Les échanges de bord de scène permettent une vraie rencontre du public et des acteurs\, auteurs de ce spectacle. \n+ d’infos \n  \nDimanche 11 novembre\n14h30 : Lecture de lettres de poilus à la Grande Halle \nLettres françaises et allemandes avec 3 lecteurs\, membres de la Fédération Nationale des Compagnies de Théâtre et d’Animation (FNCTA). Ces lettres et textes vous proposent une traversée du conflit par ceux qui l’ont vécu. Entrée libre. \n16h00 : cérémonie au Monument aux Morts \navec défilé de soldats en tenue de poilus \nsuivie du Concert par l’école de musique (Harmonie et Banda) à la Grande Halle avec présentation des morceaux : le chant de départ – la marche des étoiles – washington post – marche des enfants de troupe – airs de poilu ( les pères la victoire\, chanson lorraine\, les Allobroges\, le rêve passe\, les africains\, le petit quinquin\, auprès de ma blonde…Entrée libre \n  \nlundi 12 novembre\n20h : Soirée spéciale  au cinéma le lumière \nConférence-débat sur la médecine et les médecins  pendant la Grande Guerre par Anne Waddington\, écrivaine installée à L’Union  suivie du film CESSEZ LE FEU avec Romain Duris. \n  \n  \nExpositions  à la GRANDE HALLE en libre accès du 9 au 11 novembre de 10h à 12h & de 14h à 18h\nChronologie de la guerre avec les différentes cartes des batailles et du front\, biographies de 19 des 20 poilus de L’Union\, biographies de plusieurs poilus dont les familles ont un lien avec L’Union\, albums photos du front\, journal de guerre\, histoire du monument aux morts\, lettres et autres documents et objets. \n3 grandes expositions : \nLe rôle des femmes pendant la 1ère guerre (l’historial de Péronne) \n Toulouse pendant la 1ère guerre mondiale (archives municipales de TOULOUSE) \n Le conflit (l’ONAC) \n Sur les pas d’Antonin\, poilu Unionais : Exposition d’objets d’époque : lettres\, casques\, artisanat des tranchées… Maquettes (diorama) représentant des scènes de la vie du soldat. \n 
URL:https://www.ville-lunion.fr/evenement/commemorations-centenaire-14-18/
CATEGORIES:Mairie
ATTACH;FMTTYPE=image/jpeg:https://www.ville-lunion.fr/wp-content/uploads/2018/10/11-nov.jpg
END:VEVENT
BEGIN:VEVENT
DTSTART;TZID=Europe/Paris:20181110T203000
DTEND;TZID=Europe/Paris:20181110T203000
DTSTAMP:20260423T123345
CREATED:20180803T090208Z
LAST-MODIFIED:20181025T071335Z
UID:36584-1541881800-1541881800@www.ville-lunion.fr
SUMMARY:MATERIAU 14… Ombres portées
DESCRIPTION:THÉÂTRE  Cie ENTRESORT \nCe spectacle est un temps fort des trois jours de célébrations prévues à l’occasion du centenaire de l’armistice de la première guerre mondiale.\nDes chansons écrites dans les tranchées accompagnent l’arrivée du public. L’évocation chantée de Jaurès inaugure le spectacle. Puis les comédiens\nentrent en scène et déposent chacun une malle. A l’intérieur\, les archives familiales de la guerre 14-18.\nS’ajoutent des vidéos\, des discours d’époque\, des témoignages d’écrivains combattants\, des récits personnels. Les comédiens sollicitent toutes les ressources du théâtre pour questionner leur propre histoire\, et tentent de comprendre pourquoi aujourd’hui\, les mêmes forces obscures menacent les valeurs qui fondent notre humanité. \nDistribution : mise en scène\, Roland Gigoi et Dominique Taillemite • interprètes\, Roland Gigoi\, Dominique Taillemite\, Sylviane Blanquart\, Yannick Harnois \nTOUT PUBLIC\nplacement libre\ndurée : 1h50\nTarif unique 6€ \nBillets en vente à la mairie – renseignements et réservations : 05 62 89 22 86 \nProgrammé dans le cadre des journées de la commémoration du centenaire de l’Armistice\, ce spectacle sera également joué pour les scolaires le 9 novembre. \n 
URL:https://www.ville-lunion.fr/evenement/materiau-14-ombres-portees/
LOCATION:Grande Halle de l’Union\, Rue du Somport\, L'Union\, 31240\, France
CATEGORIES:Spectacles
ATTACH;FMTTYPE=image/jpeg:https://www.ville-lunion.fr/wp-content/uploads/2018/08/materiau.jpg
END:VEVENT
END:VCALENDAR