BEGIN:VCALENDAR
VERSION:2.0
PRODID:-//Ville de L&#039;Union - ECPv6.15.13//NONSGML v1.0//EN
CALSCALE:GREGORIAN
METHOD:PUBLISH
X-ORIGINAL-URL:https://www.ville-lunion.fr
X-WR-CALDESC:Évènements pour Ville de L&#039;Union
REFRESH-INTERVAL;VALUE=DURATION:PT1H
X-Robots-Tag:noindex
X-PUBLISHED-TTL:PT1H
BEGIN:VTIMEZONE
TZID:Europe/Paris
BEGIN:DAYLIGHT
TZOFFSETFROM:+0100
TZOFFSETTO:+0200
TZNAME:CEST
DTSTART:20170326T010000
END:DAYLIGHT
BEGIN:STANDARD
TZOFFSETFROM:+0200
TZOFFSETTO:+0100
TZNAME:CET
DTSTART:20171029T010000
END:STANDARD
BEGIN:DAYLIGHT
TZOFFSETFROM:+0100
TZOFFSETTO:+0200
TZNAME:CEST
DTSTART:20180325T010000
END:DAYLIGHT
BEGIN:STANDARD
TZOFFSETFROM:+0200
TZOFFSETTO:+0100
TZNAME:CET
DTSTART:20181028T010000
END:STANDARD
BEGIN:DAYLIGHT
TZOFFSETFROM:+0100
TZOFFSETTO:+0200
TZNAME:CEST
DTSTART:20190331T010000
END:DAYLIGHT
BEGIN:STANDARD
TZOFFSETFROM:+0200
TZOFFSETTO:+0100
TZNAME:CET
DTSTART:20191027T010000
END:STANDARD
END:VTIMEZONE
BEGIN:VEVENT
DTSTART;TZID=Europe/Paris:20181019T203000
DTEND;TZID=Europe/Paris:20181019T203000
DTSTAMP:20260423T134813
CREATED:20180912T152304Z
LAST-MODIFIED:20181008T152506Z
UID:36867-1539981000-1539981000@www.ville-lunion.fr
SUMMARY:Conférence de l'association Neptunion - A la recherche de la planète Neuf
DESCRIPTION:  \n  \nL’association Neptunion31 vous propose deux conférences  qui traiteront  des planètes du Système Solaire\, connues ou encore inconnues  et de certaines exoplanètes aux caractéristiques uniques comme leur proximité avec leur étoile ou des planètes qui errent dans l’espace interstellaire.\nCes exposés permettront aux petits comme aux grands d’en savoir plus sur ces mondes étranges\, sur les technologies qui ont permis de les découvrir ainsi que sur la place que certains membres de l’association ont occupé dans cette fabuleuse aventure et qui donnera peut-être à certains l’envie de nous rejoindre. \n1)   A la recherche de la planète Neuf par Pierre DUBREUIL  membre de Neptunion 31 \nLa planète 9\, c’est bien sûr la neuvième planète du système solaire qui n’en compte plus que 8 depuis Août 2006 !\nA cette date Pluton a quitté le rang de planète et a été déclassée dans la catégorie des planètes naines.\nLes confins du système solaire ont toujours fasciné les astronomes et le grand public.\nC’est pourquoi\, nous évoquerons les découvertes successives d’Uranus\, de Neptune\, des astres au-delà de Neptune : Pluton\, Eris\, Sedna et les astéroïdes de la ceinture extérieure.\nDepuis quelques années\, une neuvième planète est activement recherchée car les trajectoires d’une dizaine de ces petits corps semblent trahir sa présence dans l’espace lointain…\nNous ferons le point sur ces recherches. \n2)   Planètes du Système Solaire et exoplanètes par Benjamin BERCY  membre de Neptunion 31\n\nDepuis la nuit des temps l’humanité est motivée par l’exploration de l’Univers. Aujourd’hui l’intégralité des terres émergées ont été explorées et la Lune a également fait l’objet de multiples expéditions.\nQu’est-ce qui motive de telles épopées ? La diversité\, la soif de savoir et surtout la grande question : Quelle est notre place dans l’Univers ?\nNotre Soleil possède 8 planètes majeures et une vingtaine de planètes naines.\nChaque étoile visible dans notre ciel nocturne compte en moyenne 2 planètes majeures\, et pourtant aucune ne ressemble vraiment à la Terre ni à aucune autre planète du Système solaire. \n  \n 
URL:https://www.ville-lunion.fr/evenement/conference-de-lassociation-neptunion-2/
LOCATION:Salle des fêtes de L’Union\, 6 Avenue des Pyrénées\, L'Union\, 31240\, France
CATEGORIES:Associations
ATTACH;FMTTYPE=image/jpeg:https://www.ville-lunion.fr/wp-content/uploads/2018/09/19-10-18.jpg
END:VEVENT
END:VCALENDAR