BEGIN:VCALENDAR
VERSION:2.0
PRODID:-//Ville de L&#039;Union - ECPv6.15.13//NONSGML v1.0//EN
CALSCALE:GREGORIAN
METHOD:PUBLISH
X-ORIGINAL-URL:https://www.ville-lunion.fr
X-WR-CALDESC:Évènements pour Ville de L&#039;Union
REFRESH-INTERVAL;VALUE=DURATION:PT1H
X-Robots-Tag:noindex
X-PUBLISHED-TTL:PT1H
BEGIN:VTIMEZONE
TZID:Europe/Paris
BEGIN:DAYLIGHT
TZOFFSETFROM:+0100
TZOFFSETTO:+0200
TZNAME:CEST
DTSTART:20170326T010000
END:DAYLIGHT
BEGIN:STANDARD
TZOFFSETFROM:+0200
TZOFFSETTO:+0100
TZNAME:CET
DTSTART:20171029T010000
END:STANDARD
BEGIN:DAYLIGHT
TZOFFSETFROM:+0100
TZOFFSETTO:+0200
TZNAME:CEST
DTSTART:20180325T010000
END:DAYLIGHT
BEGIN:STANDARD
TZOFFSETFROM:+0200
TZOFFSETTO:+0100
TZNAME:CET
DTSTART:20181028T010000
END:STANDARD
BEGIN:DAYLIGHT
TZOFFSETFROM:+0100
TZOFFSETTO:+0200
TZNAME:CEST
DTSTART:20190331T010000
END:DAYLIGHT
BEGIN:STANDARD
TZOFFSETFROM:+0200
TZOFFSETTO:+0100
TZNAME:CET
DTSTART:20191027T010000
END:STANDARD
END:VTIMEZONE
BEGIN:VEVENT
DTSTART;TZID=Europe/Paris:20181018T140000
DTEND;TZID=Europe/Paris:20181018T140000
DTSTAMP:20260423T134849
CREATED:20180918T170534Z
LAST-MODIFIED:20181009T121654Z
UID:36895-1539871200-1539871200@www.ville-lunion.fr
SUMMARY:Après-midi séniors
DESCRIPTION:Quel sport pratiquer ? Quels loisirs possibles sur la commune ? Comment se déplacer ? Quels sont les dispositifs pour se maintenir à domicile ? Autant de questions qui peuvent se poser quand on devient moins actif. \nPour vous permettre de vous renseigner sur les différents dispositifs existant à L’Union\, le CCAS vous propose de rejoindre les acteurs associatifs intervenant dans le domaine des sports\, des loisirs mais aussi des services (aide à domicile mutuelle\, logement). \nEntrée libre \nPlus d’informations au CCAS 05 62 79 86 16 \n 
URL:https://www.ville-lunion.fr/evenement/apres-midi-seniors/
CATEGORIES:Mairie
ATTACH;FMTTYPE=image/jpeg:https://www.ville-lunion.fr/wp-content/uploads/2018/09/am-seniors.jpg
END:VEVENT
END:VCALENDAR