BEGIN:VCALENDAR
VERSION:2.0
PRODID:-//Ville de L&#039;Union - ECPv6.15.13//NONSGML v1.0//EN
CALSCALE:GREGORIAN
METHOD:PUBLISH
X-ORIGINAL-URL:https://www.ville-lunion.fr
X-WR-CALDESC:Évènements pour Ville de L&#039;Union
REFRESH-INTERVAL;VALUE=DURATION:PT1H
X-Robots-Tag:noindex
X-PUBLISHED-TTL:PT1H
BEGIN:VTIMEZONE
TZID:Europe/Paris
BEGIN:DAYLIGHT
TZOFFSETFROM:+0100
TZOFFSETTO:+0200
TZNAME:CEST
DTSTART:20170326T010000
END:DAYLIGHT
BEGIN:STANDARD
TZOFFSETFROM:+0200
TZOFFSETTO:+0100
TZNAME:CET
DTSTART:20171029T010000
END:STANDARD
BEGIN:DAYLIGHT
TZOFFSETFROM:+0100
TZOFFSETTO:+0200
TZNAME:CEST
DTSTART:20180325T010000
END:DAYLIGHT
BEGIN:STANDARD
TZOFFSETFROM:+0200
TZOFFSETTO:+0100
TZNAME:CET
DTSTART:20181028T010000
END:STANDARD
BEGIN:DAYLIGHT
TZOFFSETFROM:+0100
TZOFFSETTO:+0200
TZNAME:CEST
DTSTART:20190331T010000
END:DAYLIGHT
BEGIN:STANDARD
TZOFFSETFROM:+0200
TZOFFSETTO:+0100
TZNAME:CET
DTSTART:20191027T010000
END:STANDARD
END:VTIMEZONE
BEGIN:VEVENT
DTSTART;VALUE=DATE:20181012
DTEND;VALUE=DATE:20181015
DTSTAMP:20260423T135230
CREATED:20180918T124652Z
LAST-MODIFIED:20180918T124652Z
UID:36877-1539302400-1539561599@www.ville-lunion.fr
SUMMARY:Salon des fossiles et minéraux
DESCRIPTION:Salon ouvert de 10 à 19 h\nVendredi 12 réservé aux scolaires en\ngroupe (mais aussi au public)
URL:https://www.ville-lunion.fr/evenement/salon-des-fossiles-et-mineraux/
LOCATION:Grande Halle de l’Union\, Rue du Somport\, L'Union\, 31240\, France
CATEGORIES:Associations
ATTACH;FMTTYPE=image/jpeg:https://www.ville-lunion.fr/wp-content/uploads/2018/09/salon-fossiles.jpg
END:VEVENT
BEGIN:VEVENT
DTSTART;TZID=Europe/Paris:20181013T194500
DTEND;TZID=Europe/Paris:20181013T194500
DTSTAMP:20260423T135230
CREATED:20180919T094254Z
LAST-MODIFIED:20180921T100521Z
UID:36899-1539459900-1539459900@www.ville-lunion.fr
SUMMARY:Rallumons les étoiles
DESCRIPTION:Le 13 Octobre 2018 venez fêter la nuit noire avec les membres de Neptunion 31 et leurs instruments d’observation astronomique. \nIls vous attendent à partir de 19h45 Place San Biagio. Une extinction des lumières en périphérie du site est prévue afin de pouvoir observer Mars\, Saturne et des beautés du ciel profond.
URL:https://www.ville-lunion.fr/evenement/rallumons-les-etoiles/
LOCATION:Place San Biagio\, place San Biagio\, L'UNION\, 31240\, France
CATEGORIES:Associations
ATTACH;FMTTYPE=image/jpeg:https://www.ville-lunion.fr/wp-content/uploads/2018/09/rallumons.jpg
END:VEVENT
END:VCALENDAR