BEGIN:VCALENDAR
VERSION:2.0
PRODID:-//Ville de L&#039;Union - ECPv6.15.13//NONSGML v1.0//EN
CALSCALE:GREGORIAN
METHOD:PUBLISH
X-WR-CALNAME:Ville de L&#039;Union
X-ORIGINAL-URL:https://www.ville-lunion.fr
X-WR-CALDESC:Évènements pour Ville de L&#039;Union
REFRESH-INTERVAL;VALUE=DURATION:PT1H
X-Robots-Tag:noindex
X-PUBLISHED-TTL:PT1H
BEGIN:VTIMEZONE
TZID:Europe/Paris
BEGIN:DAYLIGHT
TZOFFSETFROM:+0100
TZOFFSETTO:+0200
TZNAME:CEST
DTSTART:20170326T010000
END:DAYLIGHT
BEGIN:STANDARD
TZOFFSETFROM:+0200
TZOFFSETTO:+0100
TZNAME:CET
DTSTART:20171029T010000
END:STANDARD
BEGIN:DAYLIGHT
TZOFFSETFROM:+0100
TZOFFSETTO:+0200
TZNAME:CEST
DTSTART:20180325T010000
END:DAYLIGHT
BEGIN:STANDARD
TZOFFSETFROM:+0200
TZOFFSETTO:+0100
TZNAME:CET
DTSTART:20181028T010000
END:STANDARD
BEGIN:DAYLIGHT
TZOFFSETFROM:+0100
TZOFFSETTO:+0200
TZNAME:CEST
DTSTART:20190331T010000
END:DAYLIGHT
BEGIN:STANDARD
TZOFFSETFROM:+0200
TZOFFSETTO:+0100
TZNAME:CET
DTSTART:20191027T010000
END:STANDARD
END:VTIMEZONE
BEGIN:VEVENT
DTSTART;TZID=Europe/Paris:20181007T153000
DTEND;TZID=Europe/Paris:20181007T153000
DTSTAMP:20260423T134708
CREATED:20180918T131711Z
LAST-MODIFIED:20180928T135615Z
UID:36891-1538926200-1538926200@www.ville-lunion.fr
SUMMARY:thé dansant
DESCRIPTION:de l’Orchestre d’Accordéons de L’Union \nEntré libre
URL:https://www.ville-lunion.fr/evenement/the-dansant-5/
LOCATION:Salle des fêtes de L’Union\, 6 Avenue des Pyrénées\, L'Union\, 31240\, France
CATEGORIES:Associations
ATTACH;FMTTYPE=image/jpeg:https://www.ville-lunion.fr/wp-content/uploads/2018/09/accordeon-7-10.jpg
END:VEVENT
BEGIN:VEVENT
DTSTART;TZID=Europe/Paris:20181007T153000
DTEND;TZID=Europe/Paris:20181007T153000
DTSTAMP:20260423T134708
CREATED:20180928T135201Z
LAST-MODIFIED:20180928T135220Z
UID:36949-1538926200-1538926200@www.ville-lunion.fr
SUMMARY:concert de l'école de musique
DESCRIPTION:Orchestre d’Harmonie du Frontonnais \nOrchestre départemental d’Harmonie Junior de la Haute-Garonne \n 
URL:https://www.ville-lunion.fr/evenement/concert-de-lecole-de-musique-3/
LOCATION:Grande Halle de l’Union\, Rue du Somport\, L'Union\, 31240\, France
CATEGORIES:Associations
ATTACH;FMTTYPE=image/jpeg:https://www.ville-lunion.fr/wp-content/uploads/2018/09/Affiche-Juniors-LUnion-7-oct-2018.jpg
END:VEVENT
END:VCALENDAR