BEGIN:VCALENDAR
VERSION:2.0
PRODID:-//Ville de L&#039;Union - ECPv6.15.13//NONSGML v1.0//EN
CALSCALE:GREGORIAN
METHOD:PUBLISH
X-ORIGINAL-URL:https://www.ville-lunion.fr
X-WR-CALDESC:Évènements pour Ville de L&#039;Union
REFRESH-INTERVAL;VALUE=DURATION:PT1H
X-Robots-Tag:noindex
X-PUBLISHED-TTL:PT1H
BEGIN:VTIMEZONE
TZID:Europe/Paris
BEGIN:DAYLIGHT
TZOFFSETFROM:+0100
TZOFFSETTO:+0200
TZNAME:CEST
DTSTART:20170326T010000
END:DAYLIGHT
BEGIN:STANDARD
TZOFFSETFROM:+0200
TZOFFSETTO:+0100
TZNAME:CET
DTSTART:20171029T010000
END:STANDARD
BEGIN:DAYLIGHT
TZOFFSETFROM:+0100
TZOFFSETTO:+0200
TZNAME:CEST
DTSTART:20180325T010000
END:DAYLIGHT
BEGIN:STANDARD
TZOFFSETFROM:+0200
TZOFFSETTO:+0100
TZNAME:CET
DTSTART:20181028T010000
END:STANDARD
BEGIN:DAYLIGHT
TZOFFSETFROM:+0100
TZOFFSETTO:+0200
TZNAME:CEST
DTSTART:20190331T010000
END:DAYLIGHT
BEGIN:STANDARD
TZOFFSETFROM:+0200
TZOFFSETTO:+0100
TZNAME:CET
DTSTART:20191027T010000
END:STANDARD
END:VTIMEZONE
BEGIN:VEVENT
DTSTART;TZID=Europe/Paris:20180924T140000
DTEND;TZID=Europe/Paris:20180924T140000
DTSTAMP:20260423T151031
CREATED:20180903T121519Z
LAST-MODIFIED:20180903T121519Z
UID:36771-1537797600-1537797600@www.ville-lunion.fr
SUMMARY:CONFÉRENCE STOP ARNAQUES
DESCRIPTION:La maison des solidarités et la gendarmerie nationale en partenariat avec le CCAS de la ville de L’Union vous proposent dans le cadre de la coordination gérontologique une conférence sur le thème des arnaques et escroqueries à éviter. Quelles précautions prendre ? Comment les repérer ? A quel moment contacter la gendarmerie ? Après une présentation des arnaques dont les aînés sont les plus souvent victimes et les conseils pour les éviter\, un temps d’échange sera organisé. L’entrée est libre.
URL:https://www.ville-lunion.fr/evenement/conference-stop-arnaques/
LOCATION:Salle des fêtes de L’Union\, 6 Avenue des Pyrénées\, L'Union\, 31240\, France
CATEGORIES:Mairie
ATTACH;FMTTYPE=image/jpeg:https://www.ville-lunion.fr/wp-content/uploads/2018/09/arnaques.jpg
END:VEVENT
END:VCALENDAR