BEGIN:VCALENDAR
VERSION:2.0
PRODID:-//Ville de L&#039;Union - ECPv6.15.13//NONSGML v1.0//EN
CALSCALE:GREGORIAN
METHOD:PUBLISH
X-ORIGINAL-URL:https://www.ville-lunion.fr
X-WR-CALDESC:Évènements pour Ville de L&#039;Union
REFRESH-INTERVAL;VALUE=DURATION:PT1H
X-Robots-Tag:noindex
X-PUBLISHED-TTL:PT1H
BEGIN:VTIMEZONE
TZID:Europe/Paris
BEGIN:DAYLIGHT
TZOFFSETFROM:+0100
TZOFFSETTO:+0200
TZNAME:CEST
DTSTART:20170326T010000
END:DAYLIGHT
BEGIN:STANDARD
TZOFFSETFROM:+0200
TZOFFSETTO:+0100
TZNAME:CET
DTSTART:20171029T010000
END:STANDARD
BEGIN:DAYLIGHT
TZOFFSETFROM:+0100
TZOFFSETTO:+0200
TZNAME:CEST
DTSTART:20180325T010000
END:DAYLIGHT
BEGIN:STANDARD
TZOFFSETFROM:+0200
TZOFFSETTO:+0100
TZNAME:CET
DTSTART:20181028T010000
END:STANDARD
BEGIN:DAYLIGHT
TZOFFSETFROM:+0100
TZOFFSETTO:+0200
TZNAME:CEST
DTSTART:20190331T010000
END:DAYLIGHT
BEGIN:STANDARD
TZOFFSETFROM:+0200
TZOFFSETTO:+0100
TZNAME:CET
DTSTART:20191027T010000
END:STANDARD
END:VTIMEZONE
BEGIN:VEVENT
DTSTART;TZID=Europe/Paris:20180915T100000
DTEND;TZID=Europe/Paris:20180915T120000
DTSTAMP:20260423T150644
CREATED:20180904T164125Z
LAST-MODIFIED:20180907T130735Z
UID:36819-1537005600-1537012800@www.ville-lunion.fr
SUMMARY:LE WORLD CLEANUP DAY
DESCRIPTION:Dans le cadre de cette campagne mondiale de ramassage des déchets\, un événement se tiendra près de chez vous le samedi 15 septembre de 10h à 12h\nDépart : parking en face du restaurant Mac Donald\, avenue de Saint Caprais.\nLes participants remonteront le long de l’Hers\, puis de la Sausse pour terminer au lac\, où un déjeuner sur l’herbe sera organisé. Les enfants sont les bienvenus.\nLa commission citoyenne environnement se joindra à cet évènement civique.\nRetrouver l’événement sur le site de l’association World clean up day : réf. n° 4561 Lac_lunion .
URL:https://www.ville-lunion.fr/evenement/le-world-cleanup-day/
CATEGORIES:Mairie
ATTACH;FMTTYPE=image/jpeg:https://www.ville-lunion.fr/wp-content/uploads/2018/09/world-cleanup-day.jpg
END:VEVENT
END:VCALENDAR