BEGIN:VCALENDAR
VERSION:2.0
PRODID:-//Ville de L&#039;Union - ECPv6.15.13//NONSGML v1.0//EN
CALSCALE:GREGORIAN
METHOD:PUBLISH
X-WR-CALNAME:Ville de L&#039;Union
X-ORIGINAL-URL:https://www.ville-lunion.fr
X-WR-CALDESC:Évènements pour Ville de L&#039;Union
REFRESH-INTERVAL;VALUE=DURATION:PT1H
X-Robots-Tag:noindex
X-PUBLISHED-TTL:PT1H
BEGIN:VTIMEZONE
TZID:Europe/Paris
BEGIN:DAYLIGHT
TZOFFSETFROM:+0100
TZOFFSETTO:+0200
TZNAME:CEST
DTSTART:20170326T010000
END:DAYLIGHT
BEGIN:STANDARD
TZOFFSETFROM:+0200
TZOFFSETTO:+0100
TZNAME:CET
DTSTART:20171029T010000
END:STANDARD
BEGIN:DAYLIGHT
TZOFFSETFROM:+0100
TZOFFSETTO:+0200
TZNAME:CEST
DTSTART:20180325T010000
END:DAYLIGHT
BEGIN:STANDARD
TZOFFSETFROM:+0200
TZOFFSETTO:+0100
TZNAME:CET
DTSTART:20181028T010000
END:STANDARD
BEGIN:DAYLIGHT
TZOFFSETFROM:+0100
TZOFFSETTO:+0200
TZNAME:CEST
DTSTART:20190331T010000
END:DAYLIGHT
BEGIN:STANDARD
TZOFFSETFROM:+0200
TZOFFSETTO:+0100
TZNAME:CET
DTSTART:20191027T010000
END:STANDARD
END:VTIMEZONE
BEGIN:VEVENT
DTSTART;VALUE=DATE:20180824
DTEND;VALUE=DATE:20180827
DTSTAMP:20260423T162901
CREATED:20180604T074834Z
LAST-MODIFIED:20180813T092543Z
UID:35999-1535068800-1535327999@www.ville-lunion.fr
SUMMARY:Grande fête de L'Union
DESCRIPTION:Le 24 août prochain\, avant de ressortir cartables et cravates\, nous vous donnons rendez-vous pour une nouvelle édition des Fêtes. Au programme :\nVENDREDI 24 AOÛT 2018 :\n• 22h : ouverture des fêtes avec l’orchestre ABYSS. \nSAMEDI 25 AOÛT 2018 :\n• 10h-16h : journée enfants et ados au bord du lac\, jeux traditionnels\, initiation à la pêche\, à la navigation\, découvertes sportives. Possibilité de pique-niquer sur place.\n• 14h : concours de pétanque des fêtes au boulodrome des acacias en partenariat avec l’ASBU\, (Inscriptions sur place le jour du concours). Ouvert aux unionais.\n• 22h : soirée animée par IZAR ADATZ. \nDIMANCHE 26 AOÛT :\n• 15h30 : Bal Musette à la Grande Halle animé par DAVID ARNAUD.\n• 22h : Bal à la Grande Halle animé par DAVID ARNAUD. \navec spectacle pyro-symphonique au stade St Caprais le dimanche 26 août à 22h. \n 
URL:https://www.ville-lunion.fr/evenement/grandes-fetes-de-lunion/
CATEGORIES:Manifestations
ATTACH;FMTTYPE=image/jpeg:https://www.ville-lunion.fr/wp-content/uploads/2018/06/fete2018.jpg
END:VEVENT
END:VCALENDAR