BEGIN:VCALENDAR
VERSION:2.0
PRODID:-//Ville de L&#039;Union - ECPv6.15.13//NONSGML v1.0//EN
CALSCALE:GREGORIAN
METHOD:PUBLISH
X-WR-CALNAME:Ville de L&#039;Union
X-ORIGINAL-URL:https://www.ville-lunion.fr
X-WR-CALDESC:Évènements pour Ville de L&#039;Union
REFRESH-INTERVAL;VALUE=DURATION:PT1H
X-Robots-Tag:noindex
X-PUBLISHED-TTL:PT1H
BEGIN:VTIMEZONE
TZID:Europe/Paris
BEGIN:DAYLIGHT
TZOFFSETFROM:+0100
TZOFFSETTO:+0200
TZNAME:CEST
DTSTART:20170326T010000
END:DAYLIGHT
BEGIN:STANDARD
TZOFFSETFROM:+0200
TZOFFSETTO:+0100
TZNAME:CET
DTSTART:20171029T010000
END:STANDARD
BEGIN:DAYLIGHT
TZOFFSETFROM:+0100
TZOFFSETTO:+0200
TZNAME:CEST
DTSTART:20180325T010000
END:DAYLIGHT
BEGIN:STANDARD
TZOFFSETFROM:+0200
TZOFFSETTO:+0100
TZNAME:CET
DTSTART:20181028T010000
END:STANDARD
BEGIN:DAYLIGHT
TZOFFSETFROM:+0100
TZOFFSETTO:+0200
TZNAME:CEST
DTSTART:20190331T010000
END:DAYLIGHT
BEGIN:STANDARD
TZOFFSETFROM:+0200
TZOFFSETTO:+0100
TZNAME:CET
DTSTART:20191027T010000
END:STANDARD
END:VTIMEZONE
BEGIN:VEVENT
DTSTART;TZID=Europe/Paris:20180718T150000
DTEND;TZID=Europe/Paris:20180718T150000
DTSTAMP:20260423T192020
CREATED:20180604T074000Z
LAST-MODIFIED:20180604T074229Z
UID:35992-1531926000-1531926000@www.ville-lunion.fr
SUMMARY:PARTIR EN LIVRE
DESCRIPTION:Manifestation nationale gratuite\, populaire et festive\, organisée par le centre national du livre.\nL’ambition est de faire sortir le livre de ses lieux habituels pour aller à la rencontre des enfants et des jeunes\, et pour leur transmettre le plaisir de la lecture.\nLes lieux où se dérouleront ces animations seront définis en cours d’année. \nCette fête est organisée en partenariat avec la bibliothèque Plaisir de lire et la librairie Les passantes. \nJEUNE PUBLIC\nanimations littéraires destinées aux jeunes Unionais \nATELIER CARTE SURPRISE \nanimé par l’auteure-illustratrice Sophie Vissière \nMercredi 18 juillet > 15h00 -16h15 / lecture à 16h30 • Librairie Les Passantes \n(43\, avenue de Toulouse) \nViens fabriquer une carte avec un «flap» en imaginant ce qui pourrait bien se cacher dans le cadeau qui attend Andrée\, l’héroïne du dernier album de Sophie Vissière ! (durée 1h15) \nL’atelier sera suivi à 16h30 d’une lecture par l’auteure-illustratrice de son dernier album Pour Andrée\, Hélium\, 2018\, puis à 16h45 d’une séance de dédicace. \nDe 4 à 6 ans • Sur inscription au 05 67 08 52 36 \nProgramme complet sur https://www.partir-en-livre.fr/
URL:https://www.ville-lunion.fr/evenement/partir-en-livre-3/
LOCATION:Librairie les Passantes\, 43 Avenue de Toulouse\, L'UNION\, 31240
CATEGORIES:Manifestations
ATTACH;FMTTYPE=image/jpeg:https://www.ville-lunion.fr/wp-content/uploads/2017/09/partir-en-livre1.jpg
END:VEVENT
END:VCALENDAR