BEGIN:VCALENDAR
VERSION:2.0
PRODID:-//Ville de L&#039;Union - ECPv6.15.13//NONSGML v1.0//EN
CALSCALE:GREGORIAN
METHOD:PUBLISH
X-WR-CALNAME:Ville de L&#039;Union
X-ORIGINAL-URL:https://www.ville-lunion.fr
X-WR-CALDESC:Évènements pour Ville de L&#039;Union
REFRESH-INTERVAL;VALUE=DURATION:PT1H
X-Robots-Tag:noindex
X-PUBLISHED-TTL:PT1H
BEGIN:VTIMEZONE
TZID:Europe/Paris
BEGIN:DAYLIGHT
TZOFFSETFROM:+0100
TZOFFSETTO:+0200
TZNAME:CEST
DTSTART:20170326T010000
END:DAYLIGHT
BEGIN:STANDARD
TZOFFSETFROM:+0200
TZOFFSETTO:+0100
TZNAME:CET
DTSTART:20171029T010000
END:STANDARD
BEGIN:DAYLIGHT
TZOFFSETFROM:+0100
TZOFFSETTO:+0200
TZNAME:CEST
DTSTART:20180325T010000
END:DAYLIGHT
BEGIN:STANDARD
TZOFFSETFROM:+0200
TZOFFSETTO:+0100
TZNAME:CET
DTSTART:20181028T010000
END:STANDARD
BEGIN:DAYLIGHT
TZOFFSETFROM:+0100
TZOFFSETTO:+0200
TZNAME:CEST
DTSTART:20190331T010000
END:DAYLIGHT
BEGIN:STANDARD
TZOFFSETFROM:+0200
TZOFFSETTO:+0100
TZNAME:CET
DTSTART:20191027T010000
END:STANDARD
END:VTIMEZONE
BEGIN:VEVENT
DTSTART;TZID=Europe/Paris:20180709T210000
DTEND;TZID=Europe/Paris:20180709T210000
DTSTAMP:20260423T174837
CREATED:20180604T141244Z
LAST-MODIFIED:20180604T141244Z
UID:36034-1531170000-1531170000@www.ville-lunion.fr
SUMMARY:Gala folklorique
DESCRIPTION:Folklore Tchèque\nDans le cadre de leurs échanges avec nos voisins européens\, le Quadrille Occitan accueille le groupe tchèque : CTYRLISTEK de NOVE STRASECI\, sous la direction\nde Monsieur Tomas VAVRA.\nCe groupe vient de la ville de Nove Straseci et présente chants et danses de cette région. En leur compagnie\, l’association participera au Grand Fénétra de Toulouse\, après avoir animé les fêtes de la Saint Jean à Allauch (13) .\nToutes les personnes intéressées par la danse ou la musique peuvent venir rejoindre l’association et connaître le plaisir de rencontres enrichissantes. Contact : lequadrilleoccitan@gmail.com \nEntrée libre et gratuite.
URL:https://www.ville-lunion.fr/evenement/gala-folklorique-2/
LOCATION:Grande Halle de l’Union\, Rue du Somport\, L'Union\, 31240\, France
CATEGORIES:Associations
ATTACH;FMTTYPE=image/jpeg:https://www.ville-lunion.fr/wp-content/uploads/2018/06/folklore1.jpg
END:VEVENT
END:VCALENDAR