BEGIN:VCALENDAR
VERSION:2.0
PRODID:-//Ville de L&#039;Union - ECPv6.15.13//NONSGML v1.0//EN
CALSCALE:GREGORIAN
METHOD:PUBLISH
X-WR-CALNAME:Ville de L&#039;Union
X-ORIGINAL-URL:https://www.ville-lunion.fr
X-WR-CALDESC:Évènements pour Ville de L&#039;Union
REFRESH-INTERVAL;VALUE=DURATION:PT1H
X-Robots-Tag:noindex
X-PUBLISHED-TTL:PT1H
BEGIN:VTIMEZONE
TZID:Europe/Paris
BEGIN:DAYLIGHT
TZOFFSETFROM:+0100
TZOFFSETTO:+0200
TZNAME:CEST
DTSTART:20170326T010000
END:DAYLIGHT
BEGIN:STANDARD
TZOFFSETFROM:+0200
TZOFFSETTO:+0100
TZNAME:CET
DTSTART:20171029T010000
END:STANDARD
BEGIN:DAYLIGHT
TZOFFSETFROM:+0100
TZOFFSETTO:+0200
TZNAME:CEST
DTSTART:20180325T010000
END:DAYLIGHT
BEGIN:STANDARD
TZOFFSETFROM:+0200
TZOFFSETTO:+0100
TZNAME:CET
DTSTART:20181028T010000
END:STANDARD
BEGIN:DAYLIGHT
TZOFFSETFROM:+0100
TZOFFSETTO:+0200
TZNAME:CEST
DTSTART:20190331T010000
END:DAYLIGHT
BEGIN:STANDARD
TZOFFSETFROM:+0200
TZOFFSETTO:+0100
TZNAME:CET
DTSTART:20191027T010000
END:STANDARD
END:VTIMEZONE
BEGIN:VEVENT
DTSTART;TZID=Europe/Paris:20180704T183000
DTEND;TZID=Europe/Paris:20180704T183000
DTSTAMP:20260423T191848
CREATED:20180115T150723Z
LAST-MODIFIED:20180629T093428Z
UID:34876-1530729000-1530729000@www.ville-lunion.fr
SUMMARY:Conseil Municipal
DESCRIPTION:Ordre du jour\nDésignation d’un secrétaire de séance \n1- Informations du Maire \n2- Adoption du Procès-Verbal 2018-04 du Conseil Municipal du 30 mai 2018 \n3- Urbanisme et Travaux\n3.1. Agence d’Urbanisme et d’Aménagement de Toulouse Aire Urbaine – AUAT – Avenant 14 à la convention cadre du 13 avril 2005\n3.2. Syndicat Départemental d’Energie de la Haute-Garonne SDEHG – Enfouissement des réseaux chemin de la Violette – Approbation de l’avant-Projet sommaire – \n4- Culture\n4.1. Convention de partenariat culturel avec l’association Cléante\n4.2. Convention de partenariat « Partir en Livre »\n4.3. Lecture Publique – Conventions avec le Conseil Départemental de la Haute-Garonne et avec l’association Plaisir de Lire \n5- Ressources Humaines\n5.1. Détermination de la composition du Comité Technique en vue des élections du 06 décembre 2018 – Annule et remplace la délibération 2018-62\n5.2. Détermination de la composition du Comité d’Hygiène\, de Sécurité et des Conditions de Travail en vue des élections du 06 décembre 2018 – Annule et remplace la délibération 2018-63 \n6- Toulouse Métropole\n6.1. Toulouse Métropole – Ouvertures dominicales 2019 \n7- Citoy’enR\n7.1. Désignation d’un représentant au sein du Conseil d’Administration de Citoy’enR \n8- Proposition de motion du Conseil Municipal relative au déploiement des compteurs Linky par la société Enedis \n9- Arrêtés du Maire \n10- Questions diverses
URL:https://www.ville-lunion.fr/evenement/conseil-municipal-11/
LOCATION:Salle des fêtes de L’Union\, 6 Avenue des Pyrénées\, L'Union\, 31240\, France
CATEGORIES:Mairie
ATTACH;FMTTYPE=image/jpeg:https://www.ville-lunion.fr/wp-content/uploads/2016/12/mairie-8d61f-1.jpg
END:VEVENT
END:VCALENDAR