BEGIN:VCALENDAR
VERSION:2.0
PRODID:-//Ville de L&#039;Union - ECPv6.15.13//NONSGML v1.0//EN
CALSCALE:GREGORIAN
METHOD:PUBLISH
X-ORIGINAL-URL:https://www.ville-lunion.fr
X-WR-CALDESC:Évènements pour Ville de L&#039;Union
REFRESH-INTERVAL;VALUE=DURATION:PT1H
X-Robots-Tag:noindex
X-PUBLISHED-TTL:PT1H
BEGIN:VTIMEZONE
TZID:Europe/Paris
BEGIN:DAYLIGHT
TZOFFSETFROM:+0100
TZOFFSETTO:+0200
TZNAME:CEST
DTSTART:20170326T010000
END:DAYLIGHT
BEGIN:STANDARD
TZOFFSETFROM:+0200
TZOFFSETTO:+0100
TZNAME:CET
DTSTART:20171029T010000
END:STANDARD
BEGIN:DAYLIGHT
TZOFFSETFROM:+0100
TZOFFSETTO:+0200
TZNAME:CEST
DTSTART:20180325T010000
END:DAYLIGHT
BEGIN:STANDARD
TZOFFSETFROM:+0200
TZOFFSETTO:+0100
TZNAME:CET
DTSTART:20181028T010000
END:STANDARD
BEGIN:DAYLIGHT
TZOFFSETFROM:+0100
TZOFFSETTO:+0200
TZNAME:CEST
DTSTART:20190331T010000
END:DAYLIGHT
BEGIN:STANDARD
TZOFFSETFROM:+0200
TZOFFSETTO:+0100
TZNAME:CET
DTSTART:20191027T010000
END:STANDARD
END:VTIMEZONE
BEGIN:VEVENT
DTSTART;VALUE=DATE:20180609
DTEND;VALUE=DATE:20180611
DTSTAMP:20260423T192221
CREATED:20180604T142900Z
LAST-MODIFIED:20180604T142900Z
UID:36044-1528502400-1528675199@www.ville-lunion.fr
SUMMARY:Braderie du Secours Populaire
DESCRIPTION:POUR QUI : braderies ouvertes à tous. Venez faire de bonnes affaires. Votre visite sera un encouragement. \nQUOI : vêtements neufs ou en très bon état\, petit ménager\, vaisselle\, livres\, DVD …. provenant des dons de particuliers ou d’entreprises. \nCOMMENT : vous choississez\, vous versez la modeste contribution indiquée (toutes les recettes servent en totalité à faire reculer la pauvreté). \nET MIEUX : ramenez nous les biens ci-dessus dont vous n’avez plus l’usage. Après contrôle et tri\, vos dons pourront servir à d’autres personnes.        \nContact :  Secours Populaire Français Antenne de L’Union\, St Jean\, Castelmaurou\,Rouffiac\n9 avenue de Toulouse\, Zone Loubet\, local 54\,\n31240 L’ Union\nTel : 07 86 21 30 51 • Contact : spf.lunion@gmail.com                   
URL:https://www.ville-lunion.fr/evenement/braderie-du-secours-populaire/
LOCATION:Salle des fêtes de L’Union\, 6 Avenue des Pyrénées\, L'Union\, 31240\, France
CATEGORIES:Associations
ATTACH;FMTTYPE=image/jpeg:https://www.ville-lunion.fr/wp-content/uploads/2017/03/Secours-Populaire.jpg
ORGANIZER;CN="Secours Populaire Fran%C3%A7ais Antenne de l'Union":MAILTO:spf.lunion@gmail.com Horaires
END:VEVENT
END:VCALENDAR