BEGIN:VCALENDAR
VERSION:2.0
PRODID:-//Ville de L&#039;Union - ECPv6.15.13//NONSGML v1.0//EN
CALSCALE:GREGORIAN
METHOD:PUBLISH
X-ORIGINAL-URL:https://www.ville-lunion.fr
X-WR-CALDESC:Évènements pour Ville de L&#039;Union
REFRESH-INTERVAL;VALUE=DURATION:PT1H
X-Robots-Tag:noindex
X-PUBLISHED-TTL:PT1H
BEGIN:VTIMEZONE
TZID:Europe/Paris
BEGIN:DAYLIGHT
TZOFFSETFROM:+0100
TZOFFSETTO:+0200
TZNAME:CEST
DTSTART:20170326T010000
END:DAYLIGHT
BEGIN:STANDARD
TZOFFSETFROM:+0200
TZOFFSETTO:+0100
TZNAME:CET
DTSTART:20171029T010000
END:STANDARD
BEGIN:DAYLIGHT
TZOFFSETFROM:+0100
TZOFFSETTO:+0200
TZNAME:CEST
DTSTART:20180325T010000
END:DAYLIGHT
BEGIN:STANDARD
TZOFFSETFROM:+0200
TZOFFSETTO:+0100
TZNAME:CET
DTSTART:20181028T010000
END:STANDARD
BEGIN:DAYLIGHT
TZOFFSETFROM:+0100
TZOFFSETTO:+0200
TZNAME:CEST
DTSTART:20190331T010000
END:DAYLIGHT
BEGIN:STANDARD
TZOFFSETFROM:+0200
TZOFFSETTO:+0100
TZNAME:CET
DTSTART:20191027T010000
END:STANDARD
END:VTIMEZONE
BEGIN:VEVENT
DTSTART;VALUE=DATE:20180604
DTEND;VALUE=DATE:20180609
DTSTAMP:20260423T192043
CREATED:20180604T132721Z
LAST-MODIFIED:20180604T132741Z
UID:36024-1528070400-1528502399@www.ville-lunion.fr
SUMMARY:Semaine du développement durable
DESCRIPTION:Pour la 5ème année consécutive\, les Mille Pattes de L’Union (association gérant le pédibus) organise\, en partenariat avec la mairie de L’Union\, le CHALLENGE\nÉCOMOBILITÉ pour la semaine du développement durable. \nLe challenge se déroulera pour les classes élémentaires du 4 au 8 juin.\nPendant toute la semaine\, les enfants sont encouragés à venir à l’école « autrement » : à pied\, en vélo\, en trottinette\, en bus\, en covoiturage ou … en pédibus bien sûr !\nCette année\, les trois groupes scolaires élémentaires participent à ce challenge et tous les enfants sont conviés à aller à l’école « autrement ».\nA cette occasion les 2 lignes de pedibus de l’école Belbèze fonctionneront tous les jours. Les départs du pédibus vers l’école Belbèze se font tous les mercredis à 8h35\nau rond-point de la piscine et 8h40 en haut des allées Roncevaux (et tous les jours pour la semaine du challenge) .\nN’hésitez pas à venir les rejoindre ! \nplus d’informations :\nhttp://les1000pattes.canalblog.com/\nlesmillepattesdelunion@yahoo.fr
URL:https://www.ville-lunion.fr/evenement/semaine-du-developpement-durable/
CATEGORIES:Associations,Mairie
ATTACH;FMTTYPE=image/jpeg:https://www.ville-lunion.fr/wp-content/uploads/2018/06/semaine-développement-durable.jpg
END:VEVENT
BEGIN:VEVENT
DTSTART;VALUE=DATE:20180608
DTEND;VALUE=DATE:20180609
DTSTAMP:20260423T192043
CREATED:20170906T101040Z
LAST-MODIFIED:20170906T115308Z
UID:33883-1528416000-1528502399@www.ville-lunion.fr
SUMMARY:DANSE À L’ÉCOLE
DESCRIPTION:L’accès à toutes les formes de culture est une volonté affirmée de la municipalité.\nDepuis 2015\, l’accent est mis sur le jeune public dans le cadre du programme « danse à l’école » avec la compagnie toulousaine La Baraque.\nDurant l’année\, les enfants des écoles découvrent l’art de la danse en suivant les enseignements des danseurs professionnels\nde la compagnie\, associant création et sensibilisation.\nUne restitution de ce travail-création est proposée en fin d’année\, lors d’une soirée exceptionnelle qui réunit plus de 400 spectateurs.\nA cette occasion\, la compagnie propose aussi son propre spectacle. \nTOUT PUBLIC\nspectacle gratuit\nouvert à tous.
URL:https://www.ville-lunion.fr/evenement/danse-a-lecole-2/
CATEGORIES:Mairie,Spectacles
ATTACH;FMTTYPE=image/jpeg:https://www.ville-lunion.fr/wp-content/uploads/2017/09/MG_9608-2.jpg
END:VEVENT
END:VCALENDAR