BEGIN:VCALENDAR
VERSION:2.0
PRODID:-//Ville de L&#039;Union - ECPv6.15.13//NONSGML v1.0//EN
CALSCALE:GREGORIAN
METHOD:PUBLISH
X-ORIGINAL-URL:https://www.ville-lunion.fr
X-WR-CALDESC:Évènements pour Ville de L&#039;Union
REFRESH-INTERVAL;VALUE=DURATION:PT1H
X-Robots-Tag:noindex
X-PUBLISHED-TTL:PT1H
BEGIN:VTIMEZONE
TZID:Europe/Paris
BEGIN:DAYLIGHT
TZOFFSETFROM:+0100
TZOFFSETTO:+0200
TZNAME:CEST
DTSTART:20170326T010000
END:DAYLIGHT
BEGIN:STANDARD
TZOFFSETFROM:+0200
TZOFFSETTO:+0100
TZNAME:CET
DTSTART:20171029T010000
END:STANDARD
BEGIN:DAYLIGHT
TZOFFSETFROM:+0100
TZOFFSETTO:+0200
TZNAME:CEST
DTSTART:20180325T010000
END:DAYLIGHT
BEGIN:STANDARD
TZOFFSETFROM:+0200
TZOFFSETTO:+0100
TZNAME:CET
DTSTART:20181028T010000
END:STANDARD
BEGIN:DAYLIGHT
TZOFFSETFROM:+0100
TZOFFSETTO:+0200
TZNAME:CEST
DTSTART:20190331T010000
END:DAYLIGHT
BEGIN:STANDARD
TZOFFSETFROM:+0200
TZOFFSETTO:+0100
TZNAME:CET
DTSTART:20191027T010000
END:STANDARD
END:VTIMEZONE
BEGIN:VEVENT
DTSTART;TZID=Europe/Paris:20180527T150000
DTEND;TZID=Europe/Paris:20180527T150000
DTSTAMP:20260423T205750
CREATED:20180206T171432Z
LAST-MODIFIED:20180518T140518Z
UID:35201-1527433200-1527433200@www.ville-lunion.fr
SUMMARY:commémoration de la journée nationale de la Résistance
DESCRIPTION:Le dimanche 27 mai à 15h à l’occasion de la journée nationale de la Résistance\, la mairie de L’Union en partenariat avec le Mémorial François Verdier vous propose une conférence à la Salle des fêtes de L’Union sur le rôle des femmes dans la Résistance à travers une série de portraits. Paulette Curvale\, Virginie Faure\, Elérika Leroy\, Greg Lamazères\, Pierre Lasry\, André Magne\, Pierre Petremann\, Edouard Raymondis présenteront l’engagement de ces femmes.(entrée libre) \nA 18h\, une cérémonie officielle d’hommage se déroulera place San Biagio en présence des autorités civiles et militaires\, des enfants du Conseil Municipal de la Jeunesse\, des\nassociations patriotiques et des familles. \nUn vin d’honneur servi sous l’olivier clôturera cette journée.
URL:https://www.ville-lunion.fr/evenement/commemoration-de-journee-nationale-de-resistance/
LOCATION:Salle des fêtes de L’Union\, 6 Avenue des Pyrénées\, L'Union\, 31240\, France
CATEGORIES:Mairie
ATTACH;FMTTYPE=image/jpeg:https://www.ville-lunion.fr/wp-content/uploads/2018/02/27-mai-2018.jpg
END:VEVENT
END:VCALENDAR