BEGIN:VCALENDAR
VERSION:2.0
PRODID:-//Ville de L&#039;Union - ECPv6.15.13//NONSGML v1.0//EN
CALSCALE:GREGORIAN
METHOD:PUBLISH
X-WR-CALNAME:Ville de L&#039;Union
X-ORIGINAL-URL:https://www.ville-lunion.fr
X-WR-CALDESC:Évènements pour Ville de L&#039;Union
REFRESH-INTERVAL;VALUE=DURATION:PT1H
X-Robots-Tag:noindex
X-PUBLISHED-TTL:PT1H
BEGIN:VTIMEZONE
TZID:Europe/Paris
BEGIN:DAYLIGHT
TZOFFSETFROM:+0100
TZOFFSETTO:+0200
TZNAME:CEST
DTSTART:20170326T010000
END:DAYLIGHT
BEGIN:STANDARD
TZOFFSETFROM:+0200
TZOFFSETTO:+0100
TZNAME:CET
DTSTART:20171029T010000
END:STANDARD
BEGIN:DAYLIGHT
TZOFFSETFROM:+0100
TZOFFSETTO:+0200
TZNAME:CEST
DTSTART:20180325T010000
END:DAYLIGHT
BEGIN:STANDARD
TZOFFSETFROM:+0200
TZOFFSETTO:+0100
TZNAME:CET
DTSTART:20181028T010000
END:STANDARD
BEGIN:DAYLIGHT
TZOFFSETFROM:+0100
TZOFFSETTO:+0200
TZNAME:CEST
DTSTART:20190331T010000
END:DAYLIGHT
BEGIN:STANDARD
TZOFFSETFROM:+0200
TZOFFSETTO:+0100
TZNAME:CET
DTSTART:20191027T010000
END:STANDARD
END:VTIMEZONE
BEGIN:VEVENT
DTSTART;VALUE=DATE:20180413
DTEND;VALUE=DATE:20180416
DTSTAMP:20260423T221732
CREATED:20180301T160707Z
LAST-MODIFIED:20180410T094958Z
UID:35453-1523577600-1523836799@www.ville-lunion.fr
SUMMARY:LES THÉÂTRALES DE L’UNION
DESCRIPTION:Un nouveau festival de théâtre amateur ! Les 13\,14 et 15 avril. \nCe festival est organisé par une toute nouvelle association constituée de membres des associations unionaises « Le théâtre de l’olivier »\,« L’oiseau moqueur »\, et le Comité Départemental 31 de la FNCTA (Fédération Nationale des Compagnies de Théâtre Amateur et d’Animation). \nIl se déroulera sur deux sites : la Salle des Fêtes et le Foyer de la Grande Halle. La programmation sera dévoilée sur le bulletin municipal d’avril et sur le site de la Mairie. Une programmation en direction des enfants est prévue le samedi matin. La Mairie\, soucieuse de soutenir la création et le spectacle vivant\, est partenaire de cet événement dans l’organisation et le soutien logistique. \n Téléchargez le programme des Théâtrales de l'Union\nINFOS PRATIQUES \nBilletterie avant chaque spectacle à l’entrée de la salle des fêtes\nSur le Net : www.festik.net\nRéservation : lestheatralesdelunion@gmail.com • 06 40 73 63 09 \nTARIF POUR UN SPECTACLE\nPlein tarif : 8€ / Réduit : 6€ * / Enfants – de 12 ans : gratuit / + 12ans 4€ \nTARIF MATINÉE ENFANTS : 4€ + un accompagnateur gratuit\nLes adultes : 4 € \nUn bar est à votre disposition entre les spectacles. \nUne restauration rapide sur le parking \n* tarif réduit sur présentation de leur carte : étudiants\, adhérents FNCTA\, chômeurs
URL:https://www.ville-lunion.fr/evenement/theatrales-de-lunion/
LOCATION:Salle des fêtes de L’Union\, 6 Avenue des Pyrénées\, L'Union\, 31240\, France
CATEGORIES:Manifestations
ATTACH;FMTTYPE=image/png:https://www.ville-lunion.fr/wp-content/uploads/2018/03/theatrales-de-lunion.png
END:VEVENT
END:VCALENDAR