BEGIN:VCALENDAR
VERSION:2.0
PRODID:-//Ville de L&#039;Union - ECPv6.15.13//NONSGML v1.0//EN
CALSCALE:GREGORIAN
METHOD:PUBLISH
X-ORIGINAL-URL:https://www.ville-lunion.fr
X-WR-CALDESC:Évènements pour Ville de L&#039;Union
REFRESH-INTERVAL;VALUE=DURATION:PT1H
X-Robots-Tag:noindex
X-PUBLISHED-TTL:PT1H
BEGIN:VTIMEZONE
TZID:Europe/Paris
BEGIN:DAYLIGHT
TZOFFSETFROM:+0100
TZOFFSETTO:+0200
TZNAME:CEST
DTSTART:20170326T010000
END:DAYLIGHT
BEGIN:STANDARD
TZOFFSETFROM:+0200
TZOFFSETTO:+0100
TZNAME:CET
DTSTART:20171029T010000
END:STANDARD
BEGIN:DAYLIGHT
TZOFFSETFROM:+0100
TZOFFSETTO:+0200
TZNAME:CEST
DTSTART:20180325T010000
END:DAYLIGHT
BEGIN:STANDARD
TZOFFSETFROM:+0200
TZOFFSETTO:+0100
TZNAME:CET
DTSTART:20181028T010000
END:STANDARD
BEGIN:DAYLIGHT
TZOFFSETFROM:+0100
TZOFFSETTO:+0200
TZNAME:CEST
DTSTART:20190331T010000
END:DAYLIGHT
BEGIN:STANDARD
TZOFFSETFROM:+0200
TZOFFSETTO:+0100
TZNAME:CET
DTSTART:20191027T010000
END:STANDARD
END:VTIMEZONE
BEGIN:VEVENT
DTSTART;TZID=Europe/Paris:20180409T200000
DTEND;TZID=Europe/Paris:20180409T200000
DTSTAMP:20260423T221759
CREATED:20180216T104436Z
LAST-MODIFIED:20180216T104436Z
UID:35288-1523304000-1523304000@www.ville-lunion.fr
SUMMARY:Ciné-débat soirée spéciale 'NUTRITION’ au Lumière
DESCRIPTION:projection du film SUGARLAND suivi d’un débat animé par le Professeur Patrick Ritz chef du service Nutrition et Santé au CHU de Rangueil. \nLe sucre est partout ! Toute notre industrie agroalimentaire en est dépendante. Comment cet aliment a pu s’infiltrer\, souvent à notre insu\, au cœur de notre culture et de nos régimes ? Damon Gameau se lance dans une expérience unique : tester les effets d’une alimentation haute en sucre sur un corps en bonne santé\, en consommant uniquement de la nourriture considérée comme saine et équilibrée. A travers ce voyage ludique et informatif\, Damon souligne des questions problématiques sur l’industrie du sucre et s’attaque à son omniprésence sur les étagères de nos supermarchés ! SUGARLAND changera à tout jamais votre regard sur votre alimentation. \nVENEZ NOMBREUX !
URL:https://www.ville-lunion.fr/evenement/cine-debat-soiree-speciale-nutrition-lumiere/
CATEGORIES:Cinéma
ATTACH;FMTTYPE=image/png:https://www.ville-lunion.fr/wp-content/uploads/2018/02/affiche-sugarland.png
END:VEVENT
BEGIN:VEVENT
DTSTART;TZID=Europe/Paris:20180409T200000
DTEND;TZID=Europe/Paris:20180409T200000
DTSTAMP:20260423T221759
CREATED:20180409T151922Z
LAST-MODIFIED:20180409T151928Z
UID:35675-1523304000-1523304000@www.ville-lunion.fr
SUMMARY:DÉBAT SUR L’EAU : GESTION PRIVÉE OU PUBLIQUE ?
DESCRIPTION:En décembre 2018\, Toulouse Métropole devra choisir entre une gestion publique (régie) ou privée (délégation) de l’eau et de l’assainissement pour les 37 communes de notre territoire. \nLes villes de L’Union et de Saint-Jean organisent un débat le lundi 9 avril à 20h à la salle des fêtes de L’Union\, avenue des Pyrénées.. \nCe débat aura lieu en présence de : \n\nGabriel AMARD\, co-fondateur de France Eau Publique et de la Coordination Eau Bien Commun France\nChristophe BOUCHOT\, directeur de la Régie Dignoise des Eaux\nTristan MATHIEU\, délégué général de l’association FP2E (Fédération professionnelle des Entreprises de l’Eau)
URL:https://www.ville-lunion.fr/evenement/debat-sur-leau-gestion-privee-ou-publique/
LOCATION:Salle des fêtes de L’Union\, 6 Avenue des Pyrénées\, L'Union\, 31240\, France
CATEGORIES:Mairie
ATTACH;FMTTYPE=image/jpeg:https://www.ville-lunion.fr/wp-content/uploads/2016/12/eau-1.jpg
END:VEVENT
END:VCALENDAR