BEGIN:VCALENDAR
VERSION:2.0
PRODID:-//Ville de L&#039;Union - ECPv6.15.13//NONSGML v1.0//EN
CALSCALE:GREGORIAN
METHOD:PUBLISH
X-ORIGINAL-URL:https://www.ville-lunion.fr
X-WR-CALDESC:Évènements pour Ville de L&#039;Union
REFRESH-INTERVAL;VALUE=DURATION:PT1H
X-Robots-Tag:noindex
X-PUBLISHED-TTL:PT1H
BEGIN:VTIMEZONE
TZID:Europe/Paris
BEGIN:DAYLIGHT
TZOFFSETFROM:+0100
TZOFFSETTO:+0200
TZNAME:CEST
DTSTART:20170326T010000
END:DAYLIGHT
BEGIN:STANDARD
TZOFFSETFROM:+0200
TZOFFSETTO:+0100
TZNAME:CET
DTSTART:20171029T010000
END:STANDARD
BEGIN:DAYLIGHT
TZOFFSETFROM:+0100
TZOFFSETTO:+0200
TZNAME:CEST
DTSTART:20180325T010000
END:DAYLIGHT
BEGIN:STANDARD
TZOFFSETFROM:+0200
TZOFFSETTO:+0100
TZNAME:CET
DTSTART:20181028T010000
END:STANDARD
BEGIN:DAYLIGHT
TZOFFSETFROM:+0100
TZOFFSETTO:+0200
TZNAME:CEST
DTSTART:20190331T010000
END:DAYLIGHT
BEGIN:STANDARD
TZOFFSETFROM:+0200
TZOFFSETTO:+0100
TZNAME:CET
DTSTART:20191027T010000
END:STANDARD
END:VTIMEZONE
BEGIN:VEVENT
DTSTART;TZID=Europe/Paris:20180406T203000
DTEND;TZID=Europe/Paris:20180406T203000
DTSTAMP:20260423T221750
CREATED:20170906T093652Z
LAST-MODIFIED:20171221T105047Z
UID:33871-1523046600-1523046600@www.ville-lunion.fr
SUMMARY:LE DUO DES NON
DESCRIPTION:Depuis deux décennies\, le Duo des Non créé par le prolifique Jean-Jacques Cripia fait le bonheur des habitants du Sud-Ouest de la France. \nQue les comédiens soient deux\, trois\, ou quatre sur scène ne change rien à l’affaire : les spectacles (“Retour à Bourcagneux”\, “La fête à Bourcagneux”….) traitent invariablement de la vie à… Bourcagneux ! Mademoiselle Josiane\, Christophe Moursebolle et de nombreux personnages évoluent dans ce village aussi imaginaire que pittoresque. Le Duo des Non propose cette fois un authentique best of et fait rimer\, mieux que jamais\, Pagnol avec Buster Keaton et Pierre Dac avec Pierre Desproges. Dans ce divertissement\, il est bien sûr question de rugby\, de messes\, de romance\, de jazz\, de chahut et de chaos\, bref\, de tout ce qui fait du barouf à Bourcagneux ! ? \nVous êtes les bienvenus dans le village de Bourcagneux ! \nTOUT PUBLIC\ndurée : 2h\nTarifs :\ncarré or : 25€ + frais de location\nCat. 1 : 20€ + frais de location \nRéservations & Renseignements : \n Mairie de L’Union : 05 62 89 22 86 \nEn vente en mairie et dans tous les centres habituels. \n  \nhttps://youtu.be/aGnNlpzNV4M
URL:https://www.ville-lunion.fr/evenement/le-duo-des-non/
LOCATION:Grande Halle de l’Union\, Rue du Somport\, L'Union\, 31240\, France
CATEGORIES:Spectacles
ATTACH;FMTTYPE=image/jpeg:https://www.ville-lunion.fr/wp-content/uploads/2017/09/duo.jpg
ORGANIZER;CN="Mairie service Communication%2C Culture%2C Animation.":MAILTO:cca@mairie-lunion.fr
END:VEVENT
END:VCALENDAR