BEGIN:VCALENDAR
VERSION:2.0
PRODID:-//Ville de L&#039;Union - ECPv6.15.13//NONSGML v1.0//EN
CALSCALE:GREGORIAN
METHOD:PUBLISH
X-WR-CALNAME:Ville de L&#039;Union
X-ORIGINAL-URL:https://www.ville-lunion.fr
X-WR-CALDESC:Évènements pour Ville de L&#039;Union
REFRESH-INTERVAL;VALUE=DURATION:PT1H
X-Robots-Tag:noindex
X-PUBLISHED-TTL:PT1H
BEGIN:VTIMEZONE
TZID:Europe/Paris
BEGIN:DAYLIGHT
TZOFFSETFROM:+0100
TZOFFSETTO:+0200
TZNAME:CEST
DTSTART:20170326T010000
END:DAYLIGHT
BEGIN:STANDARD
TZOFFSETFROM:+0200
TZOFFSETTO:+0100
TZNAME:CET
DTSTART:20171029T010000
END:STANDARD
BEGIN:DAYLIGHT
TZOFFSETFROM:+0100
TZOFFSETTO:+0200
TZNAME:CEST
DTSTART:20180325T010000
END:DAYLIGHT
BEGIN:STANDARD
TZOFFSETFROM:+0200
TZOFFSETTO:+0100
TZNAME:CET
DTSTART:20181028T010000
END:STANDARD
BEGIN:DAYLIGHT
TZOFFSETFROM:+0100
TZOFFSETTO:+0200
TZNAME:CEST
DTSTART:20190331T010000
END:DAYLIGHT
BEGIN:STANDARD
TZOFFSETFROM:+0200
TZOFFSETTO:+0100
TZNAME:CET
DTSTART:20191027T010000
END:STANDARD
END:VTIMEZONE
BEGIN:VEVENT
DTSTART;TZID=Europe/Paris:20180402T100000
DTEND;TZID=Europe/Paris:20180402T120000
DTSTAMP:20260423T221722
CREATED:20180319T153119Z
LAST-MODIFIED:20180322T103717Z
UID:35501-1522663200-1522670400@www.ville-lunion.fr
SUMMARY:CHASSE AUX ŒUFS
DESCRIPTION:lundi 2 avril de 10 h à 12h\nPARC MALPAGAT\nPetits Unionais de 2 à 10 ans\nEntrée libre\nEntrée côté Château ( derrière le centre commercial )\nrue du Lac Bleu \nEn cas d’intempéries la manifestation sera annulée
URL:https://www.ville-lunion.fr/evenement/chasse-aux-oeufs/
LOCATION:Parc de Malpagat\, L'UNION\, 31240
CATEGORIES:Associations,Mairie
ATTACH;FMTTYPE=image/png:https://www.ville-lunion.fr/wp-content/uploads/2018/03/Affiche-V3.png
END:VEVENT
BEGIN:VEVENT
DTSTART;TZID=Europe/Paris:20180402T203000
DTEND;TZID=Europe/Paris:20180402T203000
DTSTAMP:20260423T221722
CREATED:20180216T103650Z
LAST-MODIFIED:20180216T103650Z
UID:35282-1522701000-1522701000@www.ville-lunion.fr
SUMMARY:ciné-débat THE MILK SYSTEM
DESCRIPTION:Soirée spéciale FREDD : Film Recherche Et Développement Durable \nComment les vaches sont-elles devenues les fournisseurs d’une industrie hautement technologique ? Qui trouve-t-on derrière ce marché ? Existe-t-il des alternatives ? Quels sont les bienfaits du lait ? Enquête sur l’industrie laitière\, incarnation de l’expansion mondiale d’une filière agroalimentaire devenue omniprésente. \nDans notre société\, sa belle couleur et son rôle incontesté d’aliment pour bébés confèrent au lait une valeur symbolique. Sur le marché agroalimentaire mondial\, c’est un produit particulièrement attrayant. De l’image bucolique et idéalisée de l’économie du lait ne subsiste toutefois pas grand-chose aujourd’hui. Le commerce de cet aliment pèse désormais des milliards\, et l’industrie veille à ce que sa consommation continue d’augmenter partout sur la planète. \nNe serait-ce qu’en Europe\, où près de deux cents millions de tonnes de lait et de poudre de lait sont produits et commercialisés chaque année. Et ce même si près des deux tiers des adultes dans le monde sont intolérants au lactose. (ARTE 2018) \nLa projection du film sera suivie d’un débat animé par des membres de l’équipe  FREDD et par une association de défense du développement durable.
URL:https://www.ville-lunion.fr/evenement/cine-debat-the-milk-system/
LOCATION:Le Lumière\, 6 Rue du Pic du Midi\, L'Union\, 31240\, France
CATEGORIES:Cinéma
ATTACH;FMTTYPE=image/png:https://www.ville-lunion.fr/wp-content/uploads/2018/02/milk-system-affiche.png
END:VEVENT
END:VCALENDAR