BEGIN:VCALENDAR
VERSION:2.0
PRODID:-//Ville de L&#039;Union - ECPv6.15.13//NONSGML v1.0//EN
CALSCALE:GREGORIAN
METHOD:PUBLISH
X-ORIGINAL-URL:https://www.ville-lunion.fr
X-WR-CALDESC:Évènements pour Ville de L&#039;Union
REFRESH-INTERVAL;VALUE=DURATION:PT1H
X-Robots-Tag:noindex
X-PUBLISHED-TTL:PT1H
BEGIN:VTIMEZONE
TZID:Europe/Paris
BEGIN:DAYLIGHT
TZOFFSETFROM:+0100
TZOFFSETTO:+0200
TZNAME:CEST
DTSTART:20170326T010000
END:DAYLIGHT
BEGIN:STANDARD
TZOFFSETFROM:+0200
TZOFFSETTO:+0100
TZNAME:CET
DTSTART:20171029T010000
END:STANDARD
BEGIN:DAYLIGHT
TZOFFSETFROM:+0100
TZOFFSETTO:+0200
TZNAME:CEST
DTSTART:20180325T010000
END:DAYLIGHT
BEGIN:STANDARD
TZOFFSETFROM:+0200
TZOFFSETTO:+0100
TZNAME:CET
DTSTART:20181028T010000
END:STANDARD
BEGIN:DAYLIGHT
TZOFFSETFROM:+0100
TZOFFSETTO:+0200
TZNAME:CEST
DTSTART:20190331T010000
END:DAYLIGHT
BEGIN:STANDARD
TZOFFSETFROM:+0200
TZOFFSETTO:+0100
TZNAME:CET
DTSTART:20191027T010000
END:STANDARD
END:VTIMEZONE
BEGIN:VEVENT
DTSTART;TZID=Europe/Paris:20180326T203000
DTEND;TZID=Europe/Paris:20180326T203000
DTSTAMP:20260423T221901
CREATED:20180216T103955Z
LAST-MODIFIED:20180216T103955Z
UID:35285-1522096200-1522096200@www.ville-lunion.fr
SUMMARY:Soirée spéciale ENVIRONNEMENT au Lumière
DESCRIPTION:Zéro Phyto\, 100% bio : projection du film puis débat animé par l’association ‘les amis de la terre’\,  ‘fredon ’ (association au service de la santé des végétaux et de la protection de l’environnement) et érable 31 (association pour le bio à la cantine)\nLes cantines biologiques se développent presque aussi rapidement que l’arrêt des pesticides dans les communes françaises. Des femmes et des hommes\, conscients de leurs responsabilités en termes de santé publique et d’environnement\, agissent pour des paysages en transition au travers d’initiatives vertueuses ! \nLe réalisateur Guillaume Bodin présente Zéro phyto 100 % bio\, son nouveau documentaire. Une enquête passionnante sur plusieurs communes françaises interdisant l’utilisation de pesticides dans les espaces publics. Ce film met aussi en avant les pionniers de la restauration collective biologique et leurs partenaires : associations\, entreprises\, agriculteurs\, ingénieurs\, artisans qui ensemble contribuent à l’amélioration de la qualité des repas dans les collectivités. \nDans des villes pilotes\,  la présence de pesticides chimiques de synthèse dans les espaces publics est déjà de l’histoire ancienne. À budget constant\, voire inférieur\, ces villes et villages arrivent à maîtriser les herbes folles autrement et fleurir ou cultiver des surfaces auparavant inutilisées. Cette dynamique écologique renforce les liens sociaux\, permet de préserver la santé des techniciens comme des citoyens et engendre d’autres projets\, notamment culturels. \nPrivilégier les espèces vivaces et endémiques\, aider les professionnels et les citoyens à adopter de nouveaux réflexes\, inciter les entreprises à innover pour mieux répondre aux nouvelles pratiques paysagères sont autant d’actions qui participent à une gestion écologique globale des villes\, tout en respectant la santé des habitants. \nConscients de leurs responsabilités en termes de santé publique et d’environnement\, ces acteurs de terrain ne livrent pas de solutions toutes prêtes\, mais décrivent plutôt les étapes qu’ils ont franchies pour mener à bien leurs projets. Leur expérience montre que toutes les communes\, quelles que soient leur taille et leur couleur politique\, peuvent changer leurs pratiques.(presse Dahu.bio\, 2017) \nUn documentaire d’utilité publique à diffuser le plus largement possible.
URL:https://www.ville-lunion.fr/evenement/soiree-speciale-environnement-lumiere/
LOCATION:Le Lumière\, 6 Rue du Pic du Midi\, L'Union\, 31240\, France
CATEGORIES:Cinéma
ATTACH;FMTTYPE=image/png:https://www.ville-lunion.fr/wp-content/uploads/2018/02/affiche-zéro-phyto.png
END:VEVENT
END:VCALENDAR