BEGIN:VCALENDAR
VERSION:2.0
PRODID:-//Ville de L&#039;Union - ECPv6.15.13//NONSGML v1.0//EN
CALSCALE:GREGORIAN
METHOD:PUBLISH
X-ORIGINAL-URL:https://www.ville-lunion.fr
X-WR-CALDESC:Évènements pour Ville de L&#039;Union
REFRESH-INTERVAL;VALUE=DURATION:PT1H
X-Robots-Tag:noindex
X-PUBLISHED-TTL:PT1H
BEGIN:VTIMEZONE
TZID:Europe/Paris
BEGIN:DAYLIGHT
TZOFFSETFROM:+0100
TZOFFSETTO:+0200
TZNAME:CEST
DTSTART:20170326T010000
END:DAYLIGHT
BEGIN:STANDARD
TZOFFSETFROM:+0200
TZOFFSETTO:+0100
TZNAME:CET
DTSTART:20171029T010000
END:STANDARD
BEGIN:DAYLIGHT
TZOFFSETFROM:+0100
TZOFFSETTO:+0200
TZNAME:CEST
DTSTART:20180325T010000
END:DAYLIGHT
BEGIN:STANDARD
TZOFFSETFROM:+0200
TZOFFSETTO:+0100
TZNAME:CET
DTSTART:20181028T010000
END:STANDARD
BEGIN:DAYLIGHT
TZOFFSETFROM:+0100
TZOFFSETTO:+0200
TZNAME:CEST
DTSTART:20190331T010000
END:DAYLIGHT
BEGIN:STANDARD
TZOFFSETFROM:+0200
TZOFFSETTO:+0100
TZNAME:CET
DTSTART:20191027T010000
END:STANDARD
END:VTIMEZONE
BEGIN:VEVENT
DTSTART;TZID=Europe/Paris:20180314T183000
DTEND;TZID=Europe/Paris:20180314T183000
DTSTAMP:20260423T233751
CREATED:20170929T130512Z
LAST-MODIFIED:20180308T143926Z
UID:34067-1521052200-1521052200@www.ville-lunion.fr
SUMMARY:Conseil Municipal
DESCRIPTION:Le prochain Conseil Municipal qui se déroulera le mercredi 14 mars prochain à la Salle des Fêtes. \nLa séance du Conseil Municipal sera précédée à 18H30 par une intervention de Monsieur Mario Brizio\, ingénieur responsable du service technique du Syndicat Départemental d’Energie de la Haute-Garonne\, qui présentera les dossiers suivants : \n\nExtinction nocturne\,\nProgramme pluriannuel communal de rénovation des éclairages publics\,\nApplication smartphone de signalement des pannes
URL:https://www.ville-lunion.fr/evenement/conseil-municipal-2/
LOCATION:Salle des fêtes de L’Union\, 6 Avenue des Pyrénées\, L'Union\, 31240\, France
CATEGORIES:Mairie
ATTACH;FMTTYPE=image/jpeg:https://www.ville-lunion.fr/wp-content/uploads/2016/12/mairie-8d61f.jpg
END:VEVENT
END:VCALENDAR