BEGIN:VCALENDAR
VERSION:2.0
PRODID:-//Ville de L&#039;Union - ECPv6.15.13//NONSGML v1.0//EN
CALSCALE:GREGORIAN
METHOD:PUBLISH
X-WR-CALNAME:Ville de L&#039;Union
X-ORIGINAL-URL:https://www.ville-lunion.fr
X-WR-CALDESC:Évènements pour Ville de L&#039;Union
REFRESH-INTERVAL;VALUE=DURATION:PT1H
X-Robots-Tag:noindex
X-PUBLISHED-TTL:PT1H
BEGIN:VTIMEZONE
TZID:Europe/Paris
BEGIN:DAYLIGHT
TZOFFSETFROM:+0100
TZOFFSETTO:+0200
TZNAME:CEST
DTSTART:20170326T010000
END:DAYLIGHT
BEGIN:STANDARD
TZOFFSETFROM:+0200
TZOFFSETTO:+0100
TZNAME:CET
DTSTART:20171029T010000
END:STANDARD
BEGIN:DAYLIGHT
TZOFFSETFROM:+0100
TZOFFSETTO:+0200
TZNAME:CEST
DTSTART:20180325T010000
END:DAYLIGHT
BEGIN:STANDARD
TZOFFSETFROM:+0200
TZOFFSETTO:+0100
TZNAME:CET
DTSTART:20181028T010000
END:STANDARD
BEGIN:DAYLIGHT
TZOFFSETFROM:+0100
TZOFFSETTO:+0200
TZNAME:CEST
DTSTART:20190331T010000
END:DAYLIGHT
BEGIN:STANDARD
TZOFFSETFROM:+0200
TZOFFSETTO:+0100
TZNAME:CET
DTSTART:20191027T010000
END:STANDARD
END:VTIMEZONE
BEGIN:VEVENT
DTSTART;TZID=Europe/Paris:20180312T203000
DTEND;TZID=Europe/Paris:20180312T203000
DTSTAMP:20260423T234009
CREATED:20180216T103154Z
LAST-MODIFIED:20180216T103154Z
UID:35279-1520886600-1520886600@www.ville-lunion.fr
SUMMARY:Ciné-débat LES SENTINELLES
DESCRIPTION:A travers de nombreux témoignages souvent poignants (et révoltants)\, ce documentaire retrace l’interminable combat mené par les victimes de l’amiante et des pesticides avec l’indéfectible soutien du toxicologue Henri Pezerat\, contre le cynisme\, la désinformation organisée et le mensonge des puissants lobbies et aussi contre une certaine passivité ou indifférence des pouvoirs publics\,\,\, \nSi grâce à ces actions l’amiante est aujourd’hui interdit\, ses ravages à long terme ne sont pas\, loin s’en faut\, finis et beaucoup de victimes en sursis attendent que justice soit faite… \nEn ce qui concerne les pesticides\, un agriculteur a intenté-et gagné- un procès à Monsanto. David a triomphé de Goliath \,ce qui est porteur d’espoir\, d’autant plus qu’une prise de conscience collective se fait jour dans ce domaine .\,mais le chemin est encore long…. \nProjection suivie d’un débat avec Jean-Marie BIRBES ancien salarié –et victime- de l’usine Eternit d’Albi et un des témoins principaux du film
URL:https://www.ville-lunion.fr/evenement/cine-debat-sentinelles/
LOCATION:Le Lumière\, 6 Rue du Pic du Midi\, L'Union\, 31240\, France
CATEGORIES:Cinéma
ATTACH;FMTTYPE=image/png:https://www.ville-lunion.fr/wp-content/uploads/2018/02/affiche-les-sentinelles.png
END:VEVENT
END:VCALENDAR