BEGIN:VCALENDAR
VERSION:2.0
PRODID:-//Ville de L&#039;Union - ECPv6.15.13//NONSGML v1.0//EN
CALSCALE:GREGORIAN
METHOD:PUBLISH
X-ORIGINAL-URL:https://www.ville-lunion.fr
X-WR-CALDESC:Évènements pour Ville de L&#039;Union
REFRESH-INTERVAL;VALUE=DURATION:PT1H
X-Robots-Tag:noindex
X-PUBLISHED-TTL:PT1H
BEGIN:VTIMEZONE
TZID:Europe/Paris
BEGIN:DAYLIGHT
TZOFFSETFROM:+0100
TZOFFSETTO:+0200
TZNAME:CEST
DTSTART:20170326T010000
END:DAYLIGHT
BEGIN:STANDARD
TZOFFSETFROM:+0200
TZOFFSETTO:+0100
TZNAME:CET
DTSTART:20171029T010000
END:STANDARD
BEGIN:DAYLIGHT
TZOFFSETFROM:+0100
TZOFFSETTO:+0200
TZNAME:CEST
DTSTART:20180325T010000
END:DAYLIGHT
BEGIN:STANDARD
TZOFFSETFROM:+0200
TZOFFSETTO:+0100
TZNAME:CET
DTSTART:20181028T010000
END:STANDARD
BEGIN:DAYLIGHT
TZOFFSETFROM:+0100
TZOFFSETTO:+0200
TZNAME:CEST
DTSTART:20190331T010000
END:DAYLIGHT
BEGIN:STANDARD
TZOFFSETFROM:+0200
TZOFFSETTO:+0100
TZNAME:CET
DTSTART:20191027T010000
END:STANDARD
END:VTIMEZONE
BEGIN:VEVENT
DTSTART;VALUE=DATE:20180310
DTEND;VALUE=DATE:20180311
DTSTAMP:20260423T233751
CREATED:20180130T171831Z
LAST-MODIFIED:20180213T151159Z
UID:35056-1520640000-1520726399@www.ville-lunion.fr
SUMMARY:Conférence sur la toponymie et l'anthroponymie occitanes
DESCRIPTION:L’association l ‘Ostal d’Occitania  propose une conférence sur la toponymie et l’anthroponymie occitanes \,c’est à dire sur l’origine et la formation des noms de lieu ou des noms de personne occitans\, \nElle sera animée par Jean RIGOUSTE\, un éminent linguiste qui a mené de nombreuses recherches onomastiques\, particulièrement sur l’occitan\, \nNéanmoins la conférence est accessible à tous\, initiés ou non\, et ne nécessite aucune connaissance de l’occitan. Venez donc nous rejoindre et découvrir en échangeant avec l’intervenant dans un esprit ludique et convivial l’origine insoupçonnée et parfois étonnante de noms de famille (pourquoi pas le vôtre) ou de lieu (villages\, lieux –dits\, rues etc…) du  domaine occitan et notamment de l’Union que le conférencier a spécialement étudiée  pour cette occasion. \nENTRÉE LIBRE ET GRATUITE \nUn verre de l’amitié clôturera chaleureusement cette rencontre. \nL’association vous informe qu’elle assure des cours d’occitan le mardi soir au Manoir \nRenseignements au 07 82 31 12 26 ou 06 27 59 55 92
URL:https://www.ville-lunion.fr/evenement/conference-de-lassociation-ostal-occitania/
LOCATION:Salle de la convivialité de la Belle Hôtesse\, 2 rue de l'Autan Blanc\, L'union\, 31240
CATEGORIES:Associations
ATTACH;FMTTYPE=image/jpeg:https://www.ville-lunion.fr/wp-content/uploads/2018/01/conference.jpg
END:VEVENT
BEGIN:VEVENT
DTSTART;TZID=Europe/Paris:20180310T100000
DTEND;TZID=Europe/Paris:20180310T120000
DTSTAMP:20260423T233751
CREATED:20171226T133534Z
LAST-MODIFIED:20180130T155808Z
UID:34605-1520676000-1520683200@www.ville-lunion.fr
SUMMARY:REPLANTONS LA FORÊT DE L’UNION
DESCRIPTION:La forêt communale\, replantée avec la participation des citoyens\, comprend plus de 1000 plants. Chênes\, merisiers\, tilleuls des bois et érables vont côtoyer cornouillers sanguins\, viornes lantanes ou encore troènes des bois. Différentes variétés de poiriers\, pruniers\, pommiers et cerisiers sauvages\, plantées au travers de chantiers\nparticipatifs impliquant les écoles\, les membres de la Commission Citoyenne Environnement et la Municipalité\, vont agrémenter cet espace. \nle Conseil Municipal des Jeunes et la Commission Citoyenne Environnement donneront rendez-vous sur place aux citoyens qui le souhaitent pour participer à la plantation située en bordure de l’avenue de Bayonne. Les participants devront s’équiper de bottes\, et de quelques outils de jardinage. \nRéhabilitée en partenariat avec l’association Arbres et Paysages d’Autan\, dans le cadre du programme régional « Plant’arbre »\, subventionné par la Région Occitanie\, Pyrénées-Méditerranée\, cette forêt d’agrément et de loisirs\, composée d’arbres de haut jet et de moyen jet\, de haies champêtres\, sera plantée par l’Office National des Forêts. \nInauguration de la forêt communale\, à 12h sur site\, pour la découverte du panneau. \n 
URL:https://www.ville-lunion.fr/evenement/replantons-foret-de-lunion/
LOCATION:forêt communale
CATEGORIES:Mairie
ATTACH;FMTTYPE=image/jpeg:https://www.ville-lunion.fr/wp-content/uploads/2017/12/foret.jpg
END:VEVENT
END:VCALENDAR