BEGIN:VCALENDAR
VERSION:2.0
PRODID:-//Ville de L&#039;Union - ECPv6.15.13//NONSGML v1.0//EN
CALSCALE:GREGORIAN
METHOD:PUBLISH
X-ORIGINAL-URL:https://www.ville-lunion.fr
X-WR-CALDESC:Évènements pour Ville de L&#039;Union
REFRESH-INTERVAL;VALUE=DURATION:PT1H
X-Robots-Tag:noindex
X-PUBLISHED-TTL:PT1H
BEGIN:VTIMEZONE
TZID:Europe/Paris
BEGIN:DAYLIGHT
TZOFFSETFROM:+0100
TZOFFSETTO:+0200
TZNAME:CEST
DTSTART:20170326T010000
END:DAYLIGHT
BEGIN:STANDARD
TZOFFSETFROM:+0200
TZOFFSETTO:+0100
TZNAME:CET
DTSTART:20171029T010000
END:STANDARD
BEGIN:DAYLIGHT
TZOFFSETFROM:+0100
TZOFFSETTO:+0200
TZNAME:CEST
DTSTART:20180325T010000
END:DAYLIGHT
BEGIN:STANDARD
TZOFFSETFROM:+0200
TZOFFSETTO:+0100
TZNAME:CET
DTSTART:20181028T010000
END:STANDARD
BEGIN:DAYLIGHT
TZOFFSETFROM:+0100
TZOFFSETTO:+0200
TZNAME:CEST
DTSTART:20190331T010000
END:DAYLIGHT
BEGIN:STANDARD
TZOFFSETFROM:+0200
TZOFFSETTO:+0100
TZNAME:CET
DTSTART:20191027T010000
END:STANDARD
END:VTIMEZONE
BEGIN:VEVENT
DTSTART;VALUE=DATE:20180308
DTEND;VALUE=DATE:20180309
DTSTAMP:20260423T233735
CREATED:20180216T102401Z
LAST-MODIFIED:20180216T102401Z
UID:35274-1520467200-1520553599@www.ville-lunion.fr
SUMMARY:Journée spéciale ‘destins de femmes’ au cinéma le Lumière
DESCRIPTION:Le lumière commencera la journée  à 15h avec  la projection du film ‘les figures de l’ombre’  \n Le destin extraordinaire des trois scientifiques afro-américaines qui ont permis aux États-Unis de prendre la tête de la conquête spatiale\, grâce à la mise en orbite de l’astronaute John Glenn.\nMaintenues dans l’ombre de leurs collègues masculins et dans celle d’un pays en proie à de profondes inégalités\, leur histoire longtemps restée méconnue est enfin portée à l’écran. \n  \n \n  \nA 18 h nous enchainerons avec ‘Coco avant Chanel’ avec Audrey Tautou   \nUne petite fille du centre de la France\, placée dans un orphelinat avec sa soeur\, et qui attend en vain tous les dimanches que son père vienne les chercher.\nUne petite couturière destinée à refaire des ourlets dans l’arrière-boutique d’un tailleur de province.\nUne apprentie-courtisane au corps trop maigre\, qui trouve refuge chez son protecteur Etienne Balsan\, parmi les cocottes et les fêtards.\nUne amoureuse qui sait qu’elle ne sera  » la femme de personne « \, pas même celle de Boy Capel\, l’homme qui pourtant l’aimait aussi.\nUne rebelle que les conventions de l’époque empêchent de respirer\, et qui s’habille avec les chemises de ses amants. C’est l’histoire de Coco Chanel\, qui incarna la femme moderne avant de l’inventer. \nA 21h nous clôturons la soirée avec le film ‘et maintenant on va où ?’  \nDans un pays déchiré par la guerre\, des femmes\, de toutes religions\,  pour protéger leur famille et leur village des menaces extérieures font preuve d’une grande ingéniosité\, inventant de drôles de stratagèmes\, unies par une amitié indéfectible. Elles n’auront qu’un objectif : distraire l’attention des hommes et leur faire oublier leur colère et leur différence. Mais quand les événements prendront un tour tragique\, jusqu’où seront-elles prêtes à aller pour éviter de perdre ceux qui restent ?
URL:https://www.ville-lunion.fr/evenement/journee-speciale-destins-de-femmes-cinema-lumiere/
LOCATION:Le Lumière\, 6 Rue du Pic du Midi\, L'Union\, 31240\, France
CATEGORIES:Cinéma
ATTACH;FMTTYPE=image/jpeg:https://www.ville-lunion.fr/wp-content/uploads/2016/12/Ag-Cinéma-2DSC_0157.jpg
END:VEVENT
BEGIN:VEVENT
DTSTART;TZID=Europe/Paris:20180308T100000
DTEND;TZID=Europe/Paris:20180308T100000
DTSTAMP:20260423T233735
CREATED:20180130T163451Z
LAST-MODIFIED:20180130T170517Z
UID:35051-1520503200-1520503200@www.ville-lunion.fr
SUMMARY:conférence AAPU
DESCRIPTION:à l’auditorium de la Salle des Fêtes  – ouvert à tous\, 8€ pour les non-inscrits à l’histoire de l’Art.
URL:https://www.ville-lunion.fr/evenement/conference-aapu/
LOCATION:Salle des fêtes de L’Union\, 6 Avenue des Pyrénées\, L'Union\, 31240\, France
CATEGORIES:Associations
END:VEVENT
END:VCALENDAR