BEGIN:VCALENDAR
VERSION:2.0
PRODID:-//Ville de L&#039;Union - ECPv6.15.13//NONSGML v1.0//EN
CALSCALE:GREGORIAN
METHOD:PUBLISH
X-WR-CALNAME:Ville de L&#039;Union
X-ORIGINAL-URL:https://www.ville-lunion.fr
X-WR-CALDESC:Évènements pour Ville de L&#039;Union
REFRESH-INTERVAL;VALUE=DURATION:PT1H
X-Robots-Tag:noindex
X-PUBLISHED-TTL:PT1H
BEGIN:VTIMEZONE
TZID:Europe/Paris
BEGIN:DAYLIGHT
TZOFFSETFROM:+0100
TZOFFSETTO:+0200
TZNAME:CEST
DTSTART:20170326T010000
END:DAYLIGHT
BEGIN:STANDARD
TZOFFSETFROM:+0200
TZOFFSETTO:+0100
TZNAME:CET
DTSTART:20171029T010000
END:STANDARD
BEGIN:DAYLIGHT
TZOFFSETFROM:+0100
TZOFFSETTO:+0200
TZNAME:CEST
DTSTART:20180325T010000
END:DAYLIGHT
BEGIN:STANDARD
TZOFFSETFROM:+0200
TZOFFSETTO:+0100
TZNAME:CET
DTSTART:20181028T010000
END:STANDARD
BEGIN:DAYLIGHT
TZOFFSETFROM:+0100
TZOFFSETTO:+0200
TZNAME:CEST
DTSTART:20190331T010000
END:DAYLIGHT
BEGIN:STANDARD
TZOFFSETFROM:+0200
TZOFFSETTO:+0100
TZNAME:CET
DTSTART:20191027T010000
END:STANDARD
END:VTIMEZONE
BEGIN:VEVENT
DTSTART;VALUE=DATE:20180307
DTEND;VALUE=DATE:20180308
DTSTAMP:20260423T233645
CREATED:20180117T084154Z
LAST-MODIFIED:20180213T090807Z
UID:34936-1520380800-1520467199@www.ville-lunion.fr
SUMMARY:FORUM POUR L'EMPLOI
DESCRIPTION:Pour l’édition 2018 de son Forum pour l’Emploi\, la Commune de L’Union s’associe avec les Communes partenaires d’Aucamville\, Fonbeauzard\, Launaguet et\nSaint-Jean. \nCette coopération va nous permettre d’élargir et d’étoffer nos actions réciproques pour aboutir à l’organisation d’un Forum de Recrutement.\nL’organisation d’un Forum Intercommunal de l’Emploi sur la Commune de L’Union vise à permettre aux demandeurs d’emploi d’avoir accès à un grand nombre d’offres de proximité dans tous les secteurs et pour tous les profils\, et de rencontrer directement les recruteurs.\nLes communes d’Aucamville\, Fonbeauzard\, Launaguet et Saint-Jean mettront des navettes communales gratuites pour se rendre au forum à L’Union\nDes ateliers de préparation au forum se dérouleront sur la commune de Launaguet les 5 et 6 mars. Pour s’inscrire\, merci de contacter le service emploi de la mairie de Launaguet\, par mail ou par téléphone – Contact : emploi@mairie-launaguet.fr – tél : 05.61.74.07.16 \nPour plus d’informations sur le forum et les ateliers\, vous pouvez contacter la Maison de l’Action Sociale et de l’Emploi par mail ou par téléphone : emploi@mairie-lunion.fr • Tel : 05 62 79 86 17
URL:https://www.ville-lunion.fr/evenement/forum-de-lemploi/
LOCATION:Grande Halle de l’Union\, Rue du Somport\, L'Union\, 31240\, France
CATEGORIES:Mairie,Manifestations
ATTACH;FMTTYPE=image/jpeg:https://www.ville-lunion.fr/wp-content/uploads/2018/01/forum2018.jpg
END:VEVENT
END:VCALENDAR