BEGIN:VCALENDAR
VERSION:2.0
PRODID:-//Ville de L&#039;Union - ECPv6.15.13//NONSGML v1.0//EN
CALSCALE:GREGORIAN
METHOD:PUBLISH
X-WR-CALNAME:Ville de L&#039;Union
X-ORIGINAL-URL:https://www.ville-lunion.fr
X-WR-CALDESC:Évènements pour Ville de L&#039;Union
REFRESH-INTERVAL;VALUE=DURATION:PT1H
X-Robots-Tag:noindex
X-PUBLISHED-TTL:PT1H
BEGIN:VTIMEZONE
TZID:Europe/Paris
BEGIN:DAYLIGHT
TZOFFSETFROM:+0100
TZOFFSETTO:+0200
TZNAME:CEST
DTSTART:20170326T010000
END:DAYLIGHT
BEGIN:STANDARD
TZOFFSETFROM:+0200
TZOFFSETTO:+0100
TZNAME:CET
DTSTART:20171029T010000
END:STANDARD
BEGIN:DAYLIGHT
TZOFFSETFROM:+0100
TZOFFSETTO:+0200
TZNAME:CEST
DTSTART:20180325T010000
END:DAYLIGHT
BEGIN:STANDARD
TZOFFSETFROM:+0200
TZOFFSETTO:+0100
TZNAME:CET
DTSTART:20181028T010000
END:STANDARD
BEGIN:DAYLIGHT
TZOFFSETFROM:+0100
TZOFFSETTO:+0200
TZNAME:CEST
DTSTART:20190331T010000
END:DAYLIGHT
BEGIN:STANDARD
TZOFFSETFROM:+0200
TZOFFSETTO:+0100
TZNAME:CET
DTSTART:20191027T010000
END:STANDARD
END:VTIMEZONE
BEGIN:VEVENT
DTSTART;VALUE=DATE:20180215
DTEND;VALUE=DATE:20180219
DTSTAMP:20260424T005822
CREATED:20180206T104106Z
LAST-MODIFIED:20180206T133942Z
UID:35173-1518652800-1518998399@www.ville-lunion.fr
SUMMARY:Exposition AAPU et Union images
DESCRIPTION:Des photos réalisées par les adhérents de Union Image\, seront librement interprétées par les peintres\, dessinateurs\, pastellistes ou verriers des Arts Plastiques de L’Union. \nCette démarche permettra aux visiteurs de percevoir la richesse de l’image\, et de comparer les diverses techniques mobilisées. \nGageons que cette promenade\, qui réunit deux associations artistiques\, séduira les amateurs d’art et les curieux ; elle marque\, à n’en pas douter\, le début d’une collaboration fructueuse. \n Vernissage : vendredi 16 février à 18h30 au Foyer de la Grande Halle\, entrée libre.
URL:https://www.ville-lunion.fr/evenement/exposition-aapu-union-images/
LOCATION:Foyer de la Grande Halle de l’Union\, Rue du Somport\, 31240
CATEGORIES:Associations
ATTACH;FMTTYPE=image/jpeg:https://www.ville-lunion.fr/wp-content/uploads/2018/02/expo-ui-aapu.jpg
END:VEVENT
BEGIN:VEVENT
DTSTART;TZID=Europe/Paris:20180218T150000
DTEND;TZID=Europe/Paris:20180218T150000
DTSTAMP:20260424T005822
CREATED:20180115T154157Z
LAST-MODIFIED:20180130T154636Z
UID:34888-1518966000-1518966000@www.ville-lunion.fr
SUMMARY:Après midi Dansant par L'Union Festivités
DESCRIPTION:Commençons l’année en musique avec l’orchestre Mireille !\nL’Union festivités organise une après-midi dansante à la salle des fêtes de L’Union. Nous vous attendons à partir de 15h sur la piste de danse !\nEntrée libre\, buvette et douceurs sur place.
URL:https://www.ville-lunion.fr/evenement/apres-midi-dansant-lunion-festivites/
LOCATION:Salle des fêtes de L’Union\, 6 Avenue des Pyrénées\, L'Union\, 31240\, France
CATEGORIES:Associations
ATTACH;FMTTYPE=image/jpeg:https://www.ville-lunion.fr/wp-content/uploads/2018/01/MIREILLE.jpg
END:VEVENT
END:VCALENDAR