BEGIN:VCALENDAR
VERSION:2.0
PRODID:-//Ville de L&#039;Union - ECPv6.15.13//NONSGML v1.0//EN
CALSCALE:GREGORIAN
METHOD:PUBLISH
X-ORIGINAL-URL:https://www.ville-lunion.fr
X-WR-CALDESC:Évènements pour Ville de L&#039;Union
REFRESH-INTERVAL;VALUE=DURATION:PT1H
X-Robots-Tag:noindex
X-PUBLISHED-TTL:PT1H
BEGIN:VTIMEZONE
TZID:Europe/Paris
BEGIN:DAYLIGHT
TZOFFSETFROM:+0100
TZOFFSETTO:+0200
TZNAME:CEST
DTSTART:20170326T010000
END:DAYLIGHT
BEGIN:STANDARD
TZOFFSETFROM:+0200
TZOFFSETTO:+0100
TZNAME:CET
DTSTART:20171029T010000
END:STANDARD
BEGIN:DAYLIGHT
TZOFFSETFROM:+0100
TZOFFSETTO:+0200
TZNAME:CEST
DTSTART:20180325T010000
END:DAYLIGHT
BEGIN:STANDARD
TZOFFSETFROM:+0200
TZOFFSETTO:+0100
TZNAME:CET
DTSTART:20181028T010000
END:STANDARD
BEGIN:DAYLIGHT
TZOFFSETFROM:+0100
TZOFFSETTO:+0200
TZNAME:CEST
DTSTART:20190331T010000
END:DAYLIGHT
BEGIN:STANDARD
TZOFFSETFROM:+0200
TZOFFSETTO:+0100
TZNAME:CET
DTSTART:20191027T010000
END:STANDARD
END:VTIMEZONE
BEGIN:VEVENT
DTSTART;VALUE=DATE:20180202
DTEND;VALUE=DATE:20180217
DTSTAMP:20260424T005931
CREATED:20180206T101232Z
LAST-MODIFIED:20180206T102020Z
UID:35165-1517529600-1518825599@www.ville-lunion.fr
SUMMARY:exposition "Nouvel an chinois" calligraphie\, peinture chinoise
DESCRIPTION:par l’AAPU \njeudi 8 février\,vernissage à la bibliothèque à 18h30\, entrée libre
URL:https://www.ville-lunion.fr/evenement/exposition-nouvel-an-chinois-calligraphie-peinture-chinoise/
LOCATION:Bibliothèque de L’Union\, 6 Avenue de Toulouse\, 31240
CATEGORIES:Associations
ATTACH;FMTTYPE=image/jpeg:https://www.ville-lunion.fr/wp-content/uploads/2018/02/calligraphie.jpg
END:VEVENT
BEGIN:VEVENT
DTSTART;TZID=Europe/Paris:20180202T203000
DTEND;TZID=Europe/Paris:20180203T203000
DTSTAMP:20260424T005931
CREATED:20170906T092218Z
LAST-MODIFIED:20171123T150223Z
UID:33864-1517603400-1517689800@www.ville-lunion.fr
SUMMARY:CUISINE ET DÉPENDANCES
DESCRIPTION:Jacques et Martine\, couple apparemment sans histoire\, accueillent de vieux amis qu’ils n’ont pas revus depuis dix ans. Dans la cuisine\, les\ncoulisses de la soirée\, les petites hypocrisies et les grandes concessions se font jour… \nDistribution : auteurs : Agnès Jaoui et Jean-Pierre Bacri • avec : Angélique Infante\, Alain Dumas\, Patrice Ortega\, Yohann Villepastour\, Anne-Sophie Delahaye • mise en\nscène : Laurent Collombert • décor : Olivier Hebert et Annie Giral • régie : Erwan Guillou \nvendredi 2 et samedi 3 février à 20h30. \nRéservations : \nhttps://www.compagnie-cleante.com/cuisine-et-dependances/ \n  \n 
URL:https://www.ville-lunion.fr/evenement/cuisine-et-dependances/
LOCATION:Grande Halle de l’Union\, Rue du Somport\, L'Union\, 31240\, France
CATEGORIES:Spectacles
ATTACH;FMTTYPE=image/jpeg:https://www.ville-lunion.fr/wp-content/uploads/2017/09/cuisine.jpg
ORGANIZER;CN="compagnie-cleante":MAILTO:compagniecleante@gmail.com
END:VEVENT
END:VCALENDAR