BEGIN:VCALENDAR
VERSION:2.0
PRODID:-//Ville de L&#039;Union - ECPv6.15.13//NONSGML v1.0//EN
CALSCALE:GREGORIAN
METHOD:PUBLISH
X-WR-CALNAME:Ville de L&#039;Union
X-ORIGINAL-URL:https://www.ville-lunion.fr
X-WR-CALDESC:Évènements pour Ville de L&#039;Union
REFRESH-INTERVAL;VALUE=DURATION:PT1H
X-Robots-Tag:noindex
X-PUBLISHED-TTL:PT1H
BEGIN:VTIMEZONE
TZID:Europe/Paris
BEGIN:DAYLIGHT
TZOFFSETFROM:+0100
TZOFFSETTO:+0200
TZNAME:CEST
DTSTART:20170326T010000
END:DAYLIGHT
BEGIN:STANDARD
TZOFFSETFROM:+0200
TZOFFSETTO:+0100
TZNAME:CET
DTSTART:20171029T010000
END:STANDARD
BEGIN:DAYLIGHT
TZOFFSETFROM:+0100
TZOFFSETTO:+0200
TZNAME:CEST
DTSTART:20180325T010000
END:DAYLIGHT
BEGIN:STANDARD
TZOFFSETFROM:+0200
TZOFFSETTO:+0100
TZNAME:CET
DTSTART:20181028T010000
END:STANDARD
BEGIN:DAYLIGHT
TZOFFSETFROM:+0100
TZOFFSETTO:+0200
TZNAME:CEST
DTSTART:20190331T010000
END:DAYLIGHT
BEGIN:STANDARD
TZOFFSETFROM:+0200
TZOFFSETTO:+0100
TZNAME:CET
DTSTART:20191027T010000
END:STANDARD
END:VTIMEZONE
BEGIN:VEVENT
DTSTART;TZID=Europe/Paris:20180130T140000
DTEND;TZID=Europe/Paris:20180130T140000
DTSTAMP:20260424T005800
CREATED:20171226T135406Z
LAST-MODIFIED:20171226T135535Z
UID:34615-1517320800-1517320800@www.ville-lunion.fr
SUMMARY:Présentation du projet d’accompagnement des personnes âgées fragilisées
DESCRIPTION:A L’Union\, les personnes âgées de plus de 65 ans représentent environ 30% de la population.\nLe CCAS de la ville de L’Union\, en partenariat avec le gérontopole du CHU de Toulouse et Toulouse Métropole\, est soucieux de favoriser le « bien vieillir » des seniors. Des actions de repérage et d’évaluation vont être mises en place dès février 2018\, en collaboration avec une infirmière du gérontopole. Il s’agit de mettre en oeuvre des\nplans d’accompagnement de la personne âgée en lien avec son médecin traitant. Ces actions s’appuieront sur des dispositifs déjà existants mais parfois mal connus (Sport sur ordonnance\, Plus jamais seul…).\nAfin d’évaluer les besoins et les attentes de chacun\, des questionnaires vont être adressés dès le mois de février aux personnes de 75 ans et plus résidant sur la commune. \nNous vous proposons de vous présenter cette démarche le mardi 30 janvier à la salle des fêtes de L’Union avec le Professeur Nourhashemi du Gérontopole de Toulouse.
URL:https://www.ville-lunion.fr/evenement/presentation-projet-daccompagnement-personnes-agees-fragilisees/
LOCATION:Salle des fêtes de L’Union\, 6 Avenue des Pyrénées\, L'Union\, 31240\, France
CATEGORIES:Mairie
ATTACH;FMTTYPE=image/jpeg:https://www.ville-lunion.fr/wp-content/uploads/2017/12/réunion.jpg
END:VEVENT
END:VCALENDAR