BEGIN:VCALENDAR
VERSION:2.0
PRODID:-//Ville de L&#039;Union - ECPv6.15.13//NONSGML v1.0//EN
CALSCALE:GREGORIAN
METHOD:PUBLISH
X-WR-CALNAME:Ville de L&#039;Union
X-ORIGINAL-URL:https://www.ville-lunion.fr
X-WR-CALDESC:Évènements pour Ville de L&#039;Union
REFRESH-INTERVAL;VALUE=DURATION:PT1H
X-Robots-Tag:noindex
X-PUBLISHED-TTL:PT1H
BEGIN:VTIMEZONE
TZID:Europe/Paris
BEGIN:DAYLIGHT
TZOFFSETFROM:+0100
TZOFFSETTO:+0200
TZNAME:CEST
DTSTART:20170326T010000
END:DAYLIGHT
BEGIN:STANDARD
TZOFFSETFROM:+0200
TZOFFSETTO:+0100
TZNAME:CET
DTSTART:20171029T010000
END:STANDARD
BEGIN:DAYLIGHT
TZOFFSETFROM:+0100
TZOFFSETTO:+0200
TZNAME:CEST
DTSTART:20180325T010000
END:DAYLIGHT
BEGIN:STANDARD
TZOFFSETFROM:+0200
TZOFFSETTO:+0100
TZNAME:CET
DTSTART:20181028T010000
END:STANDARD
BEGIN:DAYLIGHT
TZOFFSETFROM:+0100
TZOFFSETTO:+0200
TZNAME:CEST
DTSTART:20190331T010000
END:DAYLIGHT
BEGIN:STANDARD
TZOFFSETFROM:+0200
TZOFFSETTO:+0100
TZNAME:CET
DTSTART:20191027T010000
END:STANDARD
END:VTIMEZONE
BEGIN:VEVENT
DTSTART;VALUE=DATE:20180119
DTEND;VALUE=DATE:20180122
DTSTAMP:20260424T021207
CREATED:20171123T141813Z
LAST-MODIFIED:20171123T141813Z
UID:34369-1516320000-1516579199@www.ville-lunion.fr
SUMMARY:Tir à l'Arc - sport adapté et Handi sport & Championnat
DESCRIPTION:par l’association du Tir à l’arc de L’Union
URL:https://www.ville-lunion.fr/evenement/tir-a-larc-sport-adapte-handi-sport-championnat/
LOCATION:Grande Halle de l’Union\, Rue du Somport\, L'Union\, 31240\, France
CATEGORIES:Associations
ATTACH;FMTTYPE=image/jpeg:https://www.ville-lunion.fr/wp-content/uploads/2017/11/tir.jpg
END:VEVENT
BEGIN:VEVENT
DTSTART;TZID=Europe/Paris:20180121T153000
DTEND;TZID=Europe/Paris:20180121T153000
DTSTAMP:20260424T021207
CREATED:20171226T172559Z
LAST-MODIFIED:20171226T173121Z
UID:34642-1516548600-1516548600@www.ville-lunion.fr
SUMMARY:Thé dansant
DESCRIPTION:Par l’orchestre d’accordéons de L’Union \nRendez-vous au prochain thé dansant pour danser\net bouger au rythme de paso-dobles\, valses\, javas et tango\, chachacha\, samba\, charleston\, et aussi rock\, twist\, madison et danses en ligne\, slow\, … \nL’entrée est libre et vous pourrez vous rafraîchir auprès de la buvette.
URL:https://www.ville-lunion.fr/evenement/the-dansant-4/
LOCATION:Salle des fêtes de L’Union\, 6 Avenue des Pyrénées\, L'Union\, 31240\, France
CATEGORIES:Associations
ATTACH;FMTTYPE=image/jpeg:https://www.ville-lunion.fr/wp-content/uploads/2017/12/thé2.jpg
END:VEVENT
END:VCALENDAR